Workbook

Sheet Member Register
A2: Gym membership register
A3: Type in the yellow cells. End date and days left are worked out; expiring members turn orange, expired turn red. Change plan names, months and fees on the right.
B5: Gym name | C5: Iron Temple Fitness | G5: As on (blank = today) | I5: 46310 | J5: =IF(I5="",TODAY(),I5) -> 46310
N6: Plans
A7: # | B7: Name | C7: Phone | D7: Plan | E7: Start date | F7: End date | G7: Days left | H7: Status | I7: Fee (₹) | K7: Paid (₹) | L7: Balance (₹) | N7: Plan | O7: Months | P7: Fee (₹)
A8: =IF(B8="","",1) -> 1 | B8: Arjun Sharma | C8: 9876011000 | D8: Half-yearly | E8: 46216 | F8: =IF(OR(E8="",IFERROR(MATCH(D8,$N$8:$N$13,0),0)=0),"",EDATE(E8,INDEX($O$8:$O$13,IFERROR(MATCH(D8,$N$8:$N$13,0),0)))-1) -> 46399 | G8: =IF(F8="","",F8-$J$5) -> 89 | H8: =IF(G8="","",IF(G8<0,"Expired",IF(G8<=7,"Renew in "&G8&" days","Active"))) -> Active | I8: =IF(IFERROR(MATCH(D8,$N$8:$N$13,0),0)=0,"",INDEX($P$8:$P$13,IFERROR(MATCH(D8,$N$8:$N$13,0),0))) -> 6000 | K8: 6000 | L8: =IF(I8="","",I8-N(K8)) -> 0 | N8: Monthly | O8: 1 | P8: 1200
A9: =IF(B9="","",2) -> 2 | B9: Simran Kaur | C9: 9876011389 | D9: Monthly | E9: 46278 | F9: =IF(OR(E9="",IFERROR(MATCH(D9,$N$8:$N$13,0),0)=0),"",EDATE(E9,INDEX($O$8:$O$13,IFERROR(MATCH(D9,$N$8:$N$13,0),0)))-1) -> 46307 | G9: =IF(F9="","",F9-$J$5) -> -3 | H9: =IF(G9="","",IF(G9<0,"Expired",IF(G9<=7,"Renew in "&G9&" days","Active"))) -> Expired | I9: =IF(IFERROR(MATCH(D9,$N$8:$N$13,0),0)=0,"",INDEX($P$8:$P$13,IFERROR(MATCH(D9,$N$8:$N$13,0),0))) -> 1200 | K9: 1200 | L9: =IF(I9="","",I9-N(K9)) -> 0 | N9: Quarterly | O9: 3 | P9: 3300
A10: =IF(B10="","",3) -> 3 | B10: Rohit Dhillon | C10: 9876011778 | D10: Quarterly | E10: 46224 | F10: =IF(OR(E10="",IFERROR(MATCH(D10,$N$8:$N$13,0),0)=0),"",EDATE(E10,INDEX($O$8:$O$13,IFERROR(MATCH(D10,$N$8:$N$13,0),0)))-1) -> 46315 | G10: =IF(F10="","",F10-$J$5) -> 5 | H10: =IF(G10="","",IF(G10<0,"Expired",IF(G10<=7,"Renew in "&G10&" days","Active"))) -> Renew in 5 days | I10: =IF(IFERROR(MATCH(D10,$N$8:$N$13,0),0)=0,"",INDEX($P$8:$P$13,IFERROR(MATCH(D10,$N$8:$N$13,0),0))) -> 3300 | K10: 3300 | L10: =IF(I10="","",I10-N(K10)) -> 0 | N10: Half-yearly | O10: 6 | P10: 6000
A11: =IF(B11="","",4) -> 4 | B11: Navneet Gill | C11: 9876012167 | D11: Monthly | E11: 46297 | F11: =IF(OR(E11="",IFERROR(MATCH(D11,$N$8:$N$13,0),0)=0),"",EDATE(E11,INDEX($O$8:$O$13,IFERROR(MATCH(D11,$N$8:$N$13,0),0)))-1) -> 46327 | G11: =IF(F11="","",F11-$J$5) -> 17 | H11: =IF(G11="","",IF(G11<0,"Expired",IF(G11<=7,"Renew in "&G11&" days","Active"))) -> Active | I11: =IF(IFERROR(MATCH(D11,$N$8:$N$13,0),0)=0,"",INDEX($P$8:$P$13,IFERROR(MATCH(D11,$N$8:$N$13,0),0))) -> 1200 | K11: 1200 | L11: =IF(I11="","",I11-N(K11)) -> 0 | N11: Yearly | O11: 12 | P11: 10000
A12: =IF(B12="","",5) -> 5 | B12: Karan Chopra | C12: 9876012556 | D12: Monthly | E12: 46284 | F12: =IF(OR(E12="",IFERROR(MATCH(D12,$N$8:$N$13,0),0)=0),"",EDATE(E12,INDEX($O$8:$O$13,IFERROR(MATCH(D12,$N$8:$N$13,0),0)))-1) -> 46313 | G12: =IF(F12="","",F12-$J$5) -> 3 | H12: =IF(G12="","",IF(G12<0,"Expired",IF(G12<=7,"Renew in "&G12&" days","Active"))) -> Renew in 3 days | I12: =IF(IFERROR(MATCH(D12,$N$8:$N$13,0),0)=0,"",INDEX($P$8:$P$13,IFERROR(MATCH(D12,$N$8:$N$13,0),0))) -> 1200 | K12: 600 | L12: =IF(I12="","",I12-N(K12)) -> 600
A13: =IF(B13="","",6) -> 6 | B13: Harleen Bhatia | C13: 9876012945 | D13: Yearly | E13: 46181 | F13: =IF(OR(E13="",IFERROR(MATCH(D13,$N$8:$N$13,0),0)=0),"",EDATE(E13,INDEX($O$8:$O$13,IFERROR(MATCH(D13,$N$8:$N$13,0),0)))-1) -> 46545 | G13: =IF(F13="","",F13-$J$5) -> 235 | H13: =IF(G13="","",IF(G13<0,"Expired",IF(G13<=7,"Renew in "&G13&" days","Active"))) -> Active | I13: =IF(IFERROR(MATCH(D13,$N$8:$N$13,0),0)=0,"",INDEX($P$8:$P$13,IFERROR(MATCH(D13,$N$8:$N$13,0),0))) -> 10000 | K13: 10000 | L13: =IF(I13="","",I13-N(K13)) -> 0
A14: =IF(B14="","",7) -> 7 | B14: Aman Bains | C14: 9876013334 | D14: Yearly | E14: 46029 | F14: =IF(OR(E14="",IFERROR(MATCH(D14,$N$8:$N$13,0),0)=0),"",EDATE(E14,INDEX($O$8:$O$13,IFERROR(MATCH(D14,$N$8:$N$13,0),0)))-1) -> 46393 | G14: =IF(F14="","",F14-$J$5) -> 83 | H14: =IF(G14="","",IF(G14<0,"Expired",IF(G14<=7,"Renew in "&G14&" days","Active"))) -> Active | I14: =IF(IFERROR(MATCH(D14,$N$8:$N$13,0),0)=0,"",INDEX($P$8:$P$13,IFERROR(MATCH(D14,$N$8:$N$13,0),0))) -> 10000 | K14: 10000 | L14: =IF(I14="","",I14-N(K14)) -> 0
A15: =IF(B15="","",8) -> 8 | B15: Jaspreet Saini | C15: 9876013723 | D15: Monthly | E15: 46271 | F15: =IF(OR(E15="",IFERROR(MATCH(D15,$N$8:$N$13,0),0)=0),"",EDATE(E15,INDEX($O$8:$O$13,IFERROR(MATCH(D15,$N$8:$N$13,0),0)))-1) -> 46300 | G15: =IF(F15="","",F15-$J$5) -> -10 | H15: =IF(G15="","",IF(G15<0,"Expired",IF(G15<=7,"Renew in "&G15&" days","Active"))) -> Expired | I15: =IF(IFERROR(MATCH(D15,$N$8:$N$13,0),0)=0,"",INDEX($P$8:$P$13,IFERROR(MATCH(D15,$N$8:$N$13,0),0))) -> 1200 | K15: 1200 | L15: =IF(I15="","",I15-N(K15)) -> 0
A16: =IF(B16="","",9) -> 9 | B16: Vikram Kapoor | C16: 9876014112 | D16: Quarterly | E16: 46306 | F16: =IF(OR(E16="",IFERROR(MATCH(D16,$N$8:$N$13,0),0)=0),"",EDATE(E16,INDEX($O$8:$O$13,IFERROR(MATCH(D16,$N$8:$N$13,0),0)))-1) -> 46397 | G16: =IF(F16="","",F16-$J$5) -> 87 | H16: =IF(G16="","",IF(G16<0,"Expired",IF(G16<=7,"Renew in "&G16&" days","Active"))) -> Active | I16: =IF(IFERROR(MATCH(D16,$N$8:$N$13,0),0)=0,"",INDEX($P$8:$P$13,IFERROR(MATCH(D16,$N$8:$N$13,0),0))) -> 3300 | K16: 3300 | L16: =IF(I16="","",I16-N(K16)) -> 0
A17: =IF(B17="","",10) -> 10 | B17: Mehak Verma | C17: 9876014501 | D17: Quarterly | E17: 46255 | F17: =IF(OR(E17="",IFERROR(MATCH(D17,$N$8:$N$13,0),0)=0),"",EDATE(E17,INDEX($O$8:$O$13,IFERROR(MATCH(D17,$N$8:$N$13,0),0)))-1) -> 46346 | G17: =IF(F17="","",F17-$J$5) -> 36 | H17: =IF(G17="","",IF(G17<0,"Expired",IF(G17<=7,"Renew in "&G17&" days","Active"))) -> Active | I17: =IF(IFERROR(MATCH(D17,$N$8:$N$13,0),0)=0,"",INDEX($P$8:$P$13,IFERROR(MATCH(D17,$N$8:$N$13,0),0))) -> 3300 | K17: 1650 | L17: =IF(I17="","",I17-N(K17)) -> 1650
A18: =IF(B18="","",11) -> 11 | B18: Gurpreet Sandhu | C18: 9876014890 | D18: Half-yearly | E18: 46261 | F18: =IF(OR(E18="",IFERROR(MATCH(D18,$N$8:$N$13,0),0)=0),"",EDATE(E18,INDEX($O$8:$O$13,IFERROR(MATCH(D18,$N$8:$N$13,0),0)))-1) -> 46444 | G18: =IF(F18="","",F18-$J$5) -> 134 | H18: =IF(G18="","",IF(G18<0,"Expired",IF(G18<=7,"Renew in "&G18&" days","Active"))) -> Active | I18: =IF(IFERROR(MATCH(D18,$N$8:$N$13,0),0)=0,"",INDEX($P$8:$P$13,IFERROR(MATCH(D18,$N$8:$N$13,0),0))) -> 6000 | K18: 6000 | L18: =IF(I18="","",I18-N(K18)) -> 0
A19: =IF(B19="","",12) -> 12 | B19: Tanvi Singh | C19: 9876015279 | D19: Yearly | E19: 46226 | F19: =IF(OR(E19="",IFERROR(MATCH(D19,$N$8:$N$13,0),0)=0),"",EDATE(E19,INDEX($O$8:$O$13,IFERROR(MATCH(D19,$N$8:$N$13,0),0)))-1) -> 46590 | G19: =IF(F19="","",F19-$J$5) -> 280 | H19: =IF(G19="","",IF(G19<0,"Expired",IF(G19<=7,"Renew in "&G19&" days","Active"))) -> Active | I19: =IF(IFERROR(MATCH(D19,$N$8:$N$13,0),0)=0,"",INDEX($P$8:$P$13,IFERROR(MATCH(D19,$N$8:$N$13,0),0))) -> 10000 | K19: 10000 | L19: =IF(I19="","",I19-N(K19)) -> 0
A20: =IF(B20="","",13) | F20: =IF(OR(E20="",IFERROR(MATCH(D20,$N$8:$N$13,0),0)=0),"",EDATE(E20,INDEX($O$8:$O$13,IFERROR(MATCH(D20,$N$8:$N$13,0),0)))-1) | G20: =IF(F20="","",F20-$J$5) | H20: =IF(G20="","",IF(G20<0,"Expired",IF(G20<=7,"Renew in "&G20&" days","Active"))) | I20: =IF(IFERROR(MATCH(D20,$N$8:$N$13,0),0)=0,"",INDEX($P$8:$P$13,IFERROR(MATCH(D20,$N$8:$N$13,0),0))) | L20: =IF(I20="","",I20-N(K20))
A21: =IF(B21="","",14) | F21: =IF(OR(E21="",IFERROR(MATCH(D21,$N$8:$N$13,0),0)=0),"",EDATE(E21,INDEX($O$8:$O$13,IFERROR(MATCH(D21,$N$8:$N$13,0),0)))-1) | G21: =IF(F21="","",F21-$J$5) | H21: =IF(G21="","",IF(G21<0,"Expired",IF(G21<=7,"Renew in "&G21&" days","Active"))) | I21: =IF(IFERROR(MATCH(D21,$N$8:$N$13,0),0)=0,"",INDEX($P$8:$P$13,IFERROR(MATCH(D21,$N$8:$N$13,0),0))) | L21: =IF(I21="","",I21-N(K21))
A22: =IF(B22="","",15) | F22: =IF(OR(E22="",IFERROR(MATCH(D22,$N$8:$N$13,0),0)=0),"",EDATE(E22,INDEX($O$8:$O$13,IFERROR(MATCH(D22,$N$8:$N$13,0),0)))-1) | G22: =IF(F22="","",F22-$J$5) | H22: =IF(G22="","",IF(G22<0,"Expired",IF(G22<=7,"Renew in "&G22&" days","Active"))) | I22: =IF(IFERROR(MATCH(D22,$N$8:$N$13,0),0)=0,"",INDEX($P$8:$P$13,IFERROR(MATCH(D22,$N$8:$N$13,0),0))) | L22: =IF(I22="","",I22-N(K22))
A23: =IF(B23="","",16) | F23: =IF(OR(E23="",IFERROR(MATCH(D23,$N$8:$N$13,0),0)=0),"",EDATE(E23,INDEX($O$8:$O$13,IFERROR(MATCH(D23,$N$8:$N$13,0),0)))-1) | G23: =IF(F23="","",F23-$J$5) | H23: =IF(G23="","",IF(G23<0,"Expired",IF(G23<=7,"Renew in "&G23&" days","Active"))) | I23: =IF(IFERROR(MATCH(D23,$N$8:$N$13,0),0)=0,"",INDEX($P$8:$P$13,IFERROR(MATCH(D23,$N$8:$N$13,0),0))) | L23: =IF(I23="","",I23-N(K23))
A24: =IF(B24="","",17) | F24: =IF(OR(E24="",IFERROR(MATCH(D24,$N$8:$N$13,0),0)=0),"",EDATE(E24,INDEX($O$8:$O$13,IFERROR(MATCH(D24,$N$8:$N$13,0),0)))-1) | G24: =IF(F24="","",F24-$J$5) | H24: =IF(G24="","",IF(G24<0,"Expired",IF(G24<=7,"Renew in "&G24&" days","Active"))) | I24: =IF(IFERROR(MATCH(D24,$N$8:$N$13,0),0)=0,"",INDEX($P$8:$P$13,IFERROR(MATCH(D24,$N$8:$N$13,0),0))) | L24: =IF(I24="","",I24-N(K24))
A25: =IF(B25="","",18) | F25: =IF(OR(E25="",IFERROR(MATCH(D25,$N$8:$N$13,0),0)=0),"",EDATE(E25,INDEX($O$8:$O$13,IFERROR(MATCH(D25,$N$8:$N$13,0),0)))-1) | G25: =IF(F25="","",F25-$J$5) | H25: =IF(G25="","",IF(G25<0,"Expired",IF(G25<=7,"Renew in "&G25&" days","Active"))) | I25: =IF(IFERROR(MATCH(D25,$N$8:$N$13,0),0)=0,"",INDEX($P$8:$P$13,IFERROR(MATCH(D25,$N$8:$N$13,0),0))) | L25: =IF(I25="","",I25-N(K25))
A26: =IF(B26="","",19) | F26: =IF(OR(E26="",IFERROR(MATCH(D26,$N$8:$N$13,0),0)=0),"",EDATE(E26,INDEX($O$8:$O$13,IFERROR(MATCH(D26,$N$8:$N$13,0),0)))-1) | G26: =IF(F26="","",F26-$J$5) | H26: =IF(G26="","",IF(G26<0,"Expired",IF(G26<=7,"Renew in "&G26&" days","Active"))) | I26: =IF(IFERROR(MATCH(D26,$N$8:$N$13,0),0)=0,"",INDEX($P$8:$P$13,IFERROR(MATCH(D26,$N$8:$N$13,0),0))) | L26: =IF(I26="","",I26-N(K26))
A27: =IF(B27="","",20) | F27: =IF(OR(E27="",IFERROR(MATCH(D27,$N$8:$N$13,0),0)=0),"",EDATE(E27,INDEX($O$8:$O$13,IFERROR(MATCH(D27,$N$8:$N$13,0),0)))-1) | G27: =IF(F27="","",F27-$J$5) | H27: =IF(G27="","",IF(G27<0,"Expired",IF(G27<=7,"Renew in "&G27&" days","Active"))) | I27: =IF(IFERROR(MATCH(D27,$N$8:$N$13,0),0)=0,"",INDEX($P$8:$P$13,IFERROR(MATCH(D27,$N$8:$N$13,0),0))) | L27: =IF(I27="","",I27-N(K27))
A28: =IF(B28="","",21) | F28: =IF(OR(E28="",IFERROR(MATCH(D28,$N$8:$N$13,0),0)=0),"",EDATE(E28,INDEX($O$8:$O$13,IFERROR(MATCH(D28,$N$8:$N$13,0),0)))-1) | G28: =IF(F28="","",F28-$J$5) | H28: =IF(G28="","",IF(G28<0,"Expired",IF(G28<=7,"Renew in "&G28&" days","Active"))) | I28: =IF(IFERROR(MATCH(D28,$N$8:$N$13,0),0)=0,"",INDEX($P$8:$P$13,IFERROR(MATCH(D28,$N$8:$N$13,0),0))) | L28: =IF(I28="","",I28-N(K28))
A29: =IF(B29="","",22) | F29: =IF(OR(E29="",IFERROR(MATCH(D29,$N$8:$N$13,0),0)=0),"",EDATE(E29,INDEX($O$8:$O$13,IFERROR(MATCH(D29,$N$8:$N$13,0),0)))-1) | G29: =IF(F29="","",F29-$J$5) | H29: =IF(G29="","",IF(G29<0,"Expired",IF(G29<=7,"Renew in "&G29&" days","Active"))) | I29: =IF(IFERROR(MATCH(D29,$N$8:$N$13,0),0)=0,"",INDEX($P$8:$P$13,IFERROR(MATCH(D29,$N$8:$N$13,0),0))) | L29: =IF(I29="","",I29-N(K29))
A30: =IF(B30="","",23) | F30: =IF(OR(E30="",IFERROR(MATCH(D30,$N$8:$N$13,0),0)=0),"",EDATE(E30,INDEX($O$8:$O$13,IFERROR(MATCH(D30,$N$8:$N$13,0),0)))-1) | G30: =IF(F30="","",F30-$J$5) | H30: =IF(G30="","",IF(G30<0,"Expired",IF(G30<=7,"Renew in "&G30&" days","Active"))) | I30: =IF(IFERROR(MATCH(D30,$N$8:$N$13,0),0)=0,"",INDEX($P$8:$P$13,IFERROR(MATCH(D30,$N$8:$N$13,0),0))) | L30: =IF(I30="","",I30-N(K30))
A31: =IF(B31="","",24) | F31: =IF(OR(E31="",IFERROR(MATCH(D31,$N$8:$N$13,0),0)=0),"",EDATE(E31,INDEX($O$8:$O$13,IFERROR(MATCH(D31,$N$8:$N$13,0),0)))-1) | G31: =IF(F31="","",F31-$J$5) | H31: =IF(G31="","",IF(G31<0,"Expired",IF(G31<=7,"Renew in "&G31&" days","Active"))) | I31: =IF(IFERROR(MATCH(D31,$N$8:$N$13,0),0)=0,"",INDEX($P$8:$P$13,IFERROR(MATCH(D31,$N$8:$N$13,0),0))) | L31: =IF(I31="","",I31-N(K31))
A32: =IF(B32="","",25) | F32: =IF(OR(E32="",IFERROR(MATCH(D32,$N$8:$N$13,0),0)=0),"",EDATE(E32,INDEX($O$8:$O$13,IFERROR(MATCH(D32,$N$8:$N$13,0),0)))-1) | G32: =IF(F32="","",F32-$J$5) | H32: =IF(G32="","",IF(G32<0,"Expired",IF(G32<=7,"Renew in "&G32&" days","Active"))) | I32: =IF(IFERROR(MATCH(D32,$N$8:$N$13,0),0)=0,"",INDEX($P$8:$P$13,IFERROR(MATCH(D32,$N$8:$N$13,0),0))) | L32: =IF(I32="","",I32-N(K32))
A33: =IF(B33="","",26) | F33: =IF(OR(E33="",IFERROR(MATCH(D33,$N$8:$N$13,0),0)=0),"",EDATE(E33,INDEX($O$8:$O$13,IFERROR(MATCH(D33,$N$8:$N$13,0),0)))-1) | G33: =IF(F33="","",F33-$J$5) | H33: =IF(G33="","",IF(G33<0,"Expired",IF(G33<=7,"Renew in "&G33&" days","Active"))) | I33: =IF(IFERROR(MATCH(D33,$N$8:$N$13,0),0)=0,"",INDEX($P$8:$P$13,IFERROR(MATCH(D33,$N$8:$N$13,0),0))) | L33: =IF(I33="","",I33-N(K33))
A34: =IF(B34="","",27) | F34: =IF(OR(E34="",IFERROR(MATCH(D34,$N$8:$N$13,0),0)=0),"",EDATE(E34,INDEX($O$8:$O$13,IFERROR(MATCH(D34,$N$8:$N$13,0),0)))-1) | G34: =IF(F34="","",F34-$J$5) | H34: =IF(G34="","",IF(G34<0,"Expired",IF(G34<=7,"Renew in "&G34&" days","Active"))) | I34: =IF(IFERROR(MATCH(D34,$N$8:$N$13,0),0)=0,"",INDEX($P$8:$P$13,IFERROR(MATCH(D34,$N$8:$N$13,0),0))) | L34: =IF(I34="","",I34-N(K34))
A35: =IF(B35="","",28) | F35: =IF(OR(E35="",IFERROR(MATCH(D35,$N$8:$N$13,0),0)=0),"",EDATE(E35,INDEX($O$8:$O$13,IFERROR(MATCH(D35,$N$8:$N$13,0),0)))-1) | G35: =IF(F35="","",F35-$J$5) | H35: =IF(G35="","",IF(G35<0,"Expired",IF(G35<=7,"Renew in "&G35&" days","Active"))) | I35: =IF(IFERROR(MATCH(D35,$N$8:$N$13,0),0)=0,"",INDEX($P$8:$P$13,IFERROR(MATCH(D35,$N$8:$N$13,0),0))) | L35: =IF(I35="","",I35-N(K35))
A36: =IF(B36="","",29) | F36: =IF(OR(E36="",IFERROR(MATCH(D36,$N$8:$N$13,0),0)=0),"",EDATE(E36,INDEX($O$8:$O$13,IFERROR(MATCH(D36,$N$8:$N$13,0),0)))-1) | G36: =IF(F36="","",F36-$J$5) | H36: =IF(G36="","",IF(G36<0,"Expired",IF(G36<=7,"Renew in "&G36&" days","Active"))) | I36: =IF(IFERROR(MATCH(D36,$N$8:$N$13,0),0)=0,"",INDEX($P$8:$P$13,IFERROR(MATCH(D36,$N$8:$N$13,0),0))) | L36: =IF(I36="","",I36-N(K36))
A37: =IF(B37="","",30) | F37: =IF(OR(E37="",IFERROR(MATCH(D37,$N$8:$N$13,0),0)=0),"",EDATE(E37,INDEX($O$8:$O$13,IFERROR(MATCH(D37,$N$8:$N$13,0),0)))-1) | G37: =IF(F37="","",F37-$J$5) | H37: =IF(G37="","",IF(G37<0,"Expired",IF(G37<=7,"Renew in "&G37&" days","Active"))) | I37: =IF(IFERROR(MATCH(D37,$N$8:$N$13,0),0)=0,"",INDEX($P$8:$P$13,IFERROR(MATCH(D37,$N$8:$N$13,0),0))) | L37: =IF(I37="","",I37-N(K37))
A38: =IF(B38="","",31) | F38: =IF(OR(E38="",IFERROR(MATCH(D38,$N$8:$N$13,0),0)=0),"",EDATE(E38,INDEX($O$8:$O$13,IFERROR(MATCH(D38,$N$8:$N$13,0),0)))-1) | G38: =IF(F38="","",F38-$J$5) | H38: =IF(G38="","",IF(G38<0,"Expired",IF(G38<=7,"Renew in "&G38&" days","Active"))) | I38: =IF(IFERROR(MATCH(D38,$N$8:$N$13,0),0)=0,"",INDEX($P$8:$P$13,IFERROR(MATCH(D38,$N$8:$N$13,0),0))) | L38: =IF(I38="","",I38-N(K38))
A39: =IF(B39="","",32) | F39: =IF(OR(E39="",IFERROR(MATCH(D39,$N$8:$N$13,0),0)=0),"",EDATE(E39,INDEX($O$8:$O$13,IFERROR(MATCH(D39,$N$8:$N$13,0),0)))-1) | G39: =IF(F39="","",F39-$J$5) | H39: =IF(G39="","",IF(G39<0,"Expired",IF(G39<=7,"Renew in "&G39&" days","Active"))) | I39: =IF(IFERROR(MATCH(D39,$N$8:$N$13,0),0)=0,"",INDEX($P$8:$P$13,IFERROR(MATCH(D39,$N$8:$N$13,0),0))) | L39: =IF(I39="","",I39-N(K39))
A40: =IF(B40="","",33) | F40: =IF(OR(E40="",IFERROR(MATCH(D40,$N$8:$N$13,0),0)=0),"",EDATE(E40,INDEX($O$8:$O$13,IFERROR(MATCH(D40,$N$8:$N$13,0),0)))-1) | G40: =IF(F40="","",F40-$J$5) | H40: =IF(G40="","",IF(G40<0,"Expired",IF(G40<=7,"Renew in "&G40&" days","Active"))) | I40: =IF(IFERROR(MATCH(D40,$N$8:$N$13,0),0)=0,"",INDEX($P$8:$P$13,IFERROR(MATCH(D40,$N$8:$N$13,0),0))) | L40: =IF(I40="","",I40-N(K40))
A41: =IF(B41="","",34) | F41: =IF(OR(E41="",IFERROR(MATCH(D41,$N$8:$N$13,0),0)=0),"",EDATE(E41,INDEX($O$8:$O$13,IFERROR(MATCH(D41,$N$8:$N$13,0),0)))-1) | G41: =IF(F41="","",F41-$J$5) | H41: =IF(G41="","",IF(G41<0,"Expired",IF(G41<=7,"Renew in "&G41&" days","Active"))) | I41: =IF(IFERROR(MATCH(D41,$N$8:$N$13,0),0)=0,"",INDEX($P$8:$P$13,IFERROR(MATCH(D41,$N$8:$N$13,0),0))) | L41: =IF(I41="","",I41-N(K41))
A42: =IF(B42="","",35) | F42: =IF(OR(E42="",IFERROR(MATCH(D42,$N$8:$N$13,0),0)=0),"",EDATE(E42,INDEX($O$8:$O$13,IFERROR(MATCH(D42,$N$8:$N$13,0),0)))-1) | G42: =IF(F42="","",F42-$J$5) | H42: =IF(G42="","",IF(G42<0,"Expired",IF(G42<=7,"Renew in "&G42&" days","Active"))) | I42: =IF(IFERROR(MATCH(D42,$N$8:$N$13,0),0)=0,"",INDEX($P$8:$P$13,IFERROR(MATCH(D42,$N$8:$N$13,0),0))) | L42: =IF(I42="","",I42-N(K42))
...

Sheet Fee Receipt
B2: ='Member Register'!$C$5 -> Iron Temple Fitness
B3: MEMBERSHIP FEE RECEIPT | I3: Member # to print ▼
I4: 3
B5: Receipt no. | C5: =$I$7 -> IT/101 | E5: Date | F5: ='Member Register'!$J$5 -> 46310
B6: Received from | C6: =IF(N($I$4)<1,"",INDEX('Member Register'!$B$8:$B$107,$I$4)) -> Rohit Dhillon | E6: Phone | F6: =IF(N($I$4)<1,"",INDEX('Member Register'!$C$8:$C$107,$I$4)) -> 9876011778 | I6: Receipt no.
B7: Plan | C7: =IF(N($I$4)<1,"",INDEX('Member Register'!$D$8:$D$107,$I$4)) -> Quarterly | E7: Valid | F7: =IF(N($I$4)<1,"",TEXT(INDEX('Member Register'!$E$8:$E$107,$I$4),"dd-mmm-yy")&" to "&TEXT(INDEX('Member Register'!$F$8:$F$107,$I$4),"dd-mmm-yy")) -> 21-Jul-26 to 20-Oct-26 | I7: IT/101
B9: Amount received | F9: =IF(N($I$4)<1,"",INDEX('Member Register'!$K$8:$K$107,$I$4)) -> 3300
B10: =IF(L10<=0,"","Rupees "&TRIM(IF(L11>0,INDEX(Lists!$W$1:$W$99,L11)&" Crore ","")&IF(L12>0,INDEX(Lists!$W$1:$W$99,L12)&" Lakh ","")&IF(L13>0,INDEX(Lists!$W$1:$W$99,L13)&" Thousand ","")&IF(L14>0,INDEX(Lists!$W$1:$W$99,L14)&" Hundred ","")&IF(L15>0,INDEX(Lists!$W$1:$W$99,L15),""))&" Only") -> Rupees Three Thousand Three Hundred Only | L10: =INT(N(F9)) -> 3300
B11: =IF(N($I$4)<1,"","Balance due: ₹"&TEXT(N(INDEX('Member Register'!$L$8:$L$107,$I$4)),"#,##,##0")) -> Balance due: ₹0 | L11: =INT(L10/10000000) -> 0
L12: =INT(MOD(L10,10000000)/100000) -> 0
L13: =INT(MOD(L10,100000)/1000) -> 3
B14: Fees once paid are not refundable. | E14: Authorised signatory | L14: =INT(MOD(L10,1000)/100) -> 3
L15: =MOD(L10,100) -> 0
B16: Free template by xplorexcel.com

Sheet Lists
A1: UPI | B1: Per sq ft | C1: Monthly | D1: 1 | E1: 1200 | W1: One
A2: Cash | B2: Fixed | C2: Quarterly | D2: 3 | E2: 3300 | W2: Two
A3: Cheque | C3: Half-yearly | D3: 6 | E3: 6000 | W3: Three
A4: Bank transfer | C4: Yearly | D4: 12 | E4: 10000 | W4: Four
A5: Card | W5: Five
W6: Six
W7: Seven
W8: Eight
W9: Nine
W10: Ten
W11: Eleven
W12: Twelve
W13: Thirteen
W14: Fourteen
W15: Fifteen
W16: Sixteen
W17: Seventeen
... W99: Ninety-Nine
