Workbook

Sheet Member Register
A2: Gym membership register
A3: Type in the yellow cells. End date and days left are worked out; expiring members turn orange, expired turn red. Change plan names, months and fees on the right.
B5: Gym name | C5: Iron Temple Fitness | G5: As on (blank = today) | I5: 46310 | J5: =IF(I5="",TODAY(),I5) -> 46310
N6: Plans
A7: # | B7: Name | C7: Phone | D7: Plan | E7: Start date | F7: End date | G7: Days left | H7: Status | I7: Fee (₹) | K7: Paid (₹) | L7: Balance (₹) | N7: Plan | O7: Months | P7: Fee (₹)
A8: =IF(B8="","",1) -> 1 | B8: Arjun Sharma | C8: 9876011000 | D8: Half-yearly | E8: 46216 | F8: =IF(OR(E8="",IFERROR(MATCH(D8,$N$8:$N$13,0),0)=0),"",EDATE(E8,INDEX($O$8:$O$13,IFERROR(MATCH(D8,$N$8:$N$13,0),0)))-1) -> 46399 | G8: =IF(F8="","",F8-$J$5) -> 89 | H8: =IF(G8="","",IF(G8<0,"Expired",IF(G8<=7,"Renew in "&G8&" days","Active"))) -> Active | I8: =IF(IFERROR(MATCH(D8,$N$8:$N$13,0),0)=0,"",INDEX($P$8:$P$13,IFERROR(MATCH(D8,$N$8:$N$13,0),0))) -> 6000 | K8: 6000 | L8: =IF(I8="","",I8-N(K8)) -> 0 | N8: Monthly | O8: 1 | P8: 1200
A9: =IF(B9="","",2) -> 2 | B9: Simran Kaur | C9: 9876011389 | D9: Monthly | E9: 46278 | F9: =IF(OR(E9="",IFERROR(MATCH(D9,$N$8:$N$13,0),0)=0),"",EDATE(E9,INDEX($O$8:$O$13,IFERROR(MATCH(D9,$N$8:$N$13,0),0)))-1) -> 46307 | G9: =IF(F9="","",F9-$J$5) -> -3 | H9: =IF(G9="","",IF(G9<0,"Expired",IF(G9<=7,"Renew in "&G9&" days","Active"))) -> Expired | I9: =IF(IFERROR(MATCH(D9,$N$8:$N$13,0),0)=0,"",INDEX($P$8:$P$13,IFERROR(MATCH(D9,$N$8:$N$13,0),0))) -> 1200 | K9: 1200 | L9: =IF(I9="","",I9-N(K9)) -> 0 | N9: Quarterly | O9: 3 | P9: 3300
A10: =IF(B10="","",3) -> 3 | B10: Rohit Dhillon | C10: 9876011778 | D10: Quarterly | E10: 46224 | F10: =IF(OR(E10="",IFERROR(MATCH(D10,$N$8:$N$13,0),0)=0),"",EDATE(E10,INDEX($O$8:$O$13,IFERROR(MATCH(D10,$N$8:$N$13,0),0)))-1) -> 46315 | G10: =IF(F10="","",F10-$J$5) -> 5 | H10: =IF(G10="","",IF(G10<0,"Expired",IF(G10<=7,"Renew in "&G10&" days","Active"))) -> Renew in 5 days | I10: =IF(IFERROR(MATCH(D10,$N$8:$N$13,0),0)=0,"",INDEX($P$8:$P$13,IFERROR(MATCH(D10,$N$8:$N$13,0),0))) -> 3300 | K10: 3300 | L10: =IF(I10="","",I10-N(K10)) -> 0 | N10: Half-yearly | O10: 6 | P10: 6000
A11: =IF(B11="","",4) -> 4 | B11: Navneet Gill | C11: 9876012167 | D11: Monthly | E11: 46297 | F11: =IF(OR(E11="",IFERROR(MATCH(D11,$N$8:$N$13,0),0)=0),"",EDATE(E11,INDEX($O$8:$O$13,IFERROR(MATCH(D11,$N$8:$N$13,0),0)))-1) -> 46327 | G11: =IF(F11="","",F11-$J$5) -> 17 | H11: =IF(G11="","",IF(G11<0,"Expired",IF(G11<=7,"Renew in "&G11&" days","Active"))) -> Active | I11: =IF(IFERROR(MATCH(D11,$N$8:$N$13,0),0)=0,"",INDEX($P$8:$P$13,IFERROR(MATCH(D11,$N$8:$N$13,0),0))) -> 1200 | K11: 1200 | L11: =IF(I11="","",I11-N(K11)) -> 0 | N11: Yearly | O11: 12 | P11: 10000
A12: =IF(B12="","",5) -> 5 | B12: Karan Chopra | C12: 9876012556 | D12: Monthly | E12: 46284 | F12: =IF(OR(E12="",IFERROR(MATCH(D12,$N$8:$N$13,0),0)=0),"",EDATE(E12,INDEX($O$8:$O$13,IFERROR(MATCH(D12,$N$8:$N$13,0),0)))-1) -> 46313 | G12: =IF(F12="","",F12-$J$5) -> 3 | H12: =IF(G12="","",IF(G12<0,"Expired",IF(G12<=7,"Renew in "&G12&" days","Active"))) -> Renew in 3 days | I12: =IF(IFERROR(MATCH(D12,$N$8:$N$13,0),0)=0,"",INDEX($P$8:$P$13,IFERROR(MATCH(D12,$N$8:$N$13,0),0))) -> 1200 | K12: 600 | L12: =IF(I12="","",I12-N(K12)) -> 600
A13: =IF(B13="","",6) -> 6 | B13: Harleen Bhatia | C13: 9876012945 | D13: Yearly | E13: 46181 | F13: =IF(OR(E13="",IFERROR(MATCH(D13,$N$8:$N$13,0),0)=0),"",EDATE(E13,INDEX($O$8:$O$13,IFERROR(MATCH(D13,$N$8:$N$13,0),0)))-1) -> 46545 | G13: =IF(F13="","",F13-$J$5) -> 235 | H13: =IF(G13="","",IF(G13<0,"Expired",IF(G13<=7,"Renew in "&G13&" days","Active"))) -> Active | I13: =IF(IFERROR(MATCH(D13,$N$8:$N$13,0),0)=0,"",INDEX($P$8:$P$13,IFERROR(MATCH(D13,$N$8:$N$13,0),0))) -> 10000 | K13: 10000 | L13: =IF(I13="","",I13-N(K13)) -> 0
A14: =IF(B14="","",7) -> 7 | B14: Aman Bains | C14: 9876013334 | D14: Yearly | E14: 46029 | F14: =IF(OR(E14="",IFERROR(MATCH(D14,$N$8:$N$13,0),0)=0),"",EDATE(E14,INDEX($O$8:$O$13,IFERROR(MATCH(D14,$N$8:$N$13,0),0)))-1) -> 46393 | G14: =IF(F14="","",F14-$J$5) -> 83 | H14: =IF(G14="","",IF(G14<0,"Expired",IF(G14<=7,"Renew in "&G14&" days","Active"))) -> Active | I14: =IF(IFERROR(MATCH(D14,$N$8:$N$13,0),0)=0,"",INDEX($P$8:$P$13,IFERROR(MATCH(D14,$N$8:$N$13,0),0))) -> 10000 | K14: 10000 | L14: =IF(I14="","",I14-N(K14)) -> 0
A15: =IF(B15="","",8) -> 8 | B15: Jaspreet Saini | C15: 9876013723 | D15: Monthly | E15: 46271 | F15: =IF(OR(E15="",IFERROR(MATCH(D15,$N$8:$N$13,0),0)=0),"",EDATE(E15,INDEX($O$8:$O$13,IFERROR(MATCH(D15,$N$8:$N$13,0),0)))-1) -> 46300 | G15: =IF(F15="","",F15-$J$5) -> -10 | H15: =IF(G15="","",IF(G15<0,"Expired",IF(G15<=7,"Renew in "&G15&" days","Active"))) -> Expired | I15: =IF(IFERROR(MATCH(D15,$N$8:$N$13,0),0)=0,"",INDEX($P$8:$P$13,IFERROR(MATCH(D15,$N$8:$N$13,0),0))) -> 1200 | K15: 1200 | L15: =IF(I15="","",I15-N(K15)) -> 0
A16: =IF(B16="","",9) -> 9 | B16: Vikram Kapoor | C16: 9876014112 | D16: Quarterly | E16: 46306 | F16: =IF(OR(E16="",IFERROR(MATCH(D16,$N$8:$N$13,0),0)=0),"",EDATE(E16,INDEX($O$8:$O$13,IFERROR(MATCH(D16,$N$8:$N$13,0),0)))-1) -> 46397 | G16: =IF(F16="","",F16-$J$5) -> 87 | H16: =IF(G16="","",IF(G16<0,"Expired",IF(G16<=7,"Renew in "&G16&" days","Active"))) -> Active | I16: =IF(IFERROR(MATCH(D16,$N$8:$N$13,0),0)=0,"",INDEX($P$8:$P$13,IFERROR(MATCH(D16,$N$8:$N$13,0),0))) -> 3300 | K16: 3300 | L16: =IF(I16="","",I16-N(K16)) -> 0
A17: =IF(B17="","",10) -> 10 | B17: Mehak Verma | C17: 9876014501 | D17: Quarterly | E17: 46255 | F17: =IF(OR(E17="",IFERROR(MATCH(D17,$N$8:$N$13,0),0)=0),"",EDATE(E17,INDEX($O$8:$O$13,IFERROR(MATCH(D17,$N$8:$N$13,0),0)))-1) -> 46346 | G17: =IF(F17="","",F17-$J$5) -> 36 | H17: =IF(G17="","",IF(G17<0,"Expired",IF(G17<=7,"Renew in "&G17&" days","Active"))) -> Active | I17: =IF(IFERROR(MATCH(D17,$N$8:$N$13,0),0)=0,"",INDEX($P$8:$P$13,IFERROR(MATCH(D17,$N$8:$N$13,0),0))) -> 3300 | K17: 1650 | L17: =IF(I17="","",I17-N(K17)) -> 1650
A18: =IF(B18="","",11) -> 11 | B18: Gurpreet Sandhu | C18: 9876014890 | D18: Half-yearly | E18: 46261 | F18: =IF(OR(E18="",IFERROR(MATCH(D18,$N$8:$N$13,0),0)=0),"",EDATE(E18,INDEX($O$8:$O$13,IFERROR(MATCH(D18,$N$8:$N$13,0),0)))-1) -> 46444 | G18: =IF(F18="","",F18-$J$5) -> 134 | H18: =IF(G18="","",IF(G18<0,"Expired",IF(G18<=7,"Renew in "&G18&" days","Active"))) -> Active | I18: =IF(IFERROR(MATCH(D18,$N$8:$N$13,0),0)=0,"",INDEX($P$8:$P$13,IFERROR(MATCH(D18,$N$8:$N$13,0),0))) -> 6000 | K18: 6000 | L18: =IF(I18="","",I18-N(K18)) -> 0
A19: =IF(B19="","",12) -> 12 | B19: Tanvi Singh | C19: 9876015279 | D19: Yearly | E19: 46226 | F19: =IF(OR(E19="",IFERROR(MATCH(D19,$N$8:$N$13,0),0)=0),"",EDATE(E19,INDEX($O$8:$O$13,IFERROR(MATCH(D19,$N$8:$N$13,0),0)))-1) -> 46590 | G19: =IF(F19="","",F19-$J$5) -> 280 | H19: =IF(G19="","",IF(G19<0,"Expired",IF(G19<=7,"Renew in "&G19&" days","Active"))) -> Active | I19: =IF(IFERROR(MATCH(D19,$N$8:$N$13,0),0)=0,"",INDEX($P$8:$P$13,IFERROR(MATCH(D19,$N$8:$N$13,0),0))) -> 10000 | K19: 10000 | L19: =IF(I19="","",I19-N(K19)) -> 0
A20: =IF(B20="","",13) | F20: =IF(OR(E20="",IFERROR(MATCH(D20,$N$8:$N$13,0),0)=0),"",EDATE(E20,INDEX($O$8:$O$13,IFERROR(MATCH(D20,$N$8:$N$13,0),0)))-1) | G20: =IF(F20="","",F20-$J$5) | H20: =IF(G20="","",IF(G20<0,"Expired",IF(G20<=7,"Renew in "&G20&" days","Active"))) | I20: =IF(IFERROR(MATCH(D20,$N$8:$N$13,0),0)=0,"",INDEX($P$8:$P$13,IFERROR(MATCH(D20,$N$8:$N$13,0),0))) | L20: =IF(I20="","",I20-N(K20))
A21: =IF(B21="","",14) | F21: =IF(OR(E21="",IFERROR(MATCH(D21,$N$8:$N$13,0),0)=0),"",EDATE(E21,INDEX($O$8:$O$13,IFERROR(MATCH(D21,$N$8:$N$13,0),0)))-1) | G21: =IF(F21="","",F21-$J$5) | H21: =IF(G21="","",IF(G21<0,"Expired",IF(G21<=7,"Renew in "&G21&" days","Active"))) | I21: =IF(IFERROR(MATCH(D21,$N$8:$N$13,0),0)=0,"",INDEX($P$8:$P$13,IFERROR(MATCH(D21,$N$8:$N$13,0),0))) | L21: =IF(I21="","",I21-N(K21))
A22: =IF(B22="","",15) | F22: =IF(OR(E22="",IFERROR(MATCH(D22,$N$8:$N$13,0),0)=0),"",EDATE(E22,INDEX($O$8:$O$13,IFERROR(MATCH(D22,$N$8:$N$13,0),0)))-1) | G22: =IF(F22="","",F22-$J$5) | H22: =IF(G22="","",IF(G22<0,"Expired",IF(G22<=7,"Renew in "&G22&" days","Active"))) | I22: =IF(IFERROR(MATCH(D22,$N$8:$N$13,0),0)=0,"",INDEX($P$8:$P$13,IFERROR(MATCH(D22,$N$8:$N$13,0),0))) | L22: =IF(I22="","",I22-N(K22))
A23: =IF(B23="","",16) | F23: =IF(OR(E23="",IFERROR(MATCH(D23,$N$8:$N$13,0),0)=0),"",EDATE(E23,INDEX($O$8:$O$13,IFERROR(MATCH(D23,$N$8:$N$13,0),0)))-1) | G23: =IF(F23="","",F23-$J$5) | H23: =IF(G23="","",IF(G23<0,"Expired",IF(G23<=7,"Renew in "&G23&" days","Active"))) | I23: =IF(IFERROR(MATCH(D23,$N$8:$N$13,0),0)=0,"",INDEX($P$8:$P$13,IFERROR(MATCH(D23,$N$8:$N$13,0),0))) | L23: =IF(I23="","",I23-N(K23))
A24: =IF(B24="","",17) | F24: =IF(OR(E24="",IFERROR(MATCH(D24,$N$8:$N$13,0),0)=0),"",EDATE(E24,INDEX($O$8:$O$13,IFERROR(MATCH(D24,$N$8:$N$13,0),0)))-1) | G24: =IF(F24="","",F24-$J$5) | H24: =IF(G24="","",IF(G24<0,"Expired",IF(G24<=7,"Renew in "&G24&" days","Active"))) | I24: =IF(IFERROR(MATCH(D24,$N$8:$N$13,0),0)=0,"",INDEX($P$8:$P$13,IFERROR(MATCH(D24,$N$8:$N$13,0),0))) | L24: =IF(I24="","",I24-N(K24))
A25: =IF(B25="","",18) | F25: =IF(OR(E25="",IFERROR(MATCH(D25,$N$8:$N$13,0),0)=0),"",EDATE(E25,INDEX($O$8:$O$13,IFERROR(MATCH(D25,$N$8:$N$13,0),0)))-1) | G25: =IF(F25="","",F25-$J$5) | H25: =IF(G25="","",IF(G25<0,"Expired",IF(G25<=7,"Renew in "&G25&" days","Active"))) | I25: =IF(IFERROR(MATCH(D25,$N$8:$N$13,0),0)=0,"",INDEX($P$8:$P$13,IFERROR(MATCH(D25,$N$8:$N$13,0),0))) | L25: =IF(I25="","",I25-N(K25))
A26: =IF(B26="","",19) | F26: =IF(OR(E26="",IFERROR(MATCH(D26,$N$8:$N$13,0),0)=0),"",EDATE(E26,INDEX($O$8:$O$13,IFERROR(MATCH(D26,$N$8:$N$13,0),0)))-1) | G26: =IF(F26="","",F26-$J$5) | H26: =IF(G26="","",IF(G26<0,"Expired",IF(G26<=7,"Renew in "&G26&" days","Active"))) | I26: =IF(IFERROR(MATCH(D26,$N$8:$N$13,0),0)=0,"",INDEX($P$8:$P$13,IFERROR(MATCH(D26,$N$8:$N$13,0),0))) | L26: =IF(I26="","",I26-N(K26))
A27: =IF(B27="","",20) | F27: =IF(OR(E27="",IFERROR(MATCH(D27,$N$8:$N$13,0),0)=0),"",EDATE(E27,INDEX($O$8:$O$13,IFERROR(MATCH(D27,$N$8:$N$13,0),0)))-1) | G27: =IF(F27="","",F27-$J$5) | H27: =IF(G27="","",IF(G27<0,"Expired",IF(G27<=7,"Renew in "&G27&" days","Active"))) | I27: =IF(IFERROR(MATCH(D27,$N$8:$N$13,0),0)=0,"",INDEX($P$8:$P$13,IFERROR(MATCH(D27,$N$8:$N$13,0),0))) | L27: =IF(I27="","",I27-N(K27))
A28: =IF(B28="","",21) | F28: =IF(OR(E28="",IFERROR(MATCH(D28,$N$8:$N$13,0),0)=0),"",EDATE(E28,INDEX($O$8:$O$13,IFERROR(MATCH(D28,$N$8:$N$13,0),0)))-1) | G28: =IF(F28="","",F28-$J$5) | H28: =IF(G28="","",IF(G28<0,"Expired",IF(G28<=7,"Renew in "&G28&" days","Active"))) | I28: =IF(IFERROR(MATCH(D28,$N$8:$N$13,0),0)=0,"",INDEX($P$8:$P$13,IFERROR(MATCH(D28,$N$8:$N$13,0),0))) | L28: =IF(I28="","",I28-N(K28))
A29: =IF(B29="","",22) | F29: =IF(OR(E29="",IFERROR(MATCH(D29,$N$8:$N$13,0),0)=0),"",EDATE(E29,INDEX($O$8:$O$13,IFERROR(MATCH(D29,$N$8:$N$13,0),0)))-1) | G29: =IF(F29="","",F29-$J$5) | H29: =IF(G29="","",IF(G29<0,"Expired",IF(G29<=7,"Renew in "&G29&" days","Active"))) | I29: =IF(IFERROR(MATCH(D29,$N$8:$N$13,0),0)=0,"",INDEX($P$8:$P$13,IFERROR(MATCH(D29,$N$8:$N$13,0),0))) | L29: =IF(I29="","",I29-N(K29))
A30: =IF(B30="","",23) | F30: =IF(OR(E30="",IFERROR(MATCH(D30,$N$8:$N$13,0),0)=0),"",EDATE(E30,INDEX($O$8:$O$13,IFERROR(MATCH(D30,$N$8:$N$13,0),0)))-1) | G30: =IF(F30="","",F30-$J$5) | H30: =IF(G30="","",IF(G30<0,"Expired",IF(G30<=7,"Renew in "&G30&" days","Active"))) | I30: =IF(IFERROR(MATCH(D30,$N$8:$N$13,0),0)=0,"",INDEX($P$8:$P$13,IFERROR(MATCH(D30,$N$8:$N$13,0),0))) | L30: =IF(I30="","",I30-N(K30))
A31: =IF(B31="","",24) | F31: =IF(OR(E31="",IFERROR(MATCH(D31,$N$8:$N$13,0),0)=0),"",EDATE(E31,INDEX($O$8:$O$13,IFERROR(MATCH(D31,$N$8:$N$13,0),0)))-1) | G31: =IF(F31="","",F31-$J$5) | H31: =IF(G31="","",IF(G31<0,"Expired",IF(G31<=7,"Renew in "&G31&" days","Active"))) | I31: =IF(IFERROR(MATCH(D31,$N$8:$N$13,0),0)=0,"",INDEX($P$8:$P$13,IFERROR(MATCH(D31,$N$8:$N$13,0),0))) | L31: =IF(I31="","",I31-N(K31))
A32: =IF(B32="","",25) | F32: =IF(OR(E32="",IFERROR(MATCH(D32,$N$8:$N$13,0),0)=0),"",EDATE(E32,INDEX($O$8:$O$13,IFERROR(MATCH(D32,$N$8:$N$13,0),0)))-1) | G32: =IF(F32="","",F32-$J$5) | H32: =IF(G32="","",IF(G32<0,"Expired",IF(G32<=7,"Renew in "&G32&" days","Active"))) | I32: =IF(IFERROR(MATCH(D32,$N$8:$N$13,0),0)=0,"",INDEX($P$8:$P$13,IFERROR(MATCH(D32,$N$8:$N$13,0),0))) | L32: =IF(I32="","",I32-N(K32))
A33: =IF(B33="","",26) | F33: =IF(OR(E33="",IFERROR(MATCH(D33,$N$8:$N$13,0),0)=0),"",EDATE(E33,INDEX($O$8:$O$13,IFERROR(MATCH(D33,$N$8:$N$13,0),0)))-1) | G33: =IF(F33="","",F33-$J$5) | H33: =IF(G33="","",IF(G33<0,"Expired",IF(G33<=7,"Renew in "&G33&" days","Active"))) | I33: =IF(IFERROR(MATCH(D33,$N$8:$N$13,0),0)=0,"",INDEX($P$8:$P$13,IFERROR(MATCH(D33,$N$8:$N$13,0),0))) | L33: =IF(I33="","",I33-N(K33))
A34: =IF(B34="","",27) | F34: =IF(OR(E34="",IFERROR(MATCH(D34,$N$8:$N$13,0),0)=0),"",EDATE(E34,INDEX($O$8:$O$13,IFERROR(MATCH(D34,$N$8:$N$13,0),0)))-1) | G34: =IF(F34="","",F34-$J$5) | H34: =IF(G34="","",IF(G34<0,"Expired",IF(G34<=7,"Renew in "&G34&" days","Active"))) | I34: =IF(IFERROR(MATCH(D34,$N$8:$N$13,0),0)=0,"",INDEX($P$8:$P$13,IFERROR(MATCH(D34,$N$8:$N$13,0),0))) | L34: =IF(I34="","",I34-N(K34))
A35: =IF(B35="","",28) | F35: =IF(OR(E35="",IFERROR(MATCH(D35,$N$8:$N$13,0),0)=0),"",EDATE(E35,INDEX($O$8:$O$13,IFERROR(MATCH(D35,$N$8:$N$13,0),0)))-1) | G35: =IF(F35="","",F35-$J$5) | H35: =IF(G35="","",IF(G35<0,"Expired",IF(G35<=7,"Renew in "&G35&" days","Active"))) | I35: =IF(IFERROR(MATCH(D35,$N$8:$N$13,0),0)=0,"",INDEX($P$8:$P$13,IFERROR(MATCH(D35,$N$8:$N$13,0),0))) | L35: =IF(I35="","",I35-N(K35))
A36: =IF(B36="","",29) | F36: =IF(OR(E36="",IFERROR(MATCH(D36,$N$8:$N$13,0),0)=0),"",EDATE(E36,INDEX($O$8:$O$13,IFERROR(MATCH(D36,$N$8:$N$13,0),0)))-1) | G36: =IF(F36="","",F36-$J$5) | H36: =IF(G36="","",IF(G36<0,"Expired",IF(G36<=7,"Renew in "&G36&" days","Active"))) | I36: =IF(IFERROR(MATCH(D36,$N$8:$N$13,0),0)=0,"",INDEX($P$8:$P$13,IFERROR(MATCH(D36,$N$8:$N$13,0),0))) | L36: =IF(I36="","",I36-N(K36))
A37: =IF(B37="","",30) | F37: =IF(OR(E37="",IFERROR(MATCH(D37,$N$8:$N$13,0),0)=0),"",EDATE(E37,INDEX($O$8:$O$13,IFERROR(MATCH(D37,$N$8:$N$13,0),0)))-1) | G37: =IF(F37="","",F37-$J$5) | H37: =IF(G37="","",IF(G37<0,"Expired",IF(G37<=7,"Renew in "&G37&" days","Active"))) | I37: =IF(IFERROR(MATCH(D37,$N$8:$N$13,0),0)=0,"",INDEX($P$8:$P$13,IFERROR(MATCH(D37,$N$8:$N$13,0),0))) | L37: =IF(I37="","",I37-N(K37))
A38: =IF(B38="","",31) | F38: =IF(OR(E38="",IFERROR(MATCH(D38,$N$8:$N$13,0),0)=0),"",EDATE(E38,INDEX($O$8:$O$13,IFERROR(MATCH(D38,$N$8:$N$13,0),0)))-1) | G38: =IF(F38="","",F38-$J$5) | H38: =IF(G38="","",IF(G38<0,"Expired",IF(G38<=7,"Renew in "&G38&" days","Active"))) | I38: =IF(IFERROR(MATCH(D38,$N$8:$N$13,0),0)=0,"",INDEX($P$8:$P$13,IFERROR(MATCH(D38,$N$8:$N$13,0),0))) | L38: =IF(I38="","",I38-N(K38))
A39: =IF(B39="","",32) | F39: =IF(OR(E39="",IFERROR(MATCH(D39,$N$8:$N$13,0),0)=0),"",EDATE(E39,INDEX($O$8:$O$13,IFERROR(MATCH(D39,$N$8:$N$13,0),0)))-1) | G39: =IF(F39="","",F39-$J$5) | H39: =IF(G39="","",IF(G39<0,"Expired",IF(G39<=7,"Renew in "&G39&" days","Active"))) | I39: =IF(IFERROR(MATCH(D39,$N$8:$N$13,0),0)=0,"",INDEX($P$8:$P$13,IFERROR(MATCH(D39,$N$8:$N$13,0),0))) | L39: =IF(I39="","",I39-N(K39))
A40: =IF(B40="","",33) | F40: =IF(OR(E40="",IFERROR(MATCH(D40,$N$8:$N$13,0),0)=0),"",EDATE(E40,INDEX($O$8:$O$13,IFERROR(MATCH(D40,$N$8:$N$13,0),0)))-1) | G40: =IF(F40="","",F40-$J$5) | H40: =IF(G40="","",IF(G40<0,"Expired",IF(G40<=7,"Renew in "&G40&" days","Active"))) | I40: =IF(IFERROR(MATCH(D40,$N$8:$N$13,0),0)=0,"",INDEX($P$8:$P$13,IFERROR(MATCH(D40,$N$8:$N$13,0),0))) | L40: =IF(I40="","",I40-N(K40))
A41: =IF(B41="","",34) | F41: =IF(OR(E41="",IFERROR(MATCH(D41,$N$8:$N$13,0),0)=0),"",EDATE(E41,INDEX($O$8:$O$13,IFERROR(MATCH(D41,$N$8:$N$13,0),0)))-1) | G41: =IF(F41="","",F41-$J$5) | H41: =IF(G41="","",IF(G41<0,"Expired",IF(G41<=7,"Renew in "&G41&" days","Active"))) | I41: =IF(IFERROR(MATCH(D41,$N$8:$N$13,0),0)=0,"",INDEX($P$8:$P$13,IFERROR(MATCH(D41,$N$8:$N$13,0),0))) | L41: =IF(I41="","",I41-N(K41))
A42: =IF(B42="","",35) | F42: =IF(OR(E42="",IFERROR(MATCH(D42,$N$8:$N$13,0),0)=0),"",EDATE(E42,INDEX($O$8:$O$13,IFERROR(MATCH(D42,$N$8:$N$13,0),0)))-1) | G42: =IF(F42="","",F42-$J$5) | H42: =IF(G42="","",IF(G42<0,"Expired",IF(G42<=7,"Renew in "&G42&" days","Active"))) | I42: =IF(IFERROR(MATCH(D42,$N$8:$N$13,0),0)=0,"",INDEX($P$8:$P$13,IFERROR(MATCH(D42,$N$8:$N$13,0),0))) | L42: =IF(I42="","",I42-N(K42))
A43: =IF(B43="","",36) | F43: =IF(OR(E43="",IFERROR(MATCH(D43,$N$8:$N$13,0),0)=0),"",EDATE(E43,INDEX($O$8:$O$13,IFERROR(MATCH(D43,$N$8:$N$13,0),0)))-1) | G43: =IF(F43="","",F43-$J$5) | H43: =IF(G43="","",IF(G43<0,"Expired",IF(G43<=7,"Renew in "&G43&" days","Active"))) | I43: =IF(IFERROR(MATCH(D43,$N$8:$N$13,0),0)=0,"",INDEX($P$8:$P$13,IFERROR(MATCH(D43,$N$8:$N$13,0),0))) | L43: =IF(I43="","",I43-N(K43))
A44: =IF(B44="","",37) | F44: =IF(OR(E44="",IFERROR(MATCH(D44,$N$8:$N$13,0),0)=0),"",EDATE(E44,INDEX($O$8:$O$13,IFERROR(MATCH(D44,$N$8:$N$13,0),0)))-1) | G44: =IF(F44="","",F44-$J$5) | H44: =IF(G44="","",IF(G44<0,"Expired",IF(G44<=7,"Renew in "&G44&" days","Active"))) | I44: =IF(IFERROR(MATCH(D44,$N$8:$N$13,0),0)=0,"",INDEX($P$8:$P$13,IFERROR(MATCH(D44,$N$8:$N$13,0),0))) | L44: =IF(I44="","",I44-N(K44))
A45: =IF(B45="","",38) | F45: =IF(OR(E45="",IFERROR(MATCH(D45,$N$8:$N$13,0),0)=0),"",EDATE(E45,INDEX($O$8:$O$13,IFERROR(MATCH(D45,$N$8:$N$13,0),0)))-1) | G45: =IF(F45="","",F45-$J$5) | H45: =IF(G45="","",IF(G45<0,"Expired",IF(G45<=7,"Renew in "&G45&" days","Active"))) | I45: =IF(IFERROR(MATCH(D45,$N$8:$N$13,0),0)=0,"",INDEX($P$8:$P$13,IFERROR(MATCH(D45,$N$8:$N$13,0),0))) | L45: =IF(I45="","",I45-N(K45))
A46: =IF(B46="","",39) | F46: =IF(OR(E46="",IFERROR(MATCH(D46,$N$8:$N$13,0),0)=0),"",EDATE(E46,INDEX($O$8:$O$13,IFERROR(MATCH(D46,$N$8:$N$13,0),0)))-1) | G46: =IF(F46="","",F46-$J$5) | H46: =IF(G46="","",IF(G46<0,"Expired",IF(G46<=7,"Renew in "&G46&" days","Active"))) | I46: =IF(IFERROR(MATCH(D46,$N$8:$N$13,0),0)=0,"",INDEX($P$8:$P$13,IFERROR(MATCH(D46,$N$8:$N$13,0),0))) | L46: =IF(I46="","",I46-N(K46))
A47: =IF(B47="","",40) | F47: =IF(OR(E47="",IFERROR(MATCH(D47,$N$8:$N$13,0),0)=0),"",EDATE(E47,INDEX($O$8:$O$13,IFERROR(MATCH(D47,$N$8:$N$13,0),0)))-1) | G47: =IF(F47="","",F47-$J$5) | H47: =IF(G47="","",IF(G47<0,"Expired",IF(G47<=7,"Renew in "&G47&" days","Active"))) | I47: =IF(IFERROR(MATCH(D47,$N$8:$N$13,0),0)=0,"",INDEX($P$8:$P$13,IFERROR(MATCH(D47,$N$8:$N$13,0),0))) | L47: =IF(I47="","",I47-N(K47))
A48: =IF(B48="","",41) | F48: =IF(OR(E48="",IFERROR(MATCH(D48,$N$8:$N$13,0),0)=0),"",EDATE(E48,INDEX($O$8:$O$13,IFERROR(MATCH(D48,$N$8:$N$13,0),0)))-1) | G48: =IF(F48="","",F48-$J$5) | H48: =IF(G48="","",IF(G48<0,"Expired",IF(G48<=7,"Renew in "&G48&" days","Active"))) | I48: =IF(IFERROR(MATCH(D48,$N$8:$N$13,0),0)=0,"",INDEX($P$8:$P$13,IFERROR(MATCH(D48,$N$8:$N$13,0),0))) | L48: =IF(I48="","",I48-N(K48))
A49: =IF(B49="","",42) | F49: =IF(OR(E49="",IFERROR(MATCH(D49,$N$8:$N$13,0),0)=0),"",EDATE(E49,INDEX($O$8:$O$13,IFERROR(MATCH(D49,$N$8:$N$13,0),0)))-1) | G49: =IF(F49="","",F49-$J$5) | H49: =IF(G49="","",IF(G49<0,"Expired",IF(G49<=7,"Renew in "&G49&" days","Active"))) | I49: =IF(IFERROR(MATCH(D49,$N$8:$N$13,0),0)=0,"",INDEX($P$8:$P$13,IFERROR(MATCH(D49,$N$8:$N$13,0),0))) | L49: =IF(I49="","",I49-N(K49))
A50: =IF(B50="","",43) | F50: =IF(OR(E50="",IFERROR(MATCH(D50,$N$8:$N$13,0),0)=0),"",EDATE(E50,INDEX($O$8:$O$13,IFERROR(MATCH(D50,$N$8:$N$13,0),0)))-1) | G50: =IF(F50="","",F50-$J$5) | H50: =IF(G50="","",IF(G50<0,"Expired",IF(G50<=7,"Renew in "&G50&" days","Active"))) | I50: =IF(IFERROR(MATCH(D50,$N$8:$N$13,0),0)=0,"",INDEX($P$8:$P$13,IFERROR(MATCH(D50,$N$8:$N$13,0),0))) | L50: =IF(I50="","",I50-N(K50))
A51: =IF(B51="","",44) | F51: =IF(OR(E51="",IFERROR(MATCH(D51,$N$8:$N$13,0),0)=0),"",EDATE(E51,INDEX($O$8:$O$13,IFERROR(MATCH(D51,$N$8:$N$13,0),0)))-1) | G51: =IF(F51="","",F51-$J$5) | H51: =IF(G51="","",IF(G51<0,"Expired",IF(G51<=7,"Renew in "&G51&" days","Active"))) | I51: =IF(IFERROR(MATCH(D51,$N$8:$N$13,0),0)=0,"",INDEX($P$8:$P$13,IFERROR(MATCH(D51,$N$8:$N$13,0),0))) | L51: =IF(I51="","",I51-N(K51))
A52: =IF(B52="","",45) | F52: =IF(OR(E52="",IFERROR(MATCH(D52,$N$8:$N$13,0),0)=0),"",EDATE(E52,INDEX($O$8:$O$13,IFERROR(MATCH(D52,$N$8:$N$13,0),0)))-1) | G52: =IF(F52="","",F52-$J$5) | H52: =IF(G52="","",IF(G52<0,"Expired",IF(G52<=7,"Renew in "&G52&" days","Active"))) | I52: =IF(IFERROR(MATCH(D52,$N$8:$N$13,0),0)=0,"",INDEX($P$8:$P$13,IFERROR(MATCH(D52,$N$8:$N$13,0),0))) | L52: =IF(I52="","",I52-N(K52))
A53: =IF(B53="","",46) | F53: =IF(OR(E53="",IFERROR(MATCH(D53,$N$8:$N$13,0),0)=0),"",EDATE(E53,INDEX($O$8:$O$13,IFERROR(MATCH(D53,$N$8:$N$13,0),0)))-1) | G53: =IF(F53="","",F53-$J$5) | H53: =IF(G53="","",IF(G53<0,"Expired",IF(G53<=7,"Renew in "&G53&" days","Active"))) | I53: =IF(IFERROR(MATCH(D53,$N$8:$N$13,0),0)=0,"",INDEX($P$8:$P$13,IFERROR(MATCH(D53,$N$8:$N$13,0),0))) | L53: =IF(I53="","",I53-N(K53))
A54: =IF(B54="","",47) | F54: =IF(OR(E54="",IFERROR(MATCH(D54,$N$8:$N$13,0),0)=0),"",EDATE(E54,INDEX($O$8:$O$13,IFERROR(MATCH(D54,$N$8:$N$13,0),0)))-1) | G54: =IF(F54="","",F54-$J$5) | H54: =IF(G54="","",IF(G54<0,"Expired",IF(G54<=7,"Renew in "&G54&" days","Active"))) | I54: =IF(IFERROR(MATCH(D54,$N$8:$N$13,0),0)=0,"",INDEX($P$8:$P$13,IFERROR(MATCH(D54,$N$8:$N$13,0),0))) | L54: =IF(I54="","",I54-N(K54))
A55: =IF(B55="","",48) | F55: =IF(OR(E55="",IFERROR(MATCH(D55,$N$8:$N$13,0),0)=0),"",EDATE(E55,INDEX($O$8:$O$13,IFERROR(MATCH(D55,$N$8:$N$13,0),0)))-1) | G55: =IF(F55="","",F55-$J$5) | H55: =IF(G55="","",IF(G55<0,"Expired",IF(G55<=7,"Renew in "&G55&" days","Active"))) | I55: =IF(IFERROR(MATCH(D55,$N$8:$N$13,0),0)=0,"",INDEX($P$8:$P$13,IFERROR(MATCH(D55,$N$8:$N$13,0),0))) | L55: =IF(I55="","",I55-N(K55))
A56: =IF(B56="","",49) | F56: =IF(OR(E56="",IFERROR(MATCH(D56,$N$8:$N$13,0),0)=0),"",EDATE(E56,INDEX($O$8:$O$13,IFERROR(MATCH(D56,$N$8:$N$13,0),0)))-1) | G56: =IF(F56="","",F56-$J$5) | H56: =IF(G56="","",IF(G56<0,"Expired",IF(G56<=7,"Renew in "&G56&" days","Active"))) | I56: =IF(IFERROR(MATCH(D56,$N$8:$N$13,0),0)=0,"",INDEX($P$8:$P$13,IFERROR(MATCH(D56,$N$8:$N$13,0),0))) | L56: =IF(I56="","",I56-N(K56))
A57: =IF(B57="","",50) | F57: =IF(OR(E57="",IFERROR(MATCH(D57,$N$8:$N$13,0),0)=0),"",EDATE(E57,INDEX($O$8:$O$13,IFERROR(MATCH(D57,$N$8:$N$13,0),0)))-1) | G57: =IF(F57="","",F57-$J$5) | H57: =IF(G57="","",IF(G57<0,"Expired",IF(G57<=7,"Renew in "&G57&" days","Active"))) | I57: =IF(IFERROR(MATCH(D57,$N$8:$N$13,0),0)=0,"",INDEX($P$8:$P$13,IFERROR(MATCH(D57,$N$8:$N$13,0),0))) | L57: =IF(I57="","",I57-N(K57))
A58: =IF(B58="","",51) | F58: =IF(OR(E58="",IFERROR(MATCH(D58,$N$8:$N$13,0),0)=0),"",EDATE(E58,INDEX($O$8:$O$13,IFERROR(MATCH(D58,$N$8:$N$13,0),0)))-1) | G58: =IF(F58="","",F58-$J$5) | H58: =IF(G58="","",IF(G58<0,"Expired",IF(G58<=7,"Renew in "&G58&" days","Active"))) | I58: =IF(IFERROR(MATCH(D58,$N$8:$N$13,0),0)=0,"",INDEX($P$8:$P$13,IFERROR(MATCH(D58,$N$8:$N$13,0),0))) | L58: =IF(I58="","",I58-N(K58))
A59: =IF(B59="","",52) | F59: =IF(OR(E59="",IFERROR(MATCH(D59,$N$8:$N$13,0),0)=0),"",EDATE(E59,INDEX($O$8:$O$13,IFERROR(MATCH(D59,$N$8:$N$13,0),0)))-1) | G59: =IF(F59="","",F59-$J$5) | H59: =IF(G59="","",IF(G59<0,"Expired",IF(G59<=7,"Renew in "&G59&" days","Active"))) | I59: =IF(IFERROR(MATCH(D59,$N$8:$N$13,0),0)=0,"",INDEX($P$8:$P$13,IFERROR(MATCH(D59,$N$8:$N$13,0),0))) | L59: =IF(I59="","",I59-N(K59))
A60: =IF(B60="","",53) | F60: =IF(OR(E60="",IFERROR(MATCH(D60,$N$8:$N$13,0),0)=0),"",EDATE(E60,INDEX($O$8:$O$13,IFERROR(MATCH(D60,$N$8:$N$13,0),0)))-1) | G60: =IF(F60="","",F60-$J$5) | H60: =IF(G60="","",IF(G60<0,"Expired",IF(G60<=7,"Renew in "&G60&" days","Active"))) | I60: =IF(IFERROR(MATCH(D60,$N$8:$N$13,0),0)=0,"",INDEX($P$8:$P$13,IFERROR(MATCH(D60,$N$8:$N$13,0),0))) | L60: =IF(I60="","",I60-N(K60))
A61: =IF(B61="","",54) | F61: =IF(OR(E61="",IFERROR(MATCH(D61,$N$8:$N$13,0),0)=0),"",EDATE(E61,INDEX($O$8:$O$13,IFERROR(MATCH(D61,$N$8:$N$13,0),0)))-1) | G61: =IF(F61="","",F61-$J$5) | H61: =IF(G61="","",IF(G61<0,"Expired",IF(G61<=7,"Renew in "&G61&" days","Active"))) | I61: =IF(IFERROR(MATCH(D61,$N$8:$N$13,0),0)=0,"",INDEX($P$8:$P$13,IFERROR(MATCH(D61,$N$8:$N$13,0),0))) | L61: =IF(I61="","",I61-N(K61))
A62: =IF(B62="","",55) | F62: =IF(OR(E62="",IFERROR(MATCH(D62,$N$8:$N$13,0),0)=0),"",EDATE(E62,INDEX($O$8:$O$13,IFERROR(MATCH(D62,$N$8:$N$13,0),0)))-1) | G62: =IF(F62="","",F62-$J$5) | H62: =IF(G62="","",IF(G62<0,"Expired",IF(G62<=7,"Renew in "&G62&" days","Active"))) | I62: =IF(IFERROR(MATCH(D62,$N$8:$N$13,0),0)=0,"",INDEX($P$8:$P$13,IFERROR(MATCH(D62,$N$8:$N$13,0),0))) | L62: =IF(I62="","",I62-N(K62))
A63: =IF(B63="","",56) | F63: =IF(OR(E63="",IFERROR(MATCH(D63,$N$8:$N$13,0),0)=0),"",EDATE(E63,INDEX($O$8:$O$13,IFERROR(MATCH(D63,$N$8:$N$13,0),0)))-1) | G63: =IF(F63="","",F63-$J$5) | H63: =IF(G63="","",IF(G63<0,"Expired",IF(G63<=7,"Renew in "&G63&" days","Active"))) | I63: =IF(IFERROR(MATCH(D63,$N$8:$N$13,0),0)=0,"",INDEX($P$8:$P$13,IFERROR(MATCH(D63,$N$8:$N$13,0),0))) | L63: =IF(I63="","",I63-N(K63))
A64: =IF(B64="","",57) | F64: =IF(OR(E64="",IFERROR(MATCH(D64,$N$8:$N$13,0),0)=0),"",EDATE(E64,INDEX($O$8:$O$13,IFERROR(MATCH(D64,$N$8:$N$13,0),0)))-1) | G64: =IF(F64="","",F64-$J$5) | H64: =IF(G64="","",IF(G64<0,"Expired",IF(G64<=7,"Renew in "&G64&" days","Active"))) | I64: =IF(IFERROR(MATCH(D64,$N$8:$N$13,0),0)=0,"",INDEX($P$8:$P$13,IFERROR(MATCH(D64,$N$8:$N$13,0),0))) | L64: =IF(I64="","",I64-N(K64))
A65: =IF(B65="","",58) | F65: =IF(OR(E65="",IFERROR(MATCH(D65,$N$8:$N$13,0),0)=0),"",EDATE(E65,INDEX($O$8:$O$13,IFERROR(MATCH(D65,$N$8:$N$13,0),0)))-1) | G65: =IF(F65="","",F65-$J$5) | H65: =IF(G65="","",IF(G65<0,"Expired",IF(G65<=7,"Renew in "&G65&" days","Active"))) | I65: =IF(IFERROR(MATCH(D65,$N$8:$N$13,0),0)=0,"",INDEX($P$8:$P$13,IFERROR(MATCH(D65,$N$8:$N$13,0),0))) | L65: =IF(I65="","",I65-N(K65))
A66: =IF(B66="","",59) | F66: =IF(OR(E66="",IFERROR(MATCH(D66,$N$8:$N$13,0),0)=0),"",EDATE(E66,INDEX($O$8:$O$13,IFERROR(MATCH(D66,$N$8:$N$13,0),0)))-1) | G66: =IF(F66="","",F66-$J$5) | H66: =IF(G66="","",IF(G66<0,"Expired",IF(G66<=7,"Renew in "&G66&" days","Active"))) | I66: =IF(IFERROR(MATCH(D66,$N$8:$N$13,0),0)=0,"",INDEX($P$8:$P$13,IFERROR(MATCH(D66,$N$8:$N$13,0),0))) | L66: =IF(I66="","",I66-N(K66))
A67: =IF(B67="","",60) | F67: =IF(OR(E67="",IFERROR(MATCH(D67,$N$8:$N$13,0),0)=0),"",EDATE(E67,INDEX($O$8:$O$13,IFERROR(MATCH(D67,$N$8:$N$13,0),0)))-1) | G67: =IF(F67="","",F67-$J$5) | H67: =IF(G67="","",IF(G67<0,"Expired",IF(G67<=7,"Renew in "&G67&" days","Active"))) | I67: =IF(IFERROR(MATCH(D67,$N$8:$N$13,0),0)=0,"",INDEX($P$8:$P$13,IFERROR(MATCH(D67,$N$8:$N$13,0),0))) | L67: =IF(I67="","",I67-N(K67))
A68: =IF(B68="","",61) | F68: =IF(OR(E68="",IFERROR(MATCH(D68,$N$8:$N$13,0),0)=0),"",EDATE(E68,INDEX($O$8:$O$13,IFERROR(MATCH(D68,$N$8:$N$13,0),0)))-1) | G68: =IF(F68="","",F68-$J$5) | H68: =IF(G68="","",IF(G68<0,"Expired",IF(G68<=7,"Renew in "&G68&" days","Active"))) | I68: =IF(IFERROR(MATCH(D68,$N$8:$N$13,0),0)=0,"",INDEX($P$8:$P$13,IFERROR(MATCH(D68,$N$8:$N$13,0),0))) | L68: =IF(I68="","",I68-N(K68))
A69: =IF(B69="","",62) | F69: =IF(OR(E69="",IFERROR(MATCH(D69,$N$8:$N$13,0),0)=0),"",EDATE(E69,INDEX($O$8:$O$13,IFERROR(MATCH(D69,$N$8:$N$13,0),0)))-1) | G69: =IF(F69="","",F69-$J$5) | H69: =IF(G69="","",IF(G69<0,"Expired",IF(G69<=7,"Renew in "&G69&" days","Active"))) | I69: =IF(IFERROR(MATCH(D69,$N$8:$N$13,0),0)=0,"",INDEX($P$8:$P$13,IFERROR(MATCH(D69,$N$8:$N$13,0),0))) | L69: =IF(I69="","",I69-N(K69))
A70: =IF(B70="","",63) | F70: =IF(OR(E70="",IFERROR(MATCH(D70,$N$8:$N$13,0),0)=0),"",EDATE(E70,INDEX($O$8:$O$13,IFERROR(MATCH(D70,$N$8:$N$13,0),0)))-1) | G70: =IF(F70="","",F70-$J$5) | H70: =IF(G70="","",IF(G70<0,"Expired",IF(G70<=7,"Renew in "&G70&" days","Active"))) | I70: =IF(IFERROR(MATCH(D70,$N$8:$N$13,0),0)=0,"",INDEX($P$8:$P$13,IFERROR(MATCH(D70,$N$8:$N$13,0),0))) | L70: =IF(I70="","",I70-N(K70))
A71: =IF(B71="","",64) | F71: =IF(OR(E71="",IFERROR(MATCH(D71,$N$8:$N$13,0),0)=0),"",EDATE(E71,INDEX($O$8:$O$13,IFERROR(MATCH(D71,$N$8:$N$13,0),0)))-1) | G71: =IF(F71="","",F71-$J$5) | H71: =IF(G71="","",IF(G71<0,"Expired",IF(G71<=7,"Renew in "&G71&" days","Active"))) | I71: =IF(IFERROR(MATCH(D71,$N$8:$N$13,0),0)=0,"",INDEX($P$8:$P$13,IFERROR(MATCH(D71,$N$8:$N$13,0),0))) | L71: =IF(I71="","",I71-N(K71))
A72: =IF(B72="","",65) | F72: =IF(OR(E72="",IFERROR(MATCH(D72,$N$8:$N$13,0),0)=0),"",EDATE(E72,INDEX($O$8:$O$13,IFERROR(MATCH(D72,$N$8:$N$13,0),0)))-1) | G72: =IF(F72="","",F72-$J$5) | H72: =IF(G72="","",IF(G72<0,"Expired",IF(G72<=7,"Renew in "&G72&" days","Active"))) | I72: =IF(IFERROR(MATCH(D72,$N$8:$N$13,0),0)=0,"",INDEX($P$8:$P$13,IFERROR(MATCH(D72,$N$8:$N$13,0),0))) | L72: =IF(I72="","",I72-N(K72))
A73: =IF(B73="","",66) | F73: =IF(OR(E73="",IFERROR(MATCH(D73,$N$8:$N$13,0),0)=0),"",EDATE(E73,INDEX($O$8:$O$13,IFERROR(MATCH(D73,$N$8:$N$13,0),0)))-1) | G73: =IF(F73="","",F73-$J$5) | H73: =IF(G73="","",IF(G73<0,"Expired",IF(G73<=7,"Renew in "&G73&" days","Active"))) | I73: =IF(IFERROR(MATCH(D73,$N$8:$N$13,0),0)=0,"",INDEX($P$8:$P$13,IFERROR(MATCH(D73,$N$8:$N$13,0),0))) | L73: =IF(I73="","",I73-N(K73))
A74: =IF(B74="","",67) | F74: =IF(OR(E74="",IFERROR(MATCH(D74,$N$8:$N$13,0),0)=0),"",EDATE(E74,INDEX($O$8:$O$13,IFERROR(MATCH(D74,$N$8:$N$13,0),0)))-1) | G74: =IF(F74="","",F74-$J$5) | H74: =IF(G74="","",IF(G74<0,"Expired",IF(G74<=7,"Renew in "&G74&" days","Active"))) | I74: =IF(IFERROR(MATCH(D74,$N$8:$N$13,0),0)=0,"",INDEX($P$8:$P$13,IFERROR(MATCH(D74,$N$8:$N$13,0),0))) | L74: =IF(I74="","",I74-N(K74))
A75: =IF(B75="","",68) | F75: =IF(OR(E75="",IFERROR(MATCH(D75,$N$8:$N$13,0),0)=0),"",EDATE(E75,INDEX($O$8:$O$13,IFERROR(MATCH(D75,$N$8:$N$13,0),0)))-1) | G75: =IF(F75="","",F75-$J$5) | H75: =IF(G75="","",IF(G75<0,"Expired",IF(G75<=7,"Renew in "&G75&" days","Active"))) | I75: =IF(IFERROR(MATCH(D75,$N$8:$N$13,0),0)=0,"",INDEX($P$8:$P$13,IFERROR(MATCH(D75,$N$8:$N$13,0),0))) | L75: =IF(I75="","",I75-N(K75))
A76: =IF(B76="","",69) | F76: =IF(OR(E76="",IFERROR(MATCH(D76,$N$8:$N$13,0),0)=0),"",EDATE(E76,INDEX($O$8:$O$13,IFERROR(MATCH(D76,$N$8:$N$13,0),0)))-1) | G76: =IF(F76="","",F76-$J$5) | H76: =IF(G76="","",IF(G76<0,"Expired",IF(G76<=7,"Renew in "&G76&" days","Active"))) | I76: =IF(IFERROR(MATCH(D76,$N$8:$N$13,0),0)=0,"",INDEX($P$8:$P$13,IFERROR(MATCH(D76,$N$8:$N$13,0),0))) | L76: =IF(I76="","",I76-N(K76))
A77: =IF(B77="","",70) | F77: =IF(OR(E77="",IFERROR(MATCH(D77,$N$8:$N$13,0),0)=0),"",EDATE(E77,INDEX($O$8:$O$13,IFERROR(MATCH(D77,$N$8:$N$13,0),0)))-1) | G77: =IF(F77="","",F77-$J$5) | H77: =IF(G77="","",IF(G77<0,"Expired",IF(G77<=7,"Renew in "&G77&" days","Active"))) | I77: =IF(IFERROR(MATCH(D77,$N$8:$N$13,0),0)=0,"",INDEX($P$8:$P$13,IFERROR(MATCH(D77,$N$8:$N$13,0),0))) | L77: =IF(I77="","",I77-N(K77))
A78: =IF(B78="","",71) | F78: =IF(OR(E78="",IFERROR(MATCH(D78,$N$8:$N$13,0),0)=0),"",EDATE(E78,INDEX($O$8:$O$13,IFERROR(MATCH(D78,$N$8:$N$13,0),0)))-1) | G78: =IF(F78="","",F78-$J$5) | H78: =IF(G78="","",IF(G78<0,"Expired",IF(G78<=7,"Renew in "&G78&" days","Active"))) | I78: =IF(IFERROR(MATCH(D78,$N$8:$N$13,0),0)=0,"",INDEX($P$8:$P$13,IFERROR(MATCH(D78,$N$8:$N$13,0),0))) | L78: =IF(I78="","",I78-N(K78))
A79: =IF(B79="","",72) | F79: =IF(OR(E79="",IFERROR(MATCH(D79,$N$8:$N$13,0),0)=0),"",EDATE(E79,INDEX($O$8:$O$13,IFERROR(MATCH(D79,$N$8:$N$13,0),0)))-1) | G79: =IF(F79="","",F79-$J$5) | H79: =IF(G79="","",IF(G79<0,"Expired",IF(G79<=7,"Renew in "&G79&" days","Active"))) | I79: =IF(IFERROR(MATCH(D79,$N$8:$N$13,0),0)=0,"",INDEX($P$8:$P$13,IFERROR(MATCH(D79,$N$8:$N$13,0),0))) | L79: =IF(I79="","",I79-N(K79))
A80: =IF(B80="","",73) | F80: =IF(OR(E80="",IFERROR(MATCH(D80,$N$8:$N$13,0),0)=0),"",EDATE(E80,INDEX($O$8:$O$13,IFERROR(MATCH(D80,$N$8:$N$13,0),0)))-1) | G80: =IF(F80="","",F80-$J$5) | H80: =IF(G80="","",IF(G80<0,"Expired",IF(G80<=7,"Renew in "&G80&" days","Active"))) | I80: =IF(IFERROR(MATCH(D80,$N$8:$N$13,0),0)=0,"",INDEX($P$8:$P$13,IFERROR(MATCH(D80,$N$8:$N$13,0),0))) | L80: =IF(I80="","",I80-N(K80))
A81: =IF(B81="","",74) | F81: =IF(OR(E81="",IFERROR(MATCH(D81,$N$8:$N$13,0),0)=0),"",EDATE(E81,INDEX($O$8:$O$13,IFERROR(MATCH(D81,$N$8:$N$13,0),0)))-1) | G81: =IF(F81="","",F81-$J$5) | H81: =IF(G81="","",IF(G81<0,"Expired",IF(G81<=7,"Renew in "&G81&" days","Active"))) | I81: =IF(IFERROR(MATCH(D81,$N$8:$N$13,0),0)=0,"",INDEX($P$8:$P$13,IFERROR(MATCH(D81,$N$8:$N$13,0),0))) | L81: =IF(I81="","",I81-N(K81))
A82: =IF(B82="","",75) | F82: =IF(OR(E82="",IFERROR(MATCH(D82,$N$8:$N$13,0),0)=0),"",EDATE(E82,INDEX($O$8:$O$13,IFERROR(MATCH(D82,$N$8:$N$13,0),0)))-1) | G82: =IF(F82="","",F82-$J$5) | H82: =IF(G82="","",IF(G82<0,"Expired",IF(G82<=7,"Renew in "&G82&" days","Active"))) | I82: =IF(IFERROR(MATCH(D82,$N$8:$N$13,0),0)=0,"",INDEX($P$8:$P$13,IFERROR(MATCH(D82,$N$8:$N$13,0),0))) | L82: =IF(I82="","",I82-N(K82))
A83: =IF(B83="","",76) | F83: =IF(OR(E83="",IFERROR(MATCH(D83,$N$8:$N$13,0),0)=0),"",EDATE(E83,INDEX($O$8:$O$13,IFERROR(MATCH(D83,$N$8:$N$13,0),0)))-1) | G83: =IF(F83="","",F83-$J$5) | H83: =IF(G83="","",IF(G83<0,"Expired",IF(G83<=7,"Renew in "&G83&" days","Active"))) | I83: =IF(IFERROR(MATCH(D83,$N$8:$N$13,0),0)=0,"",INDEX($P$8:$P$13,IFERROR(MATCH(D83,$N$8:$N$13,0),0))) | L83: =IF(I83="","",I83-N(K83))
A84: =IF(B84="","",77) | F84: =IF(OR(E84="",IFERROR(MATCH(D84,$N$8:$N$13,0),0)=0),"",EDATE(E84,INDEX($O$8:$O$13,IFERROR(MATCH(D84,$N$8:$N$13,0),0)))-1) | G84: =IF(F84="","",F84-$J$5) | H84: =IF(G84="","",IF(G84<0,"Expired",IF(G84<=7,"Renew in "&G84&" days","Active"))) | I84: =IF(IFERROR(MATCH(D84,$N$8:$N$13,0),0)=0,"",INDEX($P$8:$P$13,IFERROR(MATCH(D84,$N$8:$N$13,0),0))) | L84: =IF(I84="","",I84-N(K84))
A85: =IF(B85="","",78) | F85: =IF(OR(E85="",IFERROR(MATCH(D85,$N$8:$N$13,0),0)=0),"",EDATE(E85,INDEX($O$8:$O$13,IFERROR(MATCH(D85,$N$8:$N$13,0),0)))-1) | G85: =IF(F85="","",F85-$J$5) | H85: =IF(G85="","",IF(G85<0,"Expired",IF(G85<=7,"Renew in "&G85&" days","Active"))) | I85: =IF(IFERROR(MATCH(D85,$N$8:$N$13,0),0)=0,"",INDEX($P$8:$P$13,IFERROR(MATCH(D85,$N$8:$N$13,0),0))) | L85: =IF(I85="","",I85-N(K85))
A86: =IF(B86="","",79) | F86: =IF(OR(E86="",IFERROR(MATCH(D86,$N$8:$N$13,0),0)=0),"",EDATE(E86,INDEX($O$8:$O$13,IFERROR(MATCH(D86,$N$8:$N$13,0),0)))-1) | G86: =IF(F86="","",F86-$J$5) | H86: =IF(G86="","",IF(G86<0,"Expired",IF(G86<=7,"Renew in "&G86&" days","Active"))) | I86: =IF(IFERROR(MATCH(D86,$N$8:$N$13,0),0)=0,"",INDEX($P$8:$P$13,IFERROR(MATCH(D86,$N$8:$N$13,0),0))) | L86: =IF(I86="","",I86-N(K86))
A87: =IF(B87="","",80) | F87: =IF(OR(E87="",IFERROR(MATCH(D87,$N$8:$N$13,0),0)=0),"",EDATE(E87,INDEX($O$8:$O$13,IFERROR(MATCH(D87,$N$8:$N$13,0),0)))-1) | G87: =IF(F87="","",F87-$J$5) | H87: =IF(G87="","",IF(G87<0,"Expired",IF(G87<=7,"Renew in "&G87&" days","Active"))) | I87: =IF(IFERROR(MATCH(D87,$N$8:$N$13,0),0)=0,"",INDEX($P$8:$P$13,IFERROR(MATCH(D87,$N$8:$N$13,0),0))) | L87: =IF(I87="","",I87-N(K87))
A88: =IF(B88="","",81) | F88: =IF(OR(E88="",IFERROR(MATCH(D88,$N$8:$N$13,0),0)=0),"",EDATE(E88,INDEX($O$8:$O$13,IFERROR(MATCH(D88,$N$8:$N$13,0),0)))-1) | G88: =IF(F88="","",F88-$J$5) | H88: =IF(G88="","",IF(G88<0,"Expired",IF(G88<=7,"Renew in "&G88&" days","Active"))) | I88: =IF(IFERROR(MATCH(D88,$N$8:$N$13,0),0)=0,"",INDEX($P$8:$P$13,IFERROR(MATCH(D88,$N$8:$N$13,0),0))) | L88: =IF(I88="","",I88-N(K88))
A89: =IF(B89="","",82) | F89: =IF(OR(E89="",IFERROR(MATCH(D89,$N$8:$N$13,0),0)=0),"",EDATE(E89,INDEX($O$8:$O$13,IFERROR(MATCH(D89,$N$8:$N$13,0),0)))-1) | G89: =IF(F89="","",F89-$J$5) | H89: =IF(G89="","",IF(G89<0,"Expired",IF(G89<=7,"Renew in "&G89&" days","Active"))) | I89: =IF(IFERROR(MATCH(D89,$N$8:$N$13,0),0)=0,"",INDEX($P$8:$P$13,IFERROR(MATCH(D89,$N$8:$N$13,0),0))) | L89: =IF(I89="","",I89-N(K89))
A90: =IF(B90="","",83) | F90: =IF(OR(E90="",IFERROR(MATCH(D90,$N$8:$N$13,0),0)=0),"",EDATE(E90,INDEX($O$8:$O$13,IFERROR(MATCH(D90,$N$8:$N$13,0),0)))-1) | G90: =IF(F90="","",F90-$J$5) | H90: =IF(G90="","",IF(G90<0,"Expired",IF(G90<=7,"Renew in "&G90&" days","Active"))) | I90: =IF(IFERROR(MATCH(D90,$N$8:$N$13,0),0)=0,"",INDEX($P$8:$P$13,IFERROR(MATCH(D90,$N$8:$N$13,0),0))) | L90: =IF(I90="","",I90-N(K90))
A91: =IF(B91="","",84) | F91: =IF(OR(E91="",IFERROR(MATCH(D91,$N$8:$N$13,0),0)=0),"",EDATE(E91,INDEX($O$8:$O$13,IFERROR(MATCH(D91,$N$8:$N$13,0),0)))-1) | G91: =IF(F91="","",F91-$J$5) | H91: =IF(G91="","",IF(G91<0,"Expired",IF(G91<=7,"Renew in "&G91&" days","Active"))) | I91: =IF(IFERROR(MATCH(D91,$N$8:$N$13,0),0)=0,"",INDEX($P$8:$P$13,IFERROR(MATCH(D91,$N$8:$N$13,0),0))) | L91: =IF(I91="","",I91-N(K91))
A92: =IF(B92="","",85) | F92: =IF(OR(E92="",IFERROR(MATCH(D92,$N$8:$N$13,0),0)=0),"",EDATE(E92,INDEX($O$8:$O$13,IFERROR(MATCH(D92,$N$8:$N$13,0),0)))-1) | G92: =IF(F92="","",F92-$J$5) | H92: =IF(G92="","",IF(G92<0,"Expired",IF(G92<=7,"Renew in "&G92&" days","Active"))) | I92: =IF(IFERROR(MATCH(D92,$N$8:$N$13,0),0)=0,"",INDEX($P$8:$P$13,IFERROR(MATCH(D92,$N$8:$N$13,0),0))) | L92: =IF(I92="","",I92-N(K92))
A93: =IF(B93="","",86) | F93: =IF(OR(E93="",IFERROR(MATCH(D93,$N$8:$N$13,0),0)=0),"",EDATE(E93,INDEX($O$8:$O$13,IFERROR(MATCH(D93,$N$8:$N$13,0),0)))-1) | G93: =IF(F93="","",F93-$J$5) | H93: =IF(G93="","",IF(G93<0,"Expired",IF(G93<=7,"Renew in "&G93&" days","Active"))) | I93: =IF(IFERROR(MATCH(D93,$N$8:$N$13,0),0)=0,"",INDEX($P$8:$P$13,IFERROR(MATCH(D93,$N$8:$N$13,0),0))) | L93: =IF(I93="","",I93-N(K93))
A94: =IF(B94="","",87) | F94: =IF(OR(E94="",IFERROR(MATCH(D94,$N$8:$N$13,0),0)=0),"",EDATE(E94,INDEX($O$8:$O$13,IFERROR(MATCH(D94,$N$8:$N$13,0),0)))-1) | G94: =IF(F94="","",F94-$J$5) | H94: =IF(G94="","",IF(G94<0,"Expired",IF(G94<=7,"Renew in "&G94&" days","Active"))) | I94: =IF(IFERROR(MATCH(D94,$N$8:$N$13,0),0)=0,"",INDEX($P$8:$P$13,IFERROR(MATCH(D94,$N$8:$N$13,0),0))) | L94: =IF(I94="","",I94-N(K94))
A95: =IF(B95="","",88) | F95: =IF(OR(E95="",IFERROR(MATCH(D95,$N$8:$N$13,0),0)=0),"",EDATE(E95,INDEX($O$8:$O$13,IFERROR(MATCH(D95,$N$8:$N$13,0),0)))-1) | G95: =IF(F95="","",F95-$J$5) | H95: =IF(G95="","",IF(G95<0,"Expired",IF(G95<=7,"Renew in "&G95&" days","Active"))) | I95: =IF(IFERROR(MATCH(D95,$N$8:$N$13,0),0)=0,"",INDEX($P$8:$P$13,IFERROR(MATCH(D95,$N$8:$N$13,0),0))) | L95: =IF(I95="","",I95-N(K95))
A96: =IF(B96="","",89) | F96: =IF(OR(E96="",IFERROR(MATCH(D96,$N$8:$N$13,0),0)=0),"",EDATE(E96,INDEX($O$8:$O$13,IFERROR(MATCH(D96,$N$8:$N$13,0),0)))-1) | G96: =IF(F96="","",F96-$J$5) | H96: =IF(G96="","",IF(G96<0,"Expired",IF(G96<=7,"Renew in "&G96&" days","Active"))) | I96: =IF(IFERROR(MATCH(D96,$N$8:$N$13,0),0)=0,"",INDEX($P$8:$P$13,IFERROR(MATCH(D96,$N$8:$N$13,0),0))) | L96: =IF(I96="","",I96-N(K96))
A97: =IF(B97="","",90) | F97: =IF(OR(E97="",IFERROR(MATCH(D97,$N$8:$N$13,0),0)=0),"",EDATE(E97,INDEX($O$8:$O$13,IFERROR(MATCH(D97,$N$8:$N$13,0),0)))-1) | G97: =IF(F97="","",F97-$J$5) | H97: =IF(G97="","",IF(G97<0,"Expired",IF(G97<=7,"Renew in "&G97&" days","Active"))) | I97: =IF(IFERROR(MATCH(D97,$N$8:$N$13,0),0)=0,"",INDEX($P$8:$P$13,IFERROR(MATCH(D97,$N$8:$N$13,0),0))) | L97: =IF(I97="","",I97-N(K97))
A98: =IF(B98="","",91) | F98: =IF(OR(E98="",IFERROR(MATCH(D98,$N$8:$N$13,0),0)=0),"",EDATE(E98,INDEX($O$8:$O$13,IFERROR(MATCH(D98,$N$8:$N$13,0),0)))-1) | G98: =IF(F98="","",F98-$J$5) | H98: =IF(G98="","",IF(G98<0,"Expired",IF(G98<=7,"Renew in "&G98&" days","Active"))) | I98: =IF(IFERROR(MATCH(D98,$N$8:$N$13,0),0)=0,"",INDEX($P$8:$P$13,IFERROR(MATCH(D98,$N$8:$N$13,0),0))) | L98: =IF(I98="","",I98-N(K98))
A99: =IF(B99="","",92) | F99: =IF(OR(E99="",IFERROR(MATCH(D99,$N$8:$N$13,0),0)=0),"",EDATE(E99,INDEX($O$8:$O$13,IFERROR(MATCH(D99,$N$8:$N$13,0),0)))-1) | G99: =IF(F99="","",F99-$J$5) | H99: =IF(G99="","",IF(G99<0,"Expired",IF(G99<=7,"Renew in "&G99&" days","Active"))) | I99: =IF(IFERROR(MATCH(D99,$N$8:$N$13,0),0)=0,"",INDEX($P$8:$P$13,IFERROR(MATCH(D99,$N$8:$N$13,0),0))) | L99: =IF(I99="","",I99-N(K99))
A100: =IF(B100="","",93) | F100: =IF(OR(E100="",IFERROR(MATCH(D100,$N$8:$N$13,0),0)=0),"",EDATE(E100,INDEX($O$8:$O$13,IFERROR(MATCH(D100,$N$8:$N$13,0),0)))-1) | G100: =IF(F100="","",F100-$J$5) | H100: =IF(G100="","",IF(G100<0,"Expired",IF(G100<=7,"Renew in "&G100&" days","Active"))) | I100: =IF(IFERROR(MATCH(D100,$N$8:$N$13,0),0)=0,"",INDEX($P$8:$P$13,IFERROR(MATCH(D100,$N$8:$N$13,0),0))) | L100: =IF(I100="","",I100-N(K100))
A101: =IF(B101="","",94) | F101: =IF(OR(E101="",IFERROR(MATCH(D101,$N$8:$N$13,0),0)=0),"",EDATE(E101,INDEX($O$8:$O$13,IFERROR(MATCH(D101,$N$8:$N$13,0),0)))-1) | G101: =IF(F101="","",F101-$J$5) | H101: =IF(G101="","",IF(G101<0,"Expired",IF(G101<=7,"Renew in "&G101&" days","Active"))) | I101: =IF(IFERROR(MATCH(D101,$N$8:$N$13,0),0)=0,"",INDEX($P$8:$P$13,IFERROR(MATCH(D101,$N$8:$N$13,0),0))) | L101: =IF(I101="","",I101-N(K101))
A102: =IF(B102="","",95) | F102: =IF(OR(E102="",IFERROR(MATCH(D102,$N$8:$N$13,0),0)=0),"",EDATE(E102,INDEX($O$8:$O$13,IFERROR(MATCH(D102,$N$8:$N$13,0),0)))-1) | G102: =IF(F102="","",F102-$J$5) | H102: =IF(G102="","",IF(G102<0,"Expired",IF(G102<=7,"Renew in "&G102&" days","Active"))) | I102: =IF(IFERROR(MATCH(D102,$N$8:$N$13,0),0)=0,"",INDEX($P$8:$P$13,IFERROR(MATCH(D102,$N$8:$N$13,0),0))) | L102: =IF(I102="","",I102-N(K102))
...

Sheet Fee Receipt
B2: ='Member Register'!$C$5 -> Iron Temple Fitness
B3: MEMBERSHIP FEE RECEIPT | I3: Member # to print ▼
I4: 3
B5: Receipt no. | C5: =$I$7 -> IT/101 | E5: Date | F5: ='Member Register'!$J$5 -> 46310
B6: Received from | C6: =IF(N($I$4)<1,"",INDEX('Member Register'!$B$8:$B$107,$I$4)) -> Rohit Dhillon | E6: Phone | F6: =IF(N($I$4)<1,"",INDEX('Member Register'!$C$8:$C$107,$I$4)) -> 9876011778 | I6: Receipt no.
B7: Plan | C7: =IF(N($I$4)<1,"",INDEX('Member Register'!$D$8:$D$107,$I$4)) -> Quarterly | E7: Valid | F7: =IF(N($I$4)<1,"",TEXT(INDEX('Member Register'!$E$8:$E$107,$I$4),"dd-mmm-yy")&" to "&TEXT(INDEX('Member Register'!$F$8:$F$107,$I$4),"dd-mmm-yy")) -> 21-Jul-26 to 20-Oct-26 | I7: IT/101
B9: Amount received | F9: =IF(N($I$4)<1,"",INDEX('Member Register'!$K$8:$K$107,$I$4)) -> 3300
B10: =IF(L10<=0,"","Rupees "&TRIM(IF(L11>0,INDEX(Lists!$W$1:$W$99,L11)&" Crore ","")&IF(L12>0,INDEX(Lists!$W$1:$W$99,L12)&" Lakh ","")&IF(L13>0,INDEX(Lists!$W$1:$W$99,L13)&" Thousand ","")&IF(L14>0,INDEX(Lists!$W$1:$W$99,L14)&" Hundred ","")&IF(L15>0,INDEX(Lists!$W$1:$W$99,L15),""))&" Only") -> Rupees Three Thousand Three Hundred Only | L10: =INT(N(F9)) -> 3300
B11: =IF(N($I$4)<1,"","Balance due: ₹"&TEXT(N(INDEX('Member Register'!$L$8:$L$107,$I$4)),"#,##,##0")) -> Balance due: ₹0 | L11: =INT(L10/10000000) -> 0
L12: =INT(MOD(L10,10000000)/100000) -> 0
L13: =INT(MOD(L10,100000)/1000) -> 3
B14: Fees once paid are not refundable. | E14: Authorised signatory | L14: =INT(MOD(L10,1000)/100) -> 3
L15: =MOD(L10,100) -> 0
B16: Free template by xplorexcel.com

Sheet Lists
A1: UPI | B1: Per sq ft | C1: Monthly | D1: 1 | E1: 1200 | W1: One
A2: Cash | B2: Fixed | C2: Quarterly | D2: 3 | E2: 3300 | W2: Two
A3: Cheque | C3: Half-yearly | D3: 6 | E3: 6000 | W3: Three
A4: Bank transfer | C4: Yearly | D4: 12 | E4: 10000 | W4: Four
A5: Card | W5: Five
W6: Six
W7: Seven
W8: Eight
W9: Nine
W10: Ten
W11: Eleven
W12: Twelve
W13: Thirteen
W14: Fourteen
W15: Fifteen
W16: Sixteen
W17: Seventeen
... W99: Ninety-Nine
