Workbook

Sheet Enter Bill
B5: RA Bill – enter details
B6: Fill the yellow cells. Quantities up to the previous bill + this bill = up to date. Then print the 'RA Bill' sheet.
B8: Name of work | D8: Repair of internal roads and drains, Block C
B9: Agreement / work order no. & date | D9: WO/2026/112 dated 05-Jun-2026
B10: Contractor | D10: M/s Gill Construction Co.
B11: Client / department | D11: Executive Engineer, Sample Works Division
B12: RA bill no. | D12: 3rd RA Bill
B13: Bill period | D13: 01-Sep-2026 to 30-Sep-2026
B14: Bill date | D14: 46298
B16: Item | C16: Description | D16: Unit | E16: Rate (₹) | F16: Qty up to previous bill | G16: Qty this bill | H16: Qty up to date | I16: Amount this bill (₹)
B17: 1 | C17: Earthwork in excavation | D17: cum | E17: 245 | F17: 320 | G17: 85.5 | H17: =IF(C17="","",N(F17)+N(G17)) -> 405.5 | I17: =IF(C17="","",ROUND(N(G17)*N(E17),2)) -> 20947.5
B18: 2 | C18: PCC 1:4:8 | D18: cum | E18: 5650 | F18: 42 | G18: 12.4 | H18: =IF(C18="","",N(F18)+N(G18)) -> 54.4 | I18: =IF(C18="","",ROUND(N(G18)*N(E18),2)) -> 70060
B19: 3 | C19: WBM grade II, 100 mm | D19: cum | E19: 2480 | F19: 110 | G19: 64.2 | H19: =IF(C19="","",N(F19)+N(G19)) -> 174.2 | I19: =IF(C19="","",ROUND(N(G19)*N(E19),2)) -> 159216
B20: 4 | C20: Interlocking paver 80 mm | D20: sqm | E20: 895 | F20: 0 | G20: 410 | H20: =IF(C20="","",N(F20)+N(G20)) -> 410 | I20: =IF(C20="","",ROUND(N(G20)*N(E20),2)) -> 366950
B21: 5 | C21: Precast kerb stone | D21: m | E21: 465 | F21: 120 | G21: 96 | H21: =IF(C21="","",N(F21)+N(G21)) -> 216 | I21: =IF(C21="","",ROUND(N(G21)*N(E21),2)) -> 44640
B22: 6 | C22: RCC drain 450 mm with cover | D22: m | E22: 2350 | F22: 48 | G22: 36 | H22: =IF(C22="","",N(F22)+N(G22)) -> 84 | I22: =IF(C22="","",ROUND(N(G22)*N(E22),2)) -> 84600
H23: =IF(C23="","",N(F23)+N(G23)) | I23: =IF(C23="","",ROUND(N(G23)*N(E23),2))
H24: =IF(C24="","",N(F24)+N(G24)) | I24: =IF(C24="","",ROUND(N(G24)*N(E24),2))
H25: =IF(C25="","",N(F25)+N(G25)) | I25: =IF(C25="","",ROUND(N(G25)*N(E25),2))
H26: =IF(C26="","",N(F26)+N(G26)) | I26: =IF(C26="","",ROUND(N(G26)*N(E26),2))
H27: =IF(C27="","",N(F27)+N(G27)) | I27: =IF(C27="","",ROUND(N(G27)*N(E27),2))
H28: =IF(C28="","",N(F28)+N(G28)) | I28: =IF(C28="","",ROUND(N(G28)*N(E28),2))
H29: =IF(C29="","",N(F29)+N(G29)) | I29: =IF(C29="","",ROUND(N(G29)*N(E29),2))
H30: =IF(C30="","",N(F30)+N(G30)) | I30: =IF(C30="","",ROUND(N(G30)*N(E30),2))
H31: =IF(C31="","",N(F31)+N(G31)) | I31: =IF(C31="","",ROUND(N(G31)*N(E31),2))
H32: =IF(C32="","",N(F32)+N(G32)) | I32: =IF(C32="","",ROUND(N(G32)*N(E32),2))
H33: =IF(C33="","",N(F33)+N(G33)) | I33: =IF(C33="","",ROUND(N(G33)*N(E33),2))
H34: =IF(C34="","",N(F34)+N(G34)) | I34: =IF(C34="","",ROUND(N(G34)*N(E34),2))
... H36: =IF(C36="","",N(F36)+N(G36)) | I36: =IF(C36="","",ROUND(N(G36)*N(E36),2))
C38: Gross value of work – this bill | I38: =SUM(I17:I36) -> 746413.5
C40: GST on bill (%) | D40: 0.18
C41: Income-tax TDS (%) | D41: 0.02
C42: GST TDS (%) – 0 if not applicable | D42: 0.02
C43: Labour cess (%) | D43: 0.01
C44: Security deposit / retention (%) | D44: 0.05
C45: Mobilisation / other advance recovery (₹) | D45: 20000
C47: Need BOQ, measurement book (L × B × D), all RA bills, payments received and a deviation statement in one file? See XploreWorks – Contractor RA Bill & BOQ Manager on the xplorexcel.com store.

Sheet RA Bill
B2: ="RUNNING ACCOUNT BILL – "&UPPER('Enter Bill'!$D$12) -> RUNNING ACCOUNT BILL – 3RD RA BILL
B4: Name of work | D4: ='Enter Bill'!$D$8 -> Repair of internal roads and drains, Block C
B5: Agreement / WO | D5: ='Enter Bill'!$D$9 -> WO/2026/112 dated 05-Jun-2026
B6: Contractor | D6: ='Enter Bill'!$D$10 -> M/s Gill Construction Co.
B7: Client | D7: ='Enter Bill'!$D$11 -> Executive Engineer, Sample Works Division
B8: Bill period | D8: ='Enter Bill'!$D$13 -> 01-Sep-2026 to 30-Sep-2026
B9: Bill date | D9: ='Enter Bill'!$D$14 -> 46298
L10: =INT(N(I40)) -> 786127
B11: Item | C11: Description | D11: Unit | E11: Rate (₹) | F11: Qty up to previous bill | G11: Qty this bill | H11: Qty up to date | I11: Amount this bill (₹) | L11: =INT(L10/10000000) -> 0
B12: =IF('Enter Bill'!$C$17="","",'Enter Bill'!B17) -> 1 | C12: =IF('Enter Bill'!$C$17="","",'Enter Bill'!C17) -> Earthwork in excavation | D12: =IF('Enter Bill'!$C$17="","",'Enter Bill'!D17) -> cum | E12: =IF('Enter Bill'!$C$17="","",'Enter Bill'!E17) -> 245 | F12: =IF('Enter Bill'!$C$17="","",'Enter Bill'!F17) -> 320 | G12: =IF('Enter Bill'!$C$17="","",'Enter Bill'!G17) -> 85.5 | H12: =IF('Enter Bill'!$C$17="","",'Enter Bill'!H17) -> 405.5 | I12: =IF('Enter Bill'!$C$17="","",'Enter Bill'!I17) -> 20947.5 | L12: =INT(MOD(L10,10000000)/100000) -> 7
B13: =IF('Enter Bill'!$C$18="","",'Enter Bill'!B18) -> 2 | C13: =IF('Enter Bill'!$C$18="","",'Enter Bill'!C18) -> PCC 1:4:8 | D13: =IF('Enter Bill'!$C$18="","",'Enter Bill'!D18) -> cum | E13: =IF('Enter Bill'!$C$18="","",'Enter Bill'!E18) -> 5650 | F13: =IF('Enter Bill'!$C$18="","",'Enter Bill'!F18) -> 42 | G13: =IF('Enter Bill'!$C$18="","",'Enter Bill'!G18) -> 12.4 | H13: =IF('Enter Bill'!$C$18="","",'Enter Bill'!H18) -> 54.4 | I13: =IF('Enter Bill'!$C$18="","",'Enter Bill'!I18) -> 70060 | L13: =INT(MOD(L10,100000)/1000) -> 86
B14: =IF('Enter Bill'!$C$19="","",'Enter Bill'!B19) -> 3 | C14: =IF('Enter Bill'!$C$19="","",'Enter Bill'!C19) -> WBM grade II, 100 mm | D14: =IF('Enter Bill'!$C$19="","",'Enter Bill'!D19) -> cum | E14: =IF('Enter Bill'!$C$19="","",'Enter Bill'!E19) -> 2480 | F14: =IF('Enter Bill'!$C$19="","",'Enter Bill'!F19) -> 110 | G14: =IF('Enter Bill'!$C$19="","",'Enter Bill'!G19) -> 64.2 | H14: =IF('Enter Bill'!$C$19="","",'Enter Bill'!H19) -> 174.2 | I14: =IF('Enter Bill'!$C$19="","",'Enter Bill'!I19) -> 159216 | L14: =INT(MOD(L10,1000)/100) -> 1
B15: =IF('Enter Bill'!$C$20="","",'Enter Bill'!B20) -> 4 | C15: =IF('Enter Bill'!$C$20="","",'Enter Bill'!C20) -> Interlocking paver 80 mm | D15: =IF('Enter Bill'!$C$20="","",'Enter Bill'!D20) -> sqm | E15: =IF('Enter Bill'!$C$20="","",'Enter Bill'!E20) -> 895 | F15: =IF('Enter Bill'!$C$20="","",'Enter Bill'!F20) -> 0 | G15: =IF('Enter Bill'!$C$20="","",'Enter Bill'!G20) -> 410 | H15: =IF('Enter Bill'!$C$20="","",'Enter Bill'!H20) -> 410 | I15: =IF('Enter Bill'!$C$20="","",'Enter Bill'!I20) -> 366950 | L15: =MOD(L10,100) -> 27
B16: =IF('Enter Bill'!$C$21="","",'Enter Bill'!B21) -> 5 | C16: =IF('Enter Bill'!$C$21="","",'Enter Bill'!C21) -> Precast kerb stone | D16: =IF('Enter Bill'!$C$21="","",'Enter Bill'!D21) -> m | E16: =IF('Enter Bill'!$C$21="","",'Enter Bill'!E21) -> 465 | F16: =IF('Enter Bill'!$C$21="","",'Enter Bill'!F21) -> 120 | G16: =IF('Enter Bill'!$C$21="","",'Enter Bill'!G21) -> 96 | H16: =IF('Enter Bill'!$C$21="","",'Enter Bill'!H21) -> 216 | I16: =IF('Enter Bill'!$C$21="","",'Enter Bill'!I21) -> 44640
B17: =IF('Enter Bill'!$C$22="","",'Enter Bill'!B22) -> 6 | C17: =IF('Enter Bill'!$C$22="","",'Enter Bill'!C22) -> RCC drain 450 mm with cover | D17: =IF('Enter Bill'!$C$22="","",'Enter Bill'!D22) -> m | E17: =IF('Enter Bill'!$C$22="","",'Enter Bill'!E22) -> 2350 | F17: =IF('Enter Bill'!$C$22="","",'Enter Bill'!F22) -> 48 | G17: =IF('Enter Bill'!$C$22="","",'Enter Bill'!G22) -> 36 | H17: =IF('Enter Bill'!$C$22="","",'Enter Bill'!H22) -> 84 | I17: =IF('Enter Bill'!$C$22="","",'Enter Bill'!I22) -> 84600
B18: =IF('Enter Bill'!$C$23="","",'Enter Bill'!B23) | C18: =IF('Enter Bill'!$C$23="","",'Enter Bill'!C23) | D18: =IF('Enter Bill'!$C$23="","",'Enter Bill'!D23) | E18: =IF('Enter Bill'!$C$23="","",'Enter Bill'!E23) | F18: =IF('Enter Bill'!$C$23="","",'Enter Bill'!F23) | G18: =IF('Enter Bill'!$C$23="","",'Enter Bill'!G23) | H18: =IF('Enter Bill'!$C$23="","",'Enter Bill'!H23) | I18: =IF('Enter Bill'!$C$23="","",'Enter Bill'!I23)
B19: =IF('Enter Bill'!$C$24="","",'Enter Bill'!B24) | C19: =IF('Enter Bill'!$C$24="","",'Enter Bill'!C24) | D19: =IF('Enter Bill'!$C$24="","",'Enter Bill'!D24) | E19: =IF('Enter Bill'!$C$24="","",'Enter Bill'!E24) | F19: =IF('Enter Bill'!$C$24="","",'Enter Bill'!F24) | G19: =IF('Enter Bill'!$C$24="","",'Enter Bill'!G24) | H19: =IF('Enter Bill'!$C$24="","",'Enter Bill'!H24) | I19: =IF('Enter Bill'!$C$24="","",'Enter Bill'!I24)
B20: =IF('Enter Bill'!$C$25="","",'Enter Bill'!B25) | C20: =IF('Enter Bill'!$C$25="","",'Enter Bill'!C25) | D20: =IF('Enter Bill'!$C$25="","",'Enter Bill'!D25) | E20: =IF('Enter Bill'!$C$25="","",'Enter Bill'!E25) | F20: =IF('Enter Bill'!$C$25="","",'Enter Bill'!F25) | G20: =IF('Enter Bill'!$C$25="","",'Enter Bill'!G25) | H20: =IF('Enter Bill'!$C$25="","",'Enter Bill'!H25) | I20: =IF('Enter Bill'!$C$25="","",'Enter Bill'!I25)
B21: =IF('Enter Bill'!$C$26="","",'Enter Bill'!B26) | C21: =IF('Enter Bill'!$C$26="","",'Enter Bill'!C26) | D21: =IF('Enter Bill'!$C$26="","",'Enter Bill'!D26) | E21: =IF('Enter Bill'!$C$26="","",'Enter Bill'!E26) | F21: =IF('Enter Bill'!$C$26="","",'Enter Bill'!F26) | G21: =IF('Enter Bill'!$C$26="","",'Enter Bill'!G26) | H21: =IF('Enter Bill'!$C$26="","",'Enter Bill'!H26) | I21: =IF('Enter Bill'!$C$26="","",'Enter Bill'!I26)
B22: =IF('Enter Bill'!$C$27="","",'Enter Bill'!B27) | C22: =IF('Enter Bill'!$C$27="","",'Enter Bill'!C27) | D22: =IF('Enter Bill'!$C$27="","",'Enter Bill'!D27) | E22: =IF('Enter Bill'!$C$27="","",'Enter Bill'!E27) | F22: =IF('Enter Bill'!$C$27="","",'Enter Bill'!F27) | G22: =IF('Enter Bill'!$C$27="","",'Enter Bill'!G27) | H22: =IF('Enter Bill'!$C$27="","",'Enter Bill'!H27) | I22: =IF('Enter Bill'!$C$27="","",'Enter Bill'!I27)
B23: =IF('Enter Bill'!$C$28="","",'Enter Bill'!B28) | C23: =IF('Enter Bill'!$C$28="","",'Enter Bill'!C28) | D23: =IF('Enter Bill'!$C$28="","",'Enter Bill'!D28) | E23: =IF('Enter Bill'!$C$28="","",'Enter Bill'!E28) | F23: =IF('Enter Bill'!$C$28="","",'Enter Bill'!F28) | G23: =IF('Enter Bill'!$C$28="","",'Enter Bill'!G28) | H23: =IF('Enter Bill'!$C$28="","",'Enter Bill'!H28) | I23: =IF('Enter Bill'!$C$28="","",'Enter Bill'!I28)
B24: =IF('Enter Bill'!$C$29="","",'Enter Bill'!B29) | C24: =IF('Enter Bill'!$C$29="","",'Enter Bill'!C29) | D24: =IF('Enter Bill'!$C$29="","",'Enter Bill'!D29) | E24: =IF('Enter Bill'!$C$29="","",'Enter Bill'!E29) | F24: =IF('Enter Bill'!$C$29="","",'Enter Bill'!F29) | G24: =IF('Enter Bill'!$C$29="","",'Enter Bill'!G29) | H24: =IF('Enter Bill'!$C$29="","",'Enter Bill'!H29) | I24: =IF('Enter Bill'!$C$29="","",'Enter Bill'!I29)
B25: =IF('Enter Bill'!$C$30="","",'Enter Bill'!B30) | C25: =IF('Enter Bill'!$C$30="","",'Enter Bill'!C30) | D25: =IF('Enter Bill'!$C$30="","",'Enter Bill'!D30) | E25: =IF('Enter Bill'!$C$30="","",'Enter Bill'!E30) | F25: =IF('Enter Bill'!$C$30="","",'Enter Bill'!F30) | G25: =IF('Enter Bill'!$C$30="","",'Enter Bill'!G30) | H25: =IF('Enter Bill'!$C$30="","",'Enter Bill'!H30) | I25: =IF('Enter Bill'!$C$30="","",'Enter Bill'!I30)
B26: =IF('Enter Bill'!$C$31="","",'Enter Bill'!B31) | C26: =IF('Enter Bill'!$C$31="","",'Enter Bill'!C31) | D26: =IF('Enter Bill'!$C$31="","",'Enter Bill'!D31) | E26: =IF('Enter Bill'!$C$31="","",'Enter Bill'!E31) | F26: =IF('Enter Bill'!$C$31="","",'Enter Bill'!F31) | G26: =IF('Enter Bill'!$C$31="","",'Enter Bill'!G31) | H26: =IF('Enter Bill'!$C$31="","",'Enter Bill'!H31) | I26: =IF('Enter Bill'!$C$31="","",'Enter Bill'!I31)
B27: =IF('Enter Bill'!$C$32="","",'Enter Bill'!B32) | C27: =IF('Enter Bill'!$C$32="","",'Enter Bill'!C32) | D27: =IF('Enter Bill'!$C$32="","",'Enter Bill'!D32) | E27: =IF('Enter Bill'!$C$32="","",'Enter Bill'!E32) | F27: =IF('Enter Bill'!$C$32="","",'Enter Bill'!F32) | G27: =IF('Enter Bill'!$C$32="","",'Enter Bill'!G32) | H27: =IF('Enter Bill'!$C$32="","",'Enter Bill'!H32) | I27: =IF('Enter Bill'!$C$32="","",'Enter Bill'!I32)
B28: =IF('Enter Bill'!$C$33="","",'Enter Bill'!B33) | C28: =IF('Enter Bill'!$C$33="","",'Enter Bill'!C33) | D28: =IF('Enter Bill'!$C$33="","",'Enter Bill'!D33) | E28: =IF('Enter Bill'!$C$33="","",'Enter Bill'!E33) | F28: =IF('Enter Bill'!$C$33="","",'Enter Bill'!F33) | G28: =IF('Enter Bill'!$C$33="","",'Enter Bill'!G33) | H28: =IF('Enter Bill'!$C$33="","",'Enter Bill'!H33) | I28: =IF('Enter Bill'!$C$33="","",'Enter Bill'!I33)
B29: =IF('Enter Bill'!$C$34="","",'Enter Bill'!B34) | C29: =IF('Enter Bill'!$C$34="","",'Enter Bill'!C34) | D29: =IF('Enter Bill'!$C$34="","",'Enter Bill'!D34) | E29: =IF('Enter Bill'!$C$34="","",'Enter Bill'!E34) | F29: =IF('Enter Bill'!$C$34="","",'Enter Bill'!F34) | G29: =IF('Enter Bill'!$C$34="","",'Enter Bill'!G34) | H29: =IF('Enter Bill'!$C$34="","",'Enter Bill'!H34) | I29: =IF('Enter Bill'!$C$34="","",'Enter Bill'!I34)
B30: =IF('Enter Bill'!$C$35="","",'Enter Bill'!B35) | C30: =IF('Enter Bill'!$C$35="","",'Enter Bill'!C35) | D30: =IF('Enter Bill'!$C$35="","",'Enter Bill'!D35) | E30: =IF('Enter Bill'!$C$35="","",'Enter Bill'!E35) | F30: =IF('Enter Bill'!$C$35="","",'Enter Bill'!F35) | G30: =IF('Enter Bill'!$C$35="","",'Enter Bill'!G35) | H30: =IF('Enter Bill'!$C$35="","",'Enter Bill'!H35) | I30: =IF('Enter Bill'!$C$35="","",'Enter Bill'!I35)
B31: =IF('Enter Bill'!$C$36="","",'Enter Bill'!B36) | C31: =IF('Enter Bill'!$C$36="","",'Enter Bill'!C36) | D31: =IF('Enter Bill'!$C$36="","",'Enter Bill'!D36) | E31: =IF('Enter Bill'!$C$36="","",'Enter Bill'!E36) | F31: =IF('Enter Bill'!$C$36="","",'Enter Bill'!F36) | G31: =IF('Enter Bill'!$C$36="","",'Enter Bill'!G36) | H31: =IF('Enter Bill'!$C$36="","",'Enter Bill'!H36) | I31: =IF('Enter Bill'!$C$36="","",'Enter Bill'!I36)
C32: Gross value of work – this bill | I32: ='Enter Bill'!$I$38 -> 746413.5
C33: ="Add: GST @ "&TEXT('Enter Bill'!$D$40,"0%") -> Add: GST @ 18% | I33: =ROUND(I32*'Enter Bill'!$D$40,0) -> 134354
C34: Bill amount including GST | I34: =ROUND(I32,0)+I33 -> 880768
C35: Less: Income-tax TDS | I35: =ROUND(I32*'Enter Bill'!$D$41,0) -> 14928
C36: Less: GST TDS | I36: =ROUND(I32*'Enter Bill'!$D$42,0) -> 14928
C37: Less: Labour cess | I37: =ROUND(I32*'Enter Bill'!$D$43,0) -> 7464
C38: Less: Security deposit / retention | I38: =ROUND(I32*'Enter Bill'!$D$44,0) -> 37321
C39: Less: Advance recovery | I39: =N('Enter Bill'!$D$45) -> 20000
C40: NET AMOUNT PAYABLE | I40: =I34-SUM(I35:I39) -> 786127
B42: ="Net payable: "&IF(L10<=0,"","Rupees "&TRIM(IF(L11>0,INDEX(Lists!$W$1:$W$99,L11)&" Crore ","")&IF(L12>0,INDEX(Lists!$W$1:$W$99,L12)&" Lakh ","")&IF(L13>0,INDEX(Lists!$W$1:$W$99,L13)&" Thousand ","")&IF(L14>0,INDEX(Lists!$W$1:$W$99,L14)&" Hundred ","")&IF(L15>0,INDEX(Lists!$W$1:$W$99,L15),""))&" Only") -> Net payable: Rupees Seven Lakh Eighty-Six Thousand One Hundred Twenty-Seven Only
B45: ____________________ | D45: ____________________ | F45: ____________________ | H45: ____________________
...

Sheet Lists
A1: UPI | B1: Per sq ft | W1: One
A2: Cash | B2: Fixed | W2: Two
A3: Cheque | W3: Three
A4: Bank transfer | W4: Four
A5: Card | W5: Five
W6: Six
W7: Seven
W8: Eight
W9: Nine
W10: Ten
W11: Eleven
W12: Twelve
W13: Thirteen
W14: Fourteen
W15: Fifteen
W16: Sixteen
W17: Seventeen
... W99: Ninety-Nine
