Workbook
Name AccountCode: '[1]Account Codes'!$A$1:$A$12
Name Accounts: #REF!
Name April: Data!$D$2:$D$31
Name CustomersName: OFFSET('[2]Customer Master'!$C$1,1,0,COUNTA('[2]Customer Master'!$C:$C)-1,1)
Name Expense: #REF!
Name Expense: #REF!
Name Expense: #REF!
Name Expense: #REF!
Name Expense: #REF!
Name Expense: #REF!
Name Expense: #REF!
Name Expense: #REF!
Name Expense: #REF!
Name Expense: #REF!
Name Expense: #REF!
Name Expense: #REF!
Name FoundName: OFFSET('[2]Create Quotation'!$AD$2,1,0,COUNTA('[2]Create Quotation'!$AD:$AD)-1,1)
Name FY: Data!$D$2:$D$31
Name Income: #REF!
Name Income: #REF!
Name Income: #REF!
Name Income: #REF!
Name Income: #REF!
Name Income: #REF!
Name Income: #REF!
Name Income: #REF!
Name Income: #REF!
Name Income: #REF!
Name Income: #REF!
Name Income: #REF!
Name Items: OFFSET('[2]Stock List'!$B$1,1,0,COUNTA('[2]Stock List'!$B:$B)-1,1)
Name January: Data!$B$2:$B$31
Name picture: #REF!
Name picture_2: #REF!
Name picture_3: #REF!
Name Rate_of_GST: [2]DATA!$F$2:$F$8
Name SreachResults: OFFSET('[2]Create Quotation'!$Y$2,1,0,COUNTA('[2]Create Quotation'!$Y:$Y)-1,1)
Name state: [2]DATA!$B$2:$B$37
Name years: Report!$N$2:$N$32

Sheet About Workbook
A1: Feature of Saving Tracker Template 1.0 in Microsoft Excel : -
A2: 1 | B2: Life-Time Free Excess of 1.0 version
A3: =1+A2 -> 2 | B3: Dynamic Excel Workbook
A4: =1+A3 -> 3 | B4: Calculate the amount of Saving you should have to make within the Month with the fixed Percentage
A5: =1+A4 -> 4 | B5: You can choose your own distribution of income amoung three types of the major group
A6: =1+A5 -> 5 | B6: You will know the difference of amount which short or excess in the total saving of the month automatically
A7: =1+A6 -> 6 | B7: Included Three sources of spending your earing: 1. Saving 2.Necessity and 3. Entertainment
A8: =1+A7 -> 7 | B8: Month wise Data recording
A9: =1+A8 -> 8 | B9: Colorful format on all worksheet
A10: =1+A9 -> 9 | B10: Colorful Dashboard will help you to jump to your recording month sheet
A11: =1+A10 -> 10 | B11: Month wise separate worksheet
A12: =1+A11 -> 11 | B12: The total combination of 16 worksheets
A13: =1+A12 -> 12 | B13: Year Report In the separate worksheet
A14: =1+A13 -> 13 | B14: You can choose the Expenditure Group account from the drop-down menu not need to write again and again.
A15: =1+A14 -> 14 | B15: Automatic Expense wise amount pasted in the related Expenses account
A16: =1+A15 -> 15 | B16: Total of expenses are shown above on all transactions | I16: Check out our templates @ xplorexcel.com
A17: =1+A16 -> 16 | B17: Unlimited transactions can be recorded.
A18: =1+A17 -> 17 | B18: You can record transactions up the limit of the excel i.e. 1048576
A19: =1+A18 -> 18 | B19: Just copy the last row with the format and then paste it to increase the number of rows

Sheet Dashboard 
B2: Record Transaction Month Wise
B3: Year | C3: =+Report!L3 -> 2021 | E3: Click on year to check out the year report
B5: Month | C5: Name of Month | E5: Click on the Name of the Month to record transaction in that month
B7: 1st | C7: =+Report!B7 -> Jan-2021
B9: 2nd | C9: =+Report!B8 -> Feb-2021
B11: 3rd | C11: =+Report!B9 -> Mar-2021
B13: 4th | C13: =+Report!B10 -> Apr-2021
B15: 5th | C15: =+Report!B11 -> May-2021 | J15: Designed by | Q15: Check out our templates @ xplorexcel.com
B17: 6th | C17: =+Report!B12 -> Jun-2021
B19: 7th | C19: =+Report!B13 -> Jul-2021
B21: 8th | C21: =+Report!B14 -> Aug-2021
B23: 9th | C23: =+Report!B15 -> Sep-2021
B25: 10th | C25: =+Report!B16 -> Oct-2021
B27: 11th | C27: =+Report!B17 -> Nov-2021
B29: 12th | C29: =+Report!B18 -> Dec-2021

Sheet Report
B1: Saving Tracker
B2: In which ratio you want to spent you earing (Default 20-50-30 adopted) | F2: Saving | G2: Necessity | H2: Entertainment | L2: Year | N2: 2021
F3: 0.2 | G3: 0.5 | H3: 0.3 | L3: 2021 | N3: =+N2+1 -> 2022
N4: =+N3+1 -> 2023
B5: Month | C5: Total Income For the Month | D5: Saving | G5: Necessity | J5: Entertainment | N5: =+N4+1 -> 2024
D6: Budget @20% | E6: Actual | F6: Difference | G6: Budget@50% | H6: Actual | I6: Difference | J6: Budget @30% | K6: Actual | L6: Difference | N6: =+N5+1 -> 2025
B7: ="Jan-"&$L$3 -> Jan-2021 | C7: 1000000 | D7: =+IF($C7>0,$C7*$F$3,"") -> 200000 | E7: =+IFERROR(C7-H7-K7,"") -> 437500 | F7: =+IFERROR(E7-D7,"") -> 237500 | G7: =+IF($C7>0,$C7*$G$3,"") -> 500000 | H7: =+'1st Month'!F5 -> 555000 | I7: =+IFERROR(G7-H7,"") -> -55000 | J7: =+IF($C7>0,$C7*$H$3,"") -> 300000 | K7: =+'1st Month'!G5 -> 7500 | L7: =+IFERROR(J7-K7,"") -> 292500 | N7: =+N6+1 -> 2026
B8: ="Feb-"&$L$3 -> Feb-2021 | D8: =+IF($C8>0,$C8*$F$3,"") | E8: =+IFERROR(C8-H8-K8,"") -> 0 | F8: =+IFERROR(E8-D8,"") | G8: =+IF($C8>0,$C8*$G$3,"") | I8: =+IFERROR(G8-H8,"") | J8: =+IF($C8>0,$C8*$H$3,"") | L8: =+IFERROR(J8-K8,"") | N8: =+N7+1 -> 2027
B9: ="Mar-"&$L$3 -> Mar-2021 | D9: =+IF($C9>0,$C9*$F$3,"") | E9: =+IFERROR(C9-H9-K9,"") -> 0 | F9: =+IFERROR(E9-D9,"") | G9: =+IF($C9>0,$C9*$G$3,"") | I9: =+IFERROR(G9-H9,"") | J9: =+IF($C9>0,$C9*$H$3,"") | L9: =+IFERROR(J9-K9,"") | N9: =+N8+1 -> 2028
B10: ="Apr-"&$L$3 -> Apr-2021 | D10: =+IF($C10>0,$C10*$F$3,"") | E10: =+IFERROR(C10-H10-K10,"") -> 0 | F10: =+IFERROR(E10-D10,"") | G10: =+IF($C10>0,$C10*$G$3,"") | I10: =+IFERROR(G10-H10,"") | J10: =+IF($C10>0,$C10*$H$3,"") | L10: =+IFERROR(J10-K10,"") | N10: =+N9+1 -> 2029
B11: ="May-"&$L$3 -> May-2021 | D11: =+IF($C11>0,$C11*$F$3,"") | E11: =+IFERROR(C11-H11-K11,"") -> 0 | F11: =+IFERROR(E11-D11,"") | G11: =+IF($C11>0,$C11*$G$3,"") | I11: =+IFERROR(G11-H11,"") | J11: =+IF($C11>0,$C11*$H$3,"") | L11: =+IFERROR(J11-K11,"") | N11: =+N10+1 -> 2030
B12: ="Jun-"&$L$3 -> Jun-2021 | D12: =+IF($C12>0,$C12*$F$3,"") | E12: =+IFERROR(C12-H12-K12,"") -> 0 | F12: =+IFERROR(E12-D12,"") | G12: =+IF($C12>0,$C12*$G$3,"") | I12: =+IFERROR(G12-H12,"") | J12: =+IF($C12>0,$C12*$H$3,"") | L12: =+IFERROR(J12-K12,"") | N12: =+N11+1 -> 2031
B13: ="Jul-"&$L$3 -> Jul-2021 | D13: =+IF($C13>0,$C13*$F$3,"") | E13: =+IFERROR(C13-H13-K13,"") -> 0 | F13: =+IFERROR(E13-D13,"") | G13: =+IF($C13>0,$C13*$G$3,"") | I13: =+IFERROR(G13-H13,"") | J13: =+IF($C13>0,$C13*$H$3,"") | L13: =+IFERROR(J13-K13,"") | N13: =+N12+1 -> 2032
B14: ="Aug-"&$L$3 -> Aug-2021 | D14: =+IF($C14>0,$C14*$F$3,"") | E14: =+IFERROR(C14-H14-K14,"") -> 0 | F14: =+IFERROR(E14-D14,"") | G14: =+IF($C14>0,$C14*$G$3,"") | I14: =+IFERROR(G14-H14,"") | J14: =+IF($C14>0,$C14*$H$3,"") | L14: =+IFERROR(J14-K14,"") | N14: =+N13+1 -> 2033
B15: ="Sep-"&$L$3 -> Sep-2021 | D15: =+IF($C15>0,$C15*$F$3,"") | E15: =+IFERROR(C15-H15-K15,"") -> 0 | F15: =+IFERROR(E15-D15,"") | G15: =+IF($C15>0,$C15*$G$3,"") | I15: =+IFERROR(G15-H15,"") | J15: =+IF($C15>0,$C15*$H$3,"") | L15: =+IFERROR(J15-K15,"") | N15: =+N14+1 -> 2034
B16: ="Oct-"&$L$3 -> Oct-2021 | D16: =+IF($C16>0,$C16*$F$3,"") | E16: =+IFERROR(C16-H16-K16,"") -> 0 | F16: =+IFERROR(E16-D16,"") | G16: =+IF($C16>0,$C16*$G$3,"") | I16: =+IFERROR(G16-H16,"") | J16: =+IF($C16>0,$C16*$H$3,"") | L16: =+IFERROR(J16-K16,"") | N16: =+N15+1 -> 2035
B17: ="Nov-"&$L$3 -> Nov-2021 | D17: =+IF($C17>0,$C17*$F$3,"") | E17: =+IFERROR(C17-H17-K17,"") -> 0 | F17: =+IFERROR(E17-D17,"") | G17: =+IF($C17>0,$C17*$G$3,"") | I17: =+IFERROR(G17-H17,"") | J17: =+IF($C17>0,$C17*$H$3,"") | L17: =+IFERROR(J17-K17,"") | N17: =+N16+1 -> 2036
B18: ="Dec-"&$L$3 -> Dec-2021 | D18: =+IF($C18>0,$C18*$F$3,"") | E18: =+IFERROR(C18-H18-K18,"") -> 0 | F18: =+IFERROR(E18-D18,"") | G18: =+IF($C18>0,$C18*$G$3,"") | I18: =+IFERROR(G18-H18,"") | J18: =+IF($C18>0,$C18*$H$3,"") | L18: =+IFERROR(J18-K18,"") | N18: =+N17+1 -> 2037
N19: =+N18+1 -> 2038
N20: =+N19+1 -> 2039
N21: =+N20+1 -> 2040
N22: =+N21+1 -> 2041
N23: =+N22+1 -> 2042
N24: =+N23+1 -> 2043
N25: =+N24+1 -> 2044
N26: =+N25+1 -> 2045
N27: =+N26+1 -> 2046
N28: =+N27+1 -> 2047
N29: =+N28+1 -> 2048
N30: =+N29+1 -> 2049
... N32: =+N31+1 -> 2051

Sheet Data
B1: C/Y | D1: F/Y | G1: Name of Month
B2: 2021 | C2: 22 | D2: =+B2&"-"&C2 -> 2021-22 | G2: January
B3: =+B2+1 -> 2022 | C3: =+C2+1 -> 23 | D3: =+B3&"-"&C3 -> 2022-23 | G3: February
B4: =+B3+1 -> 2023 | C4: =+C3+1 -> 24 | D4: =+B4&"-"&C4 -> 2023-24 | G4: March
B5: =+B4+1 -> 2024 | C5: =+C4+1 -> 25 | D5: =+B5&"-"&C5 -> 2024-25 | G5: April
B6: =+B5+1 -> 2025 | C6: =+C5+1 -> 26 | D6: =+B6&"-"&C6 -> 2025-26 | G6: May
B7: =+B6+1 -> 2026 | C7: =+C6+1 -> 27 | D7: =+B7&"-"&C7 -> 2026-27 | G7: June
B8: =+B7+1 -> 2027 | C8: =+C7+1 -> 28 | D8: =+B8&"-"&C8 -> 2027-28 | G8: July
B9: =+B8+1 -> 2028 | C9: =+C8+1 -> 29 | D9: =+B9&"-"&C9 -> 2028-29 | G9: August
B10: =+B9+1 -> 2029 | C10: =+C9+1 -> 30 | D10: =+B10&"-"&C10 -> 2029-30 | G10: September
B11: =+B10+1 -> 2030 | C11: =+C10+1 -> 31 | D11: =+B11&"-"&C11 -> 2030-31 | G11: October
B12: =+B11+1 -> 2031 | C12: =+C11+1 -> 32 | D12: =+B12&"-"&C12 -> 2031-32 | G12: November
B13: =+B12+1 -> 2032 | C13: =+C12+1 -> 33 | D13: =+B13&"-"&C13 -> 2032-33 | G13: December
B14: =+B13+1 -> 2033 | C14: =+C13+1 -> 34 | D14: =+B14&"-"&C14 -> 2033-34 | G14: January
... B16: =+B15+1 -> 2035 | C16: =+C15+1 -> 36 | D16: =+B16&"-"&C16 -> 2035-36 | G16: March
B17: =+B16+1 -> 2036 | C17: =+C16+1 -> 37 | D17: =+B17&"-"&C17 -> 2036-37
B18: =+B17+1 -> 2037 | C18: =+C17+1 -> 38 | D18: =+B18&"-"&C18 -> 2037-38
B19: =+B18+1 -> 2038 | C19: =+C18+1 -> 39 | D19: =+B19&"-"&C19 -> 2038-39
B20: =+B19+1 -> 2039 | C20: =+C19+1 -> 40 | D20: =+B20&"-"&C20 -> 2039-40
B21: =+B20+1 -> 2040 | C21: =+C20+1 -> 41 | D21: =+B21&"-"&C21 -> 2040-41
B22: =+B21+1 -> 2041 | C22: =+C21+1 -> 42 | D22: =+B22&"-"&C22 -> 2041-42
B23: =+B22+1 -> 2042 | C23: =+C22+1 -> 43 | D23: =+B23&"-"&C23 -> 2042-43
B24: =+B23+1 -> 2043 | C24: =+C23+1 -> 44 | D24: =+B24&"-"&C24 -> 2043-44
B25: =+B24+1 -> 2044 | C25: =+C24+1 -> 45 | D25: =+B25&"-"&C25 -> 2044-45
B26: =+B25+1 -> 2045 | C26: =+C25+1 -> 46 | D26: =+B26&"-"&C26 -> 2045-46
B27: =+B26+1 -> 2046 | C27: =+C26+1 -> 47 | D27: =+B27&"-"&C27 -> 2046-47
B28: =+B27+1 -> 2047 | C28: =+C27+1 -> 48 | D28: =+B28&"-"&C28 -> 2047-48
... B31: =+B30+1 -> 2050 | C31: =+C30+1 -> 51 | D31: =+B31&"-"&C31 -> 2050-51

Sheet 1st Month
A1: BACK TO DASHBOARD
A3: ="Daily Expenses Record"&" "&Report!$B$7 -> Daily Expenses Record Jan-2021 | D3: Check out our templates @ xplorexcel.com
A4: Date | B4: Narration | C4: Group of Expenditure | D4: Amount | F4: =+Report!G2 -> Necessity | G4: =+Report!H2 -> Entertainment
A5: Monthly Total Amount | F5: =SUM(F6:F1048573) -> 555000 | G5: =SUM(G6:G1048573) -> 7500
A6: 44197 | B6: Monthly Grocery | C6: Necessity | D6: 550000 | E6: =IF($C6=E$4,$D6,"") | F6: =IF($C6=F$4,$D6,"") -> 550000 | G6: =IF($C6=G$4,$D6,"")
A7: 44197 | B7: Mobile Bill | C7: Necessity | D7: 5000 | F7: =IF($C7=F$4,$D7,"") -> 5000 | G7: =IF($C7=G$4,$D7,"")
A8: 44232 | B8: Dinner with Girlfriend | C8: Entertainment | D8: 2500 | F8: =IF($C8=F$4,$D8,"") | G8: =IF($C8=G$4,$D8,"") -> 2500
A9: 44232 | B9: Friends Night out | C9: Entertainment | D9: 5000 | F9: =IF($C9=F$4,$D9,"") | G9: =IF($C9=G$4,$D9,"") -> 5000
F10: =IF($C10=F$4,$D10,"") | G10: =IF($C10=G$4,$D10,"")
F11: =IF($C11=F$4,$D11,"") | G11: =IF($C11=G$4,$D11,"")
F12: =IF($C12=F$4,$D12,"") | G12: =IF($C12=G$4,$D12,"")
F13: =IF($C13=F$4,$D13,"") | G13: =IF($C13=G$4,$D13,"")
F14: =IF($C14=F$4,$D14,"") | G14: =IF($C14=G$4,$D14,"")
F15: =IF($C15=F$4,$D15,"") | G15: =IF($C15=G$4,$D15,"")
F16: =IF($C16=F$4,$D16,"") | G16: =IF($C16=G$4,$D16,"")
F17: =IF($C17=F$4,$D17,"") | G17: =IF($C17=G$4,$D17,"")
F18: =IF($C18=F$4,$D18,"") | G18: =IF($C18=G$4,$D18,"")
F19: =IF($C19=F$4,$D19,"") | G19: =IF($C19=G$4,$D19,"")
F20: =IF($C20=F$4,$D20,"") | G20: =IF($C20=G$4,$D20,"")
F21: =IF($C21=F$4,$D21,"") | G21: =IF($C21=G$4,$D21,"")
... F264: =IF($C264=F$4,$D264,"") | G264: =IF($C264=G$4,$D264,"")

Sheet 2nd Month
A1: BACK TO DASHBOARD
A3: ="Daily Expenses Record"&" "&Report!$B$8 -> Daily Expenses Record Feb-2021 | D3: Check out our templates @ xplorexcel.com
A4: Date | B4: Narration | C4: Group of Expenditure | D4: Amount | F4: =+Report!G2 -> Necessity | G4: =+Report!H2 -> Entertainment
A5: Monthly Total Amount | F5: =SUM(F6:F1048573) -> 555000 | G5: =SUM(G6:G1048573) -> 7500
A6: 44197 | B6: Monthly Grocery | C6: Necessity | D6: 550000 | E6: =IF($C6=E$4,$D6,"") | F6: =IF($C6=F$4,$D6,"") -> 550000 | G6: =IF($C6=G$4,$D6,"")
A7: 44197 | B7: Mobile Bill | C7: Necessity | D7: 5000 | F7: =IF($C7=F$4,$D7,"") -> 5000 | G7: =IF($C7=G$4,$D7,"")
A8: 44232 | B8: Dinner with Girlfriend | C8: Entertainment | D8: 2500 | F8: =IF($C8=F$4,$D8,"") | G8: =IF($C8=G$4,$D8,"") -> 2500
A9: 44232 | B9: Friends Night out | C9: Entertainment | D9: 5000 | F9: =IF($C9=F$4,$D9,"") | G9: =IF($C9=G$4,$D9,"") -> 5000
F10: =IF($C10=F$4,$D10,"") | G10: =IF($C10=G$4,$D10,"")
F11: =IF($C11=F$4,$D11,"") | G11: =IF($C11=G$4,$D11,"")
F12: =IF($C12=F$4,$D12,"") | G12: =IF($C12=G$4,$D12,"")
F13: =IF($C13=F$4,$D13,"") | G13: =IF($C13=G$4,$D13,"")
F14: =IF($C14=F$4,$D14,"") | G14: =IF($C14=G$4,$D14,"")
F15: =IF($C15=F$4,$D15,"") | G15: =IF($C15=G$4,$D15,"")
F16: =IF($C16=F$4,$D16,"") | G16: =IF($C16=G$4,$D16,"")
F17: =IF($C17=F$4,$D17,"") | G17: =IF($C17=G$4,$D17,"")
F18: =IF($C18=F$4,$D18,"") | G18: =IF($C18=G$4,$D18,"")
F19: =IF($C19=F$4,$D19,"") | G19: =IF($C19=G$4,$D19,"")
F20: =IF($C20=F$4,$D20,"") | G20: =IF($C20=G$4,$D20,"")
F21: =IF($C21=F$4,$D21,"") | G21: =IF($C21=G$4,$D21,"")
... F264: =IF($C264=F$4,$D264,"") | G264: =IF($C264=G$4,$D264,"")

Sheet 3rd Month
A1: BACK TO DASHBOARD
A3: ="Daily Expenses Record"&" "&Report!$B$9 -> Daily Expenses Record Mar-2021 | D3: Check out our templates @ xplorexcel.com
A4: Date | B4: Narration | C4: Group of Expenditure | D4: Amount | F4: =+Report!G2 -> Necessity | G4: =+Report!H2 -> Entertainment
A5: Monthly Total Amount | F5: =SUM(F6:F1048573) -> 555000 | G5: =SUM(G6:G1048573) -> 7500
A6: 44197 | B6: Monthly Grocery | C6: Necessity | D6: 550000 | E6: =IF($C6=E$4,$D6,"") | F6: =IF($C6=F$4,$D6,"") -> 550000 | G6: =IF($C6=G$4,$D6,"")
A7: 44197 | B7: Mobile Bill | C7: Necessity | D7: 5000 | F7: =IF($C7=F$4,$D7,"") -> 5000 | G7: =IF($C7=G$4,$D7,"")
A8: 44232 | B8: Dinner with Girlfriend | C8: Entertainment | D8: 2500 | F8: =IF($C8=F$4,$D8,"") | G8: =IF($C8=G$4,$D8,"") -> 2500
A9: 44232 | B9: Friends Night out | C9: Entertainment | D9: 5000 | F9: =IF($C9=F$4,$D9,"") | G9: =IF($C9=G$4,$D9,"") -> 5000
F10: =IF($C10=F$4,$D10,"") | G10: =IF($C10=G$4,$D10,"")
F11: =IF($C11=F$4,$D11,"") | G11: =IF($C11=G$4,$D11,"")
F12: =IF($C12=F$4,$D12,"") | G12: =IF($C12=G$4,$D12,"")
F13: =IF($C13=F$4,$D13,"") | G13: =IF($C13=G$4,$D13,"")
F14: =IF($C14=F$4,$D14,"") | G14: =IF($C14=G$4,$D14,"")
F15: =IF($C15=F$4,$D15,"") | G15: =IF($C15=G$4,$D15,"")
F16: =IF($C16=F$4,$D16,"") | G16: =IF($C16=G$4,$D16,"")
F17: =IF($C17=F$4,$D17,"") | G17: =IF($C17=G$4,$D17,"")
F18: =IF($C18=F$4,$D18,"") | G18: =IF($C18=G$4,$D18,"")
F19: =IF($C19=F$4,$D19,"") | G19: =IF($C19=G$4,$D19,"")
F20: =IF($C20=F$4,$D20,"") | G20: =IF($C20=G$4,$D20,"")
F21: =IF($C21=F$4,$D21,"") | G21: =IF($C21=G$4,$D21,"")
... F264: =IF($C264=F$4,$D264,"") | G264: =IF($C264=G$4,$D264,"")

Sheet 4th Month
A1: BACK TO DASHBOARD
A3: ="Daily Expenses Record"&" "&Report!$B$10 -> Daily Expenses Record Apr-2021 | D3: Check out our templates @ xplorexcel.com
A4: Date | B4: Narration | C4: Group of Expenditure | D4: Amount | F4: =+Report!G2 -> Necessity | G4: =+Report!H2 -> Entertainment
A5: Monthly Total Amount | F5: =SUM(F6:F1048573) -> 555000 | G5: =SUM(G6:G1048573) -> 7500
A6: 44197 | B6: Monthly Grocery | C6: Necessity | D6: 550000 | E6: =IF($C6=E$4,$D6,"") | F6: =IF($C6=F$4,$D6,"") -> 550000 | G6: =IF($C6=G$4,$D6,"")
A7: 44197 | B7: Mobile Bill | C7: Necessity | D7: 5000 | F7: =IF($C7=F$4,$D7,"") -> 5000 | G7: =IF($C7=G$4,$D7,"")
A8: 44232 | B8: Dinner with Girlfriend | C8: Entertainment | D8: 2500 | F8: =IF($C8=F$4,$D8,"") | G8: =IF($C8=G$4,$D8,"") -> 2500
A9: 44232 | B9: Friends Night out | C9: Entertainment | D9: 5000 | F9: =IF($C9=F$4,$D9,"") | G9: =IF($C9=G$4,$D9,"") -> 5000
F10: =IF($C10=F$4,$D10,"") | G10: =IF($C10=G$4,$D10,"")
F11: =IF($C11=F$4,$D11,"") | G11: =IF($C11=G$4,$D11,"")
F12: =IF($C12=F$4,$D12,"") | G12: =IF($C12=G$4,$D12,"")
F13: =IF($C13=F$4,$D13,"") | G13: =IF($C13=G$4,$D13,"")
F14: =IF($C14=F$4,$D14,"") | G14: =IF($C14=G$4,$D14,"")
F15: =IF($C15=F$4,$D15,"") | G15: =IF($C15=G$4,$D15,"")
F16: =IF($C16=F$4,$D16,"") | G16: =IF($C16=G$4,$D16,"")
F17: =IF($C17=F$4,$D17,"") | G17: =IF($C17=G$4,$D17,"")
F18: =IF($C18=F$4,$D18,"") | G18: =IF($C18=G$4,$D18,"")
F19: =IF($C19=F$4,$D19,"") | G19: =IF($C19=G$4,$D19,"")
F20: =IF($C20=F$4,$D20,"") | G20: =IF($C20=G$4,$D20,"")
F21: =IF($C21=F$4,$D21,"") | G21: =IF($C21=G$4,$D21,"")
... F264: =IF($C264=F$4,$D264,"") | G264: =IF($C264=G$4,$D264,"")

Sheet 5th Month
A1: BACK TO DASHBOARD
A3: ="Daily Expenses Record"&" "&Report!$B$11 -> Daily Expenses Record May-2021 | D3: Check out our templates @ xplorexcel.com
A4: Date | B4: Narration | C4: Group of Expenditure | D4: Amount | F4: =+Report!G2 -> Necessity | G4: =+Report!H2 -> Entertainment
A5: Monthly Total Amount | F5: =SUM(F6:F1048573) -> 555000 | G5: =SUM(G6:G1048573) -> 7500
A6: 44197 | B6: Monthly Grocery | C6: Necessity | D6: 550000 | E6: =IF($C6=E$4,$D6,"") | F6: =IF($C6=F$4,$D6,"") -> 550000 | G6: =IF($C6=G$4,$D6,"")
A7: 44197 | B7: Mobile Bill | C7: Necessity | D7: 5000 | F7: =IF($C7=F$4,$D7,"") -> 5000 | G7: =IF($C7=G$4,$D7,"")
A8: 44232 | B8: Dinner with Girlfriend | C8: Entertainment | D8: 2500 | F8: =IF($C8=F$4,$D8,"") | G8: =IF($C8=G$4,$D8,"") -> 2500
A9: 44232 | B9: Friends Night out | C9: Entertainment | D9: 5000 | F9: =IF($C9=F$4,$D9,"") | G9: =IF($C9=G$4,$D9,"") -> 5000
F10: =IF($C10=F$4,$D10,"") | G10: =IF($C10=G$4,$D10,"")
F11: =IF($C11=F$4,$D11,"") | G11: =IF($C11=G$4,$D11,"")
F12: =IF($C12=F$4,$D12,"") | G12: =IF($C12=G$4,$D12,"")
F13: =IF($C13=F$4,$D13,"") | G13: =IF($C13=G$4,$D13,"")
F14: =IF($C14=F$4,$D14,"") | G14: =IF($C14=G$4,$D14,"")
F15: =IF($C15=F$4,$D15,"") | G15: =IF($C15=G$4,$D15,"")
F16: =IF($C16=F$4,$D16,"") | G16: =IF($C16=G$4,$D16,"")
F17: =IF($C17=F$4,$D17,"") | G17: =IF($C17=G$4,$D17,"")
F18: =IF($C18=F$4,$D18,"") | G18: =IF($C18=G$4,$D18,"")
F19: =IF($C19=F$4,$D19,"") | G19: =IF($C19=G$4,$D19,"")
F20: =IF($C20=F$4,$D20,"") | G20: =IF($C20=G$4,$D20,"")
F21: =IF($C21=F$4,$D21,"") | G21: =IF($C21=G$4,$D21,"")
... F264: =IF($C264=F$4,$D264,"") | G264: =IF($C264=G$4,$D264,"")

Sheet 6th Month
A1: BACK TO DASHBOARD
A3: ="Daily Expenses Record"&" "&Report!$B$12 -> Daily Expenses Record Jun-2021 | D3: Check out our templates @ xplorexcel.com
A4: Date | B4: Narration | C4: Group of Expenditure | D4: Amount | F4: =+Report!G2 -> Necessity | G4: =+Report!H2 -> Entertainment
A5: Monthly Total Amount | F5: =SUM(F6:F1048573) -> 555000 | G5: =SUM(G6:G1048573) -> 7500
A6: 44197 | B6: Monthly Grocery | C6: Necessity | D6: 550000 | E6: =IF($C6=E$4,$D6,"") | F6: =IF($C6=F$4,$D6,"") -> 550000 | G6: =IF($C6=G$4,$D6,"")
A7: 44197 | B7: Mobile Bill | C7: Necessity | D7: 5000 | F7: =IF($C7=F$4,$D7,"") -> 5000 | G7: =IF($C7=G$4,$D7,"")
A8: 44232 | B8: Dinner with Girlfriend | C8: Entertainment | D8: 2500 | F8: =IF($C8=F$4,$D8,"") | G8: =IF($C8=G$4,$D8,"") -> 2500
A9: 44232 | B9: Friends Night out | C9: Entertainment | D9: 5000 | F9: =IF($C9=F$4,$D9,"") | G9: =IF($C9=G$4,$D9,"") -> 5000
F10: =IF($C10=F$4,$D10,"") | G10: =IF($C10=G$4,$D10,"")
F11: =IF($C11=F$4,$D11,"") | G11: =IF($C11=G$4,$D11,"")
F12: =IF($C12=F$4,$D12,"") | G12: =IF($C12=G$4,$D12,"")
F13: =IF($C13=F$4,$D13,"") | G13: =IF($C13=G$4,$D13,"")
F14: =IF($C14=F$4,$D14,"") | G14: =IF($C14=G$4,$D14,"")
F15: =IF($C15=F$4,$D15,"") | G15: =IF($C15=G$4,$D15,"")
F16: =IF($C16=F$4,$D16,"") | G16: =IF($C16=G$4,$D16,"")
F17: =IF($C17=F$4,$D17,"") | G17: =IF($C17=G$4,$D17,"")
F18: =IF($C18=F$4,$D18,"") | G18: =IF($C18=G$4,$D18,"")
F19: =IF($C19=F$4,$D19,"") | G19: =IF($C19=G$4,$D19,"")
F20: =IF($C20=F$4,$D20,"") | G20: =IF($C20=G$4,$D20,"")
F21: =IF($C21=F$4,$D21,"") | G21: =IF($C21=G$4,$D21,"")
... F264: =IF($C264=F$4,$D264,"") | G264: =IF($C264=G$4,$D264,"")

Sheet 7th Month
A1: BACK TO DASHBOARD
A3: ="Daily Expenses Record"&" "&Report!$B$13 -> Daily Expenses Record Jul-2021 | D3: Check out our templates @ xplorexcel.com
A4: Date | B4: Narration | C4: Group of Expenditure | D4: Amount | F4: =+Report!G2 -> Necessity | G4: =+Report!H2 -> Entertainment
A5: Monthly Total Amount | F5: =SUM(F6:F1048573) -> 555000 | G5: =SUM(G6:G1048573) -> 7500
A6: 44197 | B6: Monthly Grocery | C6: Necessity | D6: 550000 | E6: =IF($C6=E$4,$D6,"") | F6: =IF($C6=F$4,$D6,"") -> 550000 | G6: =IF($C6=G$4,$D6,"")
A7: 44197 | B7: Mobile Bill | C7: Necessity | D7: 5000 | F7: =IF($C7=F$4,$D7,"") -> 5000 | G7: =IF($C7=G$4,$D7,"")
A8: 44232 | B8: Dinner with Girlfriend | C8: Entertainment | D8: 2500 | F8: =IF($C8=F$4,$D8,"") | G8: =IF($C8=G$4,$D8,"") -> 2500
A9: 44232 | B9: Friends Night out | C9: Entertainment | D9: 5000 | F9: =IF($C9=F$4,$D9,"") | G9: =IF($C9=G$4,$D9,"") -> 5000
F10: =IF($C10=F$4,$D10,"") | G10: =IF($C10=G$4,$D10,"")
F11: =IF($C11=F$4,$D11,"") | G11: =IF($C11=G$4,$D11,"")
F12: =IF($C12=F$4,$D12,"") | G12: =IF($C12=G$4,$D12,"")
F13: =IF($C13=F$4,$D13,"") | G13: =IF($C13=G$4,$D13,"")
F14: =IF($C14=F$4,$D14,"") | G14: =IF($C14=G$4,$D14,"")
F15: =IF($C15=F$4,$D15,"") | G15: =IF($C15=G$4,$D15,"")
F16: =IF($C16=F$4,$D16,"") | G16: =IF($C16=G$4,$D16,"")
F17: =IF($C17=F$4,$D17,"") | G17: =IF($C17=G$4,$D17,"")
F18: =IF($C18=F$4,$D18,"") | G18: =IF($C18=G$4,$D18,"")
F19: =IF($C19=F$4,$D19,"") | G19: =IF($C19=G$4,$D19,"")
F20: =IF($C20=F$4,$D20,"") | G20: =IF($C20=G$4,$D20,"")
F21: =IF($C21=F$4,$D21,"") | G21: =IF($C21=G$4,$D21,"")
... F264: =IF($C264=F$4,$D264,"") | G264: =IF($C264=G$4,$D264,"")

Sheet 8th Month
A1: BACK TO DASHBOARD
A3: ="Daily Expenses Record"&" "&Report!$B$14 -> Daily Expenses Record Aug-2021 | D3: Check out our templates @ xplorexcel.com
A4: Date | B4: Narration | C4: Group of Expenditure | D4: Amount | F4: =+Report!G2 -> Necessity | G4: =+Report!H2 -> Entertainment
A5: Monthly Total Amount | F5: =SUM(F6:F1048573) -> 555000 | G5: =SUM(G6:G1048573) -> 7500
A6: 44197 | B6: Monthly Grocery | C6: Necessity | D6: 550000 | E6: =IF($C6=E$4,$D6,"") | F6: =IF($C6=F$4,$D6,"") -> 550000 | G6: =IF($C6=G$4,$D6,"")
A7: 44197 | B7: Mobile Bill | C7: Necessity | D7: 5000 | F7: =IF($C7=F$4,$D7,"") -> 5000 | G7: =IF($C7=G$4,$D7,"")
A8: 44232 | B8: Dinner with Girlfriend | C8: Entertainment | D8: 2500 | F8: =IF($C8=F$4,$D8,"") | G8: =IF($C8=G$4,$D8,"") -> 2500
A9: 44232 | B9: Friends Night out | C9: Entertainment | D9: 5000 | F9: =IF($C9=F$4,$D9,"") | G9: =IF($C9=G$4,$D9,"") -> 5000
F10: =IF($C10=F$4,$D10,"") | G10: =IF($C10=G$4,$D10,"")
F11: =IF($C11=F$4,$D11,"") | G11: =IF($C11=G$4,$D11,"")
F12: =IF($C12=F$4,$D12,"") | G12: =IF($C12=G$4,$D12,"")
F13: =IF($C13=F$4,$D13,"") | G13: =IF($C13=G$4,$D13,"")
F14: =IF($C14=F$4,$D14,"") | G14: =IF($C14=G$4,$D14,"")
F15: =IF($C15=F$4,$D15,"") | G15: =IF($C15=G$4,$D15,"")
F16: =IF($C16=F$4,$D16,"") | G16: =IF($C16=G$4,$D16,"")
F17: =IF($C17=F$4,$D17,"") | G17: =IF($C17=G$4,$D17,"")
F18: =IF($C18=F$4,$D18,"") | G18: =IF($C18=G$4,$D18,"")
F19: =IF($C19=F$4,$D19,"") | G19: =IF($C19=G$4,$D19,"")
F20: =IF($C20=F$4,$D20,"") | G20: =IF($C20=G$4,$D20,"")
F21: =IF($C21=F$4,$D21,"") | G21: =IF($C21=G$4,$D21,"")
... F264: =IF($C264=F$4,$D264,"") | G264: =IF($C264=G$4,$D264,"")

Sheet 9th Month
A1: BACK TO DASHBOARD
A3: ="Daily Expenses Record"&" "&Report!$B$15 -> Daily Expenses Record Sep-2021 | D3: Check out our templates @ xplorexcel.com
A4: Date | B4: Narration | C4: Group of Expenditure | D4: Amount | F4: =+Report!G2 -> Necessity | G4: =+Report!H2 -> Entertainment
A5: Monthly Total Amount | F5: =SUM(F6:F1048573) -> 555000 | G5: =SUM(G6:G1048573) -> 7500
A6: 44197 | B6: Monthly Grocery | C6: Necessity | D6: 550000 | E6: =IF($C6=E$4,$D6,"") | F6: =IF($C6=F$4,$D6,"") -> 550000 | G6: =IF($C6=G$4,$D6,"")
A7: 44197 | B7: Mobile Bill | C7: Necessity | D7: 5000 | F7: =IF($C7=F$4,$D7,"") -> 5000 | G7: =IF($C7=G$4,$D7,"")
A8: 44232 | B8: Dinner with Girlfriend | C8: Entertainment | D8: 2500 | F8: =IF($C8=F$4,$D8,"") | G8: =IF($C8=G$4,$D8,"") -> 2500
A9: 44232 | B9: Friends Night out | C9: Entertainment | D9: 5000 | F9: =IF($C9=F$4,$D9,"") | G9: =IF($C9=G$4,$D9,"") -> 5000
F10: =IF($C10=F$4,$D10,"") | G10: =IF($C10=G$4,$D10,"")
F11: =IF($C11=F$4,$D11,"") | G11: =IF($C11=G$4,$D11,"")
F12: =IF($C12=F$4,$D12,"") | G12: =IF($C12=G$4,$D12,"")
F13: =IF($C13=F$4,$D13,"") | G13: =IF($C13=G$4,$D13,"")
F14: =IF($C14=F$4,$D14,"") | G14: =IF($C14=G$4,$D14,"")
F15: =IF($C15=F$4,$D15,"") | G15: =IF($C15=G$4,$D15,"")
F16: =IF($C16=F$4,$D16,"") | G16: =IF($C16=G$4,$D16,"")
F17: =IF($C17=F$4,$D17,"") | G17: =IF($C17=G$4,$D17,"")
F18: =IF($C18=F$4,$D18,"") | G18: =IF($C18=G$4,$D18,"")
F19: =IF($C19=F$4,$D19,"") | G19: =IF($C19=G$4,$D19,"")
F20: =IF($C20=F$4,$D20,"") | G20: =IF($C20=G$4,$D20,"")
F21: =IF($C21=F$4,$D21,"") | G21: =IF($C21=G$4,$D21,"")
... F264: =IF($C264=F$4,$D264,"") | G264: =IF($C264=G$4,$D264,"")

Sheet 10th Month
A1: BACK TO DASHBOARD
A3: ="Daily Expenses Record"&" "&Report!$B$16 -> Daily Expenses Record Oct-2021 | D3: Check out our templates @ xplorexcel.com
A4: Date | B4: Narration | C4: Group of Expenditure | D4: Amount | F4: =+Report!G2 -> Necessity | G4: =+Report!H2 -> Entertainment
A5: Monthly Total Amount | F5: =SUM(F6:F1048573) -> 555000 | G5: =SUM(G6:G1048573) -> 7500
A6: 44197 | B6: Monthly Grocery | C6: Necessity | D6: 550000 | E6: =IF($C6=E$4,$D6,"") | F6: =IF($C6=F$4,$D6,"") -> 550000 | G6: =IF($C6=G$4,$D6,"")
A7: 44197 | B7: Mobile Bill | C7: Necessity | D7: 5000 | F7: =IF($C7=F$4,$D7,"") -> 5000 | G7: =IF($C7=G$4,$D7,"")
A8: 44232 | B8: Dinner with Girlfriend | C8: Entertainment | D8: 2500 | F8: =IF($C8=F$4,$D8,"") | G8: =IF($C8=G$4,$D8,"") -> 2500
A9: 44232 | B9: Friends Night out | C9: Entertainment | D9: 5000 | F9: =IF($C9=F$4,$D9,"") | G9: =IF($C9=G$4,$D9,"") -> 5000
F10: =IF($C10=F$4,$D10,"") | G10: =IF($C10=G$4,$D10,"")
F11: =IF($C11=F$4,$D11,"") | G11: =IF($C11=G$4,$D11,"")
F12: =IF($C12=F$4,$D12,"") | G12: =IF($C12=G$4,$D12,"")
F13: =IF($C13=F$4,$D13,"") | G13: =IF($C13=G$4,$D13,"")
F14: =IF($C14=F$4,$D14,"") | G14: =IF($C14=G$4,$D14,"")
F15: =IF($C15=F$4,$D15,"") | G15: =IF($C15=G$4,$D15,"")
F16: =IF($C16=F$4,$D16,"") | G16: =IF($C16=G$4,$D16,"")
F17: =IF($C17=F$4,$D17,"") | G17: =IF($C17=G$4,$D17,"")
F18: =IF($C18=F$4,$D18,"") | G18: =IF($C18=G$4,$D18,"")
F19: =IF($C19=F$4,$D19,"") | G19: =IF($C19=G$4,$D19,"")
F20: =IF($C20=F$4,$D20,"") | G20: =IF($C20=G$4,$D20,"")
F21: =IF($C21=F$4,$D21,"") | G21: =IF($C21=G$4,$D21,"")
... F264: =IF($C264=F$4,$D264,"") | G264: =IF($C264=G$4,$D264,"")

Sheet 11th Month
A1: BACK TO DASHBOARD
A3: ="Daily Expenses Record"&" "&Report!$B$17 -> Daily Expenses Record Nov-2021 | D3: Check out our templates @ xplorexcel.com
A4: Date | B4: Narration | C4: Group of Expenditure | D4: Amount | F4: =+Report!G2 -> Necessity | G4: =+Report!H2 -> Entertainment
A5: Monthly Total Amount | F5: =SUM(F6:F1048573) -> 555000 | G5: =SUM(G6:G1048573) -> 7500
A6: 44197 | B6: Monthly Grocery | C6: Necessity | D6: 550000 | E6: =IF($C6=E$4,$D6,"") | F6: =IF($C6=F$4,$D6,"") -> 550000 | G6: =IF($C6=G$4,$D6,"")
A7: 44197 | B7: Mobile Bill | C7: Necessity | D7: 5000 | F7: =IF($C7=F$4,$D7,"") -> 5000 | G7: =IF($C7=G$4,$D7,"")
A8: 44232 | B8: Dinner with Girlfriend | C8: Entertainment | D8: 2500 | F8: =IF($C8=F$4,$D8,"") | G8: =IF($C8=G$4,$D8,"") -> 2500
A9: 44232 | B9: Friends Night out | C9: Entertainment | D9: 5000 | F9: =IF($C9=F$4,$D9,"") | G9: =IF($C9=G$4,$D9,"") -> 5000
F10: =IF($C10=F$4,$D10,"") | G10: =IF($C10=G$4,$D10,"")
F11: =IF($C11=F$4,$D11,"") | G11: =IF($C11=G$4,$D11,"")
F12: =IF($C12=F$4,$D12,"") | G12: =IF($C12=G$4,$D12,"")
F13: =IF($C13=F$4,$D13,"") | G13: =IF($C13=G$4,$D13,"")
F14: =IF($C14=F$4,$D14,"") | G14: =IF($C14=G$4,$D14,"")
F15: =IF($C15=F$4,$D15,"") | G15: =IF($C15=G$4,$D15,"")
F16: =IF($C16=F$4,$D16,"") | G16: =IF($C16=G$4,$D16,"")
F17: =IF($C17=F$4,$D17,"") | G17: =IF($C17=G$4,$D17,"")
F18: =IF($C18=F$4,$D18,"") | G18: =IF($C18=G$4,$D18,"")
F19: =IF($C19=F$4,$D19,"") | G19: =IF($C19=G$4,$D19,"")
F20: =IF($C20=F$4,$D20,"") | G20: =IF($C20=G$4,$D20,"")
F21: =IF($C21=F$4,$D21,"") | G21: =IF($C21=G$4,$D21,"")
... F264: =IF($C264=F$4,$D264,"") | G264: =IF($C264=G$4,$D264,"")

Sheet 12th Month
A1: BACK TO DASHBOARD
A3: ="Daily Expenses Record"&" "&Report!$B$18 -> Daily Expenses Record Dec-2021 | D3: Check out our templates @ xplorexcel.com
A4: Date | B4: Narration | C4: Group of Expenditure | D4: Amount | F4: =+Report!G2 -> Necessity | G4: =+Report!H2 -> Entertainment
A5: Monthly Total Amount | F5: =SUM(F6:F1048573) -> 555000 | G5: =SUM(G6:G1048573) -> 7500
A6: 44197 | B6: Monthly Grocery | C6: Necessity | D6: 550000 | E6: =IF($C6=E$4,$D6,"") | F6: =IF($C6=F$4,$D6,"") -> 550000 | G6: =IF($C6=G$4,$D6,"")
A7: 44197 | B7: Mobile Bill | C7: Necessity | D7: 5000 | F7: =IF($C7=F$4,$D7,"") -> 5000 | G7: =IF($C7=G$4,$D7,"")
A8: 44232 | B8: Dinner with Girlfriend | C8: Entertainment | D8: 2500 | F8: =IF($C8=F$4,$D8,"") | G8: =IF($C8=G$4,$D8,"") -> 2500
A9: 44232 | B9: Friends Night out | C9: Entertainment | D9: 5000 | F9: =IF($C9=F$4,$D9,"") | G9: =IF($C9=G$4,$D9,"") -> 5000
F10: =IF($C10=F$4,$D10,"") | G10: =IF($C10=G$4,$D10,"")
F11: =IF($C11=F$4,$D11,"") | G11: =IF($C11=G$4,$D11,"")
F12: =IF($C12=F$4,$D12,"") | G12: =IF($C12=G$4,$D12,"")
F13: =IF($C13=F$4,$D13,"") | G13: =IF($C13=G$4,$D13,"")
F14: =IF($C14=F$4,$D14,"") | G14: =IF($C14=G$4,$D14,"")
F15: =IF($C15=F$4,$D15,"") | G15: =IF($C15=G$4,$D15,"")
F16: =IF($C16=F$4,$D16,"") | G16: =IF($C16=G$4,$D16,"")
F17: =IF($C17=F$4,$D17,"") | G17: =IF($C17=G$4,$D17,"")
F18: =IF($C18=F$4,$D18,"") | G18: =IF($C18=G$4,$D18,"")
F19: =IF($C19=F$4,$D19,"") | G19: =IF($C19=G$4,$D19,"")
F20: =IF($C20=F$4,$D20,"") | G20: =IF($C20=G$4,$D20,"")
F21: =IF($C21=F$4,$D21,"") | G21: =IF($C21=G$4,$D21,"")
... F264: =IF($C264=F$4,$D264,"") | G264: =IF($C264=G$4,$D264,"")
