Workbook

Sheet Dashboard
B5: Stock Register & Inventory Valuation
B6: =Setup!$C$4&" • "&TEXT(Setup!$C$6,"dd mmm yyyy")&" to "&TEXT(Setup!$C$7,"dd mmm yyyy") -> M/s Xplore Electricals • 01 Oct 2026 to 31 Oct 2026
B8: GO TO SHEET | E8: THIS PERIOD | J8: FIFO | K8: Weighted Average
B9: =HYPERLINK("#'Setup'!A1","1. Setup ►") -> 1. Setup ► | C9: Business, period | E9: Items in stock | F9: =COUNTIF('Item Master'!$K$6:$K$105,">0") -> 6 | I9: =IFERROR(INDEX(Valuation!$B$6:$B$105,MATCH(1,Valuation!$Q$6:$Q$105,0)),"") -> LED Bulb 9W | J9: =IFERROR(INDEX(Valuation!$J$6:$J$105,MATCH(1,Valuation!$Q$6:$Q$105,0)),0) -> 9000 | K9: =IFERROR(INDEX(Valuation!$L$6:$L$105,MATCH(1,Valuation!$Q$6:$Q$105,0)),0) -> 8657
B10: =HYPERLINK("#'Item Master'!A1","2. Item Master ►") -> 2. Item Master ► | C10: Items, opening stock, reorder level | E10: Closing stock – FIFO | F10: =Valuation!J106 -> 74965 | I10: =IFERROR(INDEX(Valuation!$B$6:$B$105,MATCH(2,Valuation!$Q$6:$Q$105,0)),"") -> Ceiling Fan 1200 mm | J10: =IFERROR(INDEX(Valuation!$J$6:$J$105,MATCH(2,Valuation!$Q$6:$Q$105,0)),0) -> 13500 | K10: =IFERROR(INDEX(Valuation!$L$6:$L$105,MATCH(2,Valuation!$Q$6:$Q$105,0)),0) -> 13243
B11: =HYPERLINK("#'Stock Register'!A1","3. Stock Register ►") -> 3. Stock Register ► | C11: Every purchase and sale | E11: Closing stock – Weighted Average | F11: =Valuation!L106 -> 73033 | I11: =IFERROR(INDEX(Valuation!$B$6:$B$105,MATCH(3,Valuation!$Q$6:$Q$105,0)),"") -> Copper Wire 1.5 sq mm (90 m) | J11: =IFERROR(INDEX(Valuation!$J$6:$J$105,MATCH(3,Valuation!$Q$6:$Q$105,0)),0) -> 37130 | K11: =IFERROR(INDEX(Valuation!$L$6:$L$105,MATCH(3,Valuation!$Q$6:$Q$105,0)),0) -> 36098
B12: =HYPERLINK("#'Valuation'!A1","4. Valuation ►") -> 4. Valuation ► | C12: FIFO vs weighted average | E12: Purchases (In) | F12: =Valuation!F106 -> 116100 | I12: =IFERROR(INDEX(Valuation!$B$6:$B$105,MATCH(4,Valuation!$Q$6:$Q$105,0)),"") -> MCB 32A Single Pole | J12: =IFERROR(INDEX(Valuation!$J$6:$J$105,MATCH(4,Valuation!$Q$6:$Q$105,0)),0) -> 6475 | K12: =IFERROR(INDEX(Valuation!$L$6:$L$105,MATCH(4,Valuation!$Q$6:$Q$105,0)),0) -> 6395
B13: =HYPERLINK("#'Stock Ledger'!A1","5. Stock Ledger ►") -> 5. Stock Ledger ► | C13: Item card for any item | E13: Sales (Out, at sale rate) | F13: =Valuation!H106 -> 200216 | I13: =IFERROR(INDEX(Valuation!$B$6:$B$105,MATCH(5,Valuation!$Q$6:$Q$105,0)),"") -> Extension Board 4-way | J13: =IFERROR(INDEX(Valuation!$J$6:$J$105,MATCH(5,Valuation!$Q$6:$Q$105,0)),0) -> 1260 | K13: =IFERROR(INDEX(Valuation!$L$6:$L$105,MATCH(5,Valuation!$Q$6:$Q$105,0)),0) -> 1260
B14: =HYPERLINK("#'About Workbook'!A1","How to use ►") -> How to use ► | C14: Features & steps | E14: Gross profit – FIFO | F14: =Valuation!O106 -> 54581 | I14: =IFERROR(INDEX(Valuation!$B$6:$B$105,MATCH(6,Valuation!$Q$6:$Q$105,0)),"") -> LED Tube Light 20W | J14: =IFERROR(INDEX(Valuation!$J$6:$J$105,MATCH(6,Valuation!$Q$6:$Q$105,0)),0) -> 7600 | K14: =IFERROR(INDEX(Valuation!$L$6:$L$105,MATCH(6,Valuation!$Q$6:$Q$105,0)),0) -> 7380
E15: Items to reorder | F15: =COUNTIF('Item Master'!$L$6:$L$105,"Reorder")+COUNTIF('Item Master'!$L$6:$L$105,"Out of stock") -> 3 | I15: =IFERROR(INDEX(Valuation!$B$6:$B$105,MATCH(7,Valuation!$Q$6:$Q$105,0)),"") | J15: =IFERROR(INDEX(Valuation!$J$6:$J$105,MATCH(7,Valuation!$Q$6:$Q$105,0)),0) -> 0 | K15: =IFERROR(INDEX(Valuation!$L$6:$L$105,MATCH(7,Valuation!$Q$6:$Q$105,0)),0) -> 0
I16: =IFERROR(INDEX(Valuation!$B$6:$B$105,MATCH(8,Valuation!$Q$6:$Q$105,0)),"") | J16: =IFERROR(INDEX(Valuation!$J$6:$J$105,MATCH(8,Valuation!$Q$6:$Q$105,0)),0) -> 0 | K16: =IFERROR(INDEX(Valuation!$L$6:$L$105,MATCH(8,Valuation!$Q$6:$Q$105,0)),0) -> 0
B17: Reorder now | E17: Checks | I17: =IFERROR(INDEX(Valuation!$B$6:$B$105,MATCH(9,Valuation!$Q$6:$Q$105,0)),"") | J17: =IFERROR(INDEX(Valuation!$J$6:$J$105,MATCH(9,Valuation!$Q$6:$Q$105,0)),0) -> 0 | K17: =IFERROR(INDEX(Valuation!$L$6:$L$105,MATCH(9,Valuation!$Q$6:$Q$105,0)),0) -> 0
B18: =IFERROR(INDEX('Item Master'!$B$6:$B$105,MATCH(1,'Item Master'!$M$6:$M$105,0))&" – "&TEXT(INDEX('Item Master'!$K$6:$K$105,MATCH(1,'Item Master'!$M$6:$M$105,0)),"#,##0")&" "&INDEX('Item Master'!$D$6:$D$105,MATCH(1,'Item Master'!$M$6:$M$105,0))&" left (reorder at "&INDEX('Item Master'!$G$6:$G$105,MATCH(1,'Item Master'!$M$6:$M$105,0))&")",IF(0=0,"✔ Nothing to reorder","")) -> Ceiling Fan 1200 mm – 9 Pcs left (reorder at 10) | E18: =IF(COUNTIF('Stock Register'!$L$7:$L$506,"⚠*")>0,"⚠ "&COUNTIF('Stock Register'!$L$7:$L$506,"⚠*")&" register row(s) need attention.","✔ All register rows are complete.") -> ✔ All register rows are complete. | I18: =IFERROR(INDEX(Valuation!$B$6:$B$105,MATCH(10,Valuation!$Q$6:$Q$105,0)),"") | J18: =IFERROR(INDEX(Valuation!$J$6:$J$105,MATCH(10,Valuation!$Q$6:$Q$105,0)),0) -> 0 | K18: =IFERROR(INDEX(Valuation!$L$6:$L$105,MATCH(10,Valuation!$Q$6:$Q$105,0)),0) -> 0
B19: =IFERROR(INDEX('Item Master'!$B$6:$B$105,MATCH(2,'Item Master'!$M$6:$M$105,0))&" – "&TEXT(INDEX('Item Master'!$K$6:$K$105,MATCH(2,'Item Master'!$M$6:$M$105,0)),"#,##0")&" "&INDEX('Item Master'!$D$6:$D$105,MATCH(2,'Item Master'!$M$6:$M$105,0))&" left (reorder at "&INDEX('Item Master'!$G$6:$G$105,MATCH(2,'Item Master'!$M$6:$M$105,0))&")",IF(1=0,"✔ Nothing to reorder","")) -> MCB 32A Single Pole – 35 Pcs left (reorder at 40) | E19: =IF(COUNTIF('Item Master'!$L$6:$L$105,"⚠*")>0,"⚠ "&COUNTIF('Item Master'!$L$6:$L$105,"⚠*")&" item(s) with duplicate code or negative stock.","✔ No negative stock or duplicate codes.") -> ✔ No negative stock or duplicate codes.
B20: =IFERROR(INDEX('Item Master'!$B$6:$B$105,MATCH(3,'Item Master'!$M$6:$M$105,0))&" – "&TEXT(INDEX('Item Master'!$K$6:$K$105,MATCH(3,'Item Master'!$M$6:$M$105,0)),"#,##0")&" "&INDEX('Item Master'!$D$6:$D$105,MATCH(3,'Item Master'!$M$6:$M$105,0))&" left (reorder at "&INDEX('Item Master'!$G$6:$G$105,MATCH(3,'Item Master'!$M$6:$M$105,0))&")",IF(2=0,"✔ Nothing to reorder","")) -> Extension Board 4-way – 6 Pcs left (reorder at 25) | E20: =IF(COUNTIF('Stock Register'!$L$7:$L$506,"Outside period")>0,COUNTIF('Stock Register'!$L$7:$L$506,"Outside period")&" entr(ies) dated outside the period.","✔ All entries are inside the period.") -> ✔ All entries are inside the period.
B21: =IFERROR(INDEX('Item Master'!$B$6:$B$105,MATCH(4,'Item Master'!$M$6:$M$105,0))&" – "&TEXT(INDEX('Item Master'!$K$6:$K$105,MATCH(4,'Item Master'!$M$6:$M$105,0)),"#,##0")&" "&INDEX('Item Master'!$D$6:$D$105,MATCH(4,'Item Master'!$M$6:$M$105,0))&" left (reorder at "&INDEX('Item Master'!$G$6:$G$105,MATCH(4,'Item Master'!$M$6:$M$105,0))&")",IF(3=0,"✔ Nothing to reorder",""))
B22: =IFERROR(INDEX('Item Master'!$B$6:$B$105,MATCH(5,'Item Master'!$M$6:$M$105,0))&" – "&TEXT(INDEX('Item Master'!$K$6:$K$105,MATCH(5,'Item Master'!$M$6:$M$105,0)),"#,##0")&" "&INDEX('Item Master'!$D$6:$D$105,MATCH(5,'Item Master'!$M$6:$M$105,0))&" left (reorder at "&INDEX('Item Master'!$G$6:$G$105,MATCH(5,'Item Master'!$M$6:$M$105,0))&")",IF(4=0,"✔ Nothing to reorder",""))
B23: =IFERROR(INDEX('Item Master'!$B$6:$B$105,MATCH(6,'Item Master'!$M$6:$M$105,0))&" – "&TEXT(INDEX('Item Master'!$K$6:$K$105,MATCH(6,'Item Master'!$M$6:$M$105,0)),"#,##0")&" "&INDEX('Item Master'!$D$6:$D$105,MATCH(6,'Item Master'!$M$6:$M$105,0))&" left (reorder at "&INDEX('Item Master'!$G$6:$G$105,MATCH(6,'Item Master'!$M$6:$M$105,0))&")",IF(5=0,"✔ Nothing to reorder",""))
E44: Designed by
F47: Check out our templates @ xplorexcel.com

Sheet About Workbook
A1: ◄ BACK TO DASHBOARD
A2: Features of Stock Register & Inventory Valuation 1.0 in Microsoft Excel :-
A3: 1 | B3: Life-time free – no macros, works in Excel 2010+, Excel for Mac and Google Sheets
A4: 2 | B4: Item Master for up to 100 items with unit, opening stock, opening rate and reorder level
A5: 3 | B5: Stock Register for up to 500 movements – In (purchase) and Out (sale / issue) with a running balance per item
A6: 4 | B6: Closing stock valued by FIFO and by Weighted Average side by side, with cost of goods sold and gross profit under each
A7: 5 | B7: Entries can be in any order – the date decides the sequence
A8: 6 | B8: Stock Ledger (item card) for any item: opening, every movement, running balance and value
A9: 7 | B9: Reorder alerts on the dashboard; status for each item (OK, Reorder, Out of stock, Negative)
A10: 8 | B10: Checks: unknown item code, missing rate or quantity, stock going negative, duplicate codes, dates outside the period
A12: How to use it (4 steps)
A13: Step 1 | B13: Setup – business name and the period (the closing date is the valuation date).
A14: Step 2 | B14: Item Master – one row per item with opening quantity, opening rate and reorder level.
A15: Step 3 | B15: Stock Register – enter every purchase (In, with rate) and every sale or issue (Out). Fix anything the Check column flags.
A16: Step 4 | B16: Read the Valuation sheet and the Dashboard; open the Stock Ledger for any item's card.
B18: Weighted Average here is the periodic method: one average rate for the period. Closing stock in the final accounts is valued at cost or net realisable value, whichever is lower (AS 2).

Sheet Setup
A1: ◄ BACK TO DASHBOARD
A2: Business & Period
A4: Business name | C4: M/s Xplore Electricals
A5: Godown / location | C5: Main Store, Hoshiarpur
A6: Period from | C6: 46296
A7: Period to (valuation date) | C7: 46326
A9: How it works
A10: 1. Item Master – add each item with its unit, opening quantity, opening rate and reorder level.
A11: 2. Stock Register – enter every purchase (In, with rate) and every sale or issue (Out). Sale rate is optional.
A12: 3. Valuation – closing stock is valued by FIFO and by Weighted Average automatically; Stock Ledger shows any one item's card.
B15: Designed by

Sheet Item Master
A1: ◄ BACK TO DASHBOARD
A2: ="Item Master – "&Setup!$C$4 -> Item Master – M/s Xplore Electricals
A3: One row per item. Item Code must be unique – it is what you pick on the Stock Register. Opening quantity and rate are the stock at the start of the period.
A5: Item Code | B5: Item name | C5: Category | D5: Unit | E5: Opening qty | F5: Opening rate (₹) | G5: Reorder level | H5: Opening value (₹) | I5: In qty | J5: Out qty | K5: Closing qty | L5: Status
A6: E01 | B6: LED Bulb 9W | C6: Lighting | D6: Pcs | E6: 200 | F6: 55 | G6: 100 | H6: =IF(A6="","",N(E6)*N(F6)) -> 11000 | I6: =IF(A6="","",SUMIFS('Stock Register'!$F$7:$F$506,'Stock Register'!$C$7:$C$506,A6,'Stock Register'!$E$7:$E$506,"In")) -> 500 | J6: =IF(A6="","",SUMIFS('Stock Register'!$F$7:$F$506,'Stock Register'!$C$7:$C$506,A6,'Stock Register'!$E$7:$E$506,"Out")) -> 550 | K6: =IF(A6="","",N(E6)+I6-J6) -> 150 | L6: =IF(A6="","",IF(COUNTIF($A$6:$A$105,A6)>1,"⚠ Duplicate code",IF(K6<0,"⚠ Negative stock",IF(K6=0,"Out of stock",IF(K6<=N(G6),"Reorder","✔ OK"))))) -> ✔ OK | M6: =IF(AND(A6<>"",OR(L6="Reorder",L6="Out of stock",L6="⚠ Negative stock")),COUNTIF($L$6:L6,"Reorder")+COUNTIF($L$6:L6,"Out of stock")+COUNTIF($L$6:L6,"⚠ Negative stock"),"")
A7: E02 | B7: Ceiling Fan 1200 mm | C7: Fans | D7: Pcs | E7: 20 | F7: 1450 | G7: 10 | H7: =IF(A7="","",N(E7)*N(F7)) -> 29000 | I7: =IF(A7="","",SUMIFS('Stock Register'!$F$7:$F$506,'Stock Register'!$C$7:$C$506,A7,'Stock Register'!$E$7:$E$506,"In")) -> 15 | J7: =IF(A7="","",SUMIFS('Stock Register'!$F$7:$F$506,'Stock Register'!$C$7:$C$506,A7,'Stock Register'!$E$7:$E$506,"Out")) -> 26 | K7: =IF(A7="","",N(E7)+I7-J7) -> 9 | L7: =IF(A7="","",IF(COUNTIF($A$6:$A$105,A7)>1,"⚠ Duplicate code",IF(K7<0,"⚠ Negative stock",IF(K7=0,"Out of stock",IF(K7<=N(G7),"Reorder","✔ OK"))))) -> Reorder | M7: =IF(AND(A7<>"",OR(L7="Reorder",L7="Out of stock",L7="⚠ Negative stock")),COUNTIF($L$6:L7,"Reorder")+COUNTIF($L$6:L7,"Out of stock")+COUNTIF($L$6:L7,"⚠ Negative stock"),"") -> 1
A8: E03 | B8: Copper Wire 1.5 sq mm (90 m) | C8: Wires | D8: Coil | E8: 30 | F8: 1250 | G8: 15 | H8: =IF(A8="","",N(E8)*N(F8)) -> 37500 | I8: =IF(A8="","",SUMIFS('Stock Register'!$F$7:$F$506,'Stock Register'!$C$7:$C$506,A8,'Stock Register'!$E$7:$E$506,"In")) -> 35 | J8: =IF(A8="","",SUMIFS('Stock Register'!$F$7:$F$506,'Stock Register'!$C$7:$C$506,A8,'Stock Register'!$E$7:$E$506,"Out")) -> 37 | K8: =IF(A8="","",N(E8)+I8-J8) -> 28 | L8: =IF(A8="","",IF(COUNTIF($A$6:$A$105,A8)>1,"⚠ Duplicate code",IF(K8<0,"⚠ Negative stock",IF(K8=0,"Out of stock",IF(K8<=N(G8),"Reorder","✔ OK"))))) -> ✔ OK | M8: =IF(AND(A8<>"",OR(L8="Reorder",L8="Out of stock",L8="⚠ Negative stock")),COUNTIF($L$6:L8,"Reorder")+COUNTIF($L$6:L8,"Out of stock")+COUNTIF($L$6:L8,"⚠ Negative stock"),"")
A9: E04 | B9: MCB 32A Single Pole | C9: Switchgear | D9: Pcs | E9: 50 | F9: 180 | G9: 40 | H9: =IF(A9="","",N(E9)*N(F9)) -> 9000 | I9: =IF(A9="","",SUMIFS('Stock Register'!$F$7:$F$506,'Stock Register'!$C$7:$C$506,A9,'Stock Register'!$E$7:$E$506,"In")) -> 60 | J9: =IF(A9="","",SUMIFS('Stock Register'!$F$7:$F$506,'Stock Register'!$C$7:$C$506,A9,'Stock Register'!$E$7:$E$506,"Out")) -> 75 | K9: =IF(A9="","",N(E9)+I9-J9) -> 35 | L9: =IF(A9="","",IF(COUNTIF($A$6:$A$105,A9)>1,"⚠ Duplicate code",IF(K9<0,"⚠ Negative stock",IF(K9=0,"Out of stock",IF(K9<=N(G9),"Reorder","✔ OK"))))) -> Reorder | M9: =IF(AND(A9<>"",OR(L9="Reorder",L9="Out of stock",L9="⚠ Negative stock")),COUNTIF($L$6:L9,"Reorder")+COUNTIF($L$6:L9,"Out of stock")+COUNTIF($L$6:L9,"⚠ Negative stock"),"") -> 2
A10: E05 | B10: Extension Board 4-way | C10: Accessories | D10: Pcs | E10: 40 | F10: 210 | G10: 25 | H10: =IF(A10="","",N(E10)*N(F10)) -> 8400 | I10: =IF(A10="","",SUMIFS('Stock Register'!$F$7:$F$506,'Stock Register'!$C$7:$C$506,A10,'Stock Register'!$E$7:$E$506,"In")) -> 0 | J10: =IF(A10="","",SUMIFS('Stock Register'!$F$7:$F$506,'Stock Register'!$C$7:$C$506,A10,'Stock Register'!$E$7:$E$506,"Out")) -> 34 | K10: =IF(A10="","",N(E10)+I10-J10) -> 6 | L10: =IF(A10="","",IF(COUNTIF($A$6:$A$105,A10)>1,"⚠ Duplicate code",IF(K10<0,"⚠ Negative stock",IF(K10=0,"Out of stock",IF(K10<=N(G10),"Reorder","✔ OK"))))) -> Reorder | M10: =IF(AND(A10<>"",OR(L10="Reorder",L10="Out of stock",L10="⚠ Negative stock")),COUNTIF($L$6:L10,"Reorder")+COUNTIF($L$6:L10,"Out of stock")+COUNTIF($L$6:L10,"⚠ Negative stock"),"") -> 3
A11: E06 | B11: LED Tube Light 20W | C11: Lighting | D11: Pcs | E11: 60 | F11: 160 | G11: 30 | H11: =IF(A11="","",N(E11)*N(F11)) -> 9600 | I11: =IF(A11="","",SUMIFS('Stock Register'!$F$7:$F$506,'Stock Register'!$C$7:$C$506,A11,'Stock Register'!$E$7:$E$506,"In")) -> 40 | J11: =IF(A11="","",SUMIFS('Stock Register'!$F$7:$F$506,'Stock Register'!$C$7:$C$506,A11,'Stock Register'!$E$7:$E$506,"Out")) -> 55 | K11: =IF(A11="","",N(E11)+I11-J11) -> 45 | L11: =IF(A11="","",IF(COUNTIF($A$6:$A$105,A11)>1,"⚠ Duplicate code",IF(K11<0,"⚠ Negative stock",IF(K11=0,"Out of stock",IF(K11<=N(G11),"Reorder","✔ OK"))))) -> ✔ OK | M11: =IF(AND(A11<>"",OR(L11="Reorder",L11="Out of stock",L11="⚠ Negative stock")),COUNTIF($L$6:L11,"Reorder")+COUNTIF($L$6:L11,"Out of stock")+COUNTIF($L$6:L11,"⚠ Negative stock"),"")
H12: =IF(A12="","",N(E12)*N(F12)) | I12: =IF(A12="","",SUMIFS('Stock Register'!$F$7:$F$506,'Stock Register'!$C$7:$C$506,A12,'Stock Register'!$E$7:$E$506,"In")) | J12: =IF(A12="","",SUMIFS('Stock Register'!$F$7:$F$506,'Stock Register'!$C$7:$C$506,A12,'Stock Register'!$E$7:$E$506,"Out")) | K12: =IF(A12="","",N(E12)+I12-J12) | L12: =IF(A12="","",IF(COUNTIF($A$6:$A$105,A12)>1,"⚠ Duplicate code",IF(K12<0,"⚠ Negative stock",IF(K12=0,"Out of stock",IF(K12<=N(G12),"Reorder","✔ OK"))))) | M12: =IF(AND(A12<>"",OR(L12="Reorder",L12="Out of stock",L12="⚠ Negative stock")),COUNTIF($L$6:L12,"Reorder")+COUNTIF($L$6:L12,"Out of stock")+COUNTIF($L$6:L12,"⚠ Negative stock"),"")
H13: =IF(A13="","",N(E13)*N(F13)) | I13: =IF(A13="","",SUMIFS('Stock Register'!$F$7:$F$506,'Stock Register'!$C$7:$C$506,A13,'Stock Register'!$E$7:$E$506,"In")) | J13: =IF(A13="","",SUMIFS('Stock Register'!$F$7:$F$506,'Stock Register'!$C$7:$C$506,A13,'Stock Register'!$E$7:$E$506,"Out")) | K13: =IF(A13="","",N(E13)+I13-J13) | L13: =IF(A13="","",IF(COUNTIF($A$6:$A$105,A13)>1,"⚠ Duplicate code",IF(K13<0,"⚠ Negative stock",IF(K13=0,"Out of stock",IF(K13<=N(G13),"Reorder","✔ OK"))))) | M13: =IF(AND(A13<>"",OR(L13="Reorder",L13="Out of stock",L13="⚠ Negative stock")),COUNTIF($L$6:L13,"Reorder")+COUNTIF($L$6:L13,"Out of stock")+COUNTIF($L$6:L13,"⚠ Negative stock"),"")
H14: =IF(A14="","",N(E14)*N(F14)) | I14: =IF(A14="","",SUMIFS('Stock Register'!$F$7:$F$506,'Stock Register'!$C$7:$C$506,A14,'Stock Register'!$E$7:$E$506,"In")) | J14: =IF(A14="","",SUMIFS('Stock Register'!$F$7:$F$506,'Stock Register'!$C$7:$C$506,A14,'Stock Register'!$E$7:$E$506,"Out")) | K14: =IF(A14="","",N(E14)+I14-J14) | L14: =IF(A14="","",IF(COUNTIF($A$6:$A$105,A14)>1,"⚠ Duplicate code",IF(K14<0,"⚠ Negative stock",IF(K14=0,"Out of stock",IF(K14<=N(G14),"Reorder","✔ OK"))))) | M14: =IF(AND(A14<>"",OR(L14="Reorder",L14="Out of stock",L14="⚠ Negative stock")),COUNTIF($L$6:L14,"Reorder")+COUNTIF($L$6:L14,"Out of stock")+COUNTIF($L$6:L14,"⚠ Negative stock"),"")
H15: =IF(A15="","",N(E15)*N(F15)) | I15: =IF(A15="","",SUMIFS('Stock Register'!$F$7:$F$506,'Stock Register'!$C$7:$C$506,A15,'Stock Register'!$E$7:$E$506,"In")) | J15: =IF(A15="","",SUMIFS('Stock Register'!$F$7:$F$506,'Stock Register'!$C$7:$C$506,A15,'Stock Register'!$E$7:$E$506,"Out")) | K15: =IF(A15="","",N(E15)+I15-J15) | L15: =IF(A15="","",IF(COUNTIF($A$6:$A$105,A15)>1,"⚠ Duplicate code",IF(K15<0,"⚠ Negative stock",IF(K15=0,"Out of stock",IF(K15<=N(G15),"Reorder","✔ OK"))))) | M15: =IF(AND(A15<>"",OR(L15="Reorder",L15="Out of stock",L15="⚠ Negative stock")),COUNTIF($L$6:L15,"Reorder")+COUNTIF($L$6:L15,"Out of stock")+COUNTIF($L$6:L15,"⚠ Negative stock"),"")
H16: =IF(A16="","",N(E16)*N(F16)) | I16: =IF(A16="","",SUMIFS('Stock Register'!$F$7:$F$506,'Stock Register'!$C$7:$C$506,A16,'Stock Register'!$E$7:$E$506,"In")) | J16: =IF(A16="","",SUMIFS('Stock Register'!$F$7:$F$506,'Stock Register'!$C$7:$C$506,A16,'Stock Register'!$E$7:$E$506,"Out")) | K16: =IF(A16="","",N(E16)+I16-J16) | L16: =IF(A16="","",IF(COUNTIF($A$6:$A$105,A16)>1,"⚠ Duplicate code",IF(K16<0,"⚠ Negative stock",IF(K16=0,"Out of stock",IF(K16<=N(G16),"Reorder","✔ OK"))))) | M16: =IF(AND(A16<>"",OR(L16="Reorder",L16="Out of stock",L16="⚠ Negative stock")),COUNTIF($L$6:L16,"Reorder")+COUNTIF($L$6:L16,"Out of stock")+COUNTIF($L$6:L16,"⚠ Negative stock"),"")
H17: =IF(A17="","",N(E17)*N(F17)) | I17: =IF(A17="","",SUMIFS('Stock Register'!$F$7:$F$506,'Stock Register'!$C$7:$C$506,A17,'Stock Register'!$E$7:$E$506,"In")) | J17: =IF(A17="","",SUMIFS('Stock Register'!$F$7:$F$506,'Stock Register'!$C$7:$C$506,A17,'Stock Register'!$E$7:$E$506,"Out")) | K17: =IF(A17="","",N(E17)+I17-J17) | L17: =IF(A17="","",IF(COUNTIF($A$6:$A$105,A17)>1,"⚠ Duplicate code",IF(K17<0,"⚠ Negative stock",IF(K17=0,"Out of stock",IF(K17<=N(G17),"Reorder","✔ OK"))))) | M17: =IF(AND(A17<>"",OR(L17="Reorder",L17="Out of stock",L17="⚠ Negative stock")),COUNTIF($L$6:L17,"Reorder")+COUNTIF($L$6:L17,"Out of stock")+COUNTIF($L$6:L17,"⚠ Negative stock"),"")
H18: =IF(A18="","",N(E18)*N(F18)) | I18: =IF(A18="","",SUMIFS('Stock Register'!$F$7:$F$506,'Stock Register'!$C$7:$C$506,A18,'Stock Register'!$E$7:$E$506,"In")) | J18: =IF(A18="","",SUMIFS('Stock Register'!$F$7:$F$506,'Stock Register'!$C$7:$C$506,A18,'Stock Register'!$E$7:$E$506,"Out")) | K18: =IF(A18="","",N(E18)+I18-J18) | L18: =IF(A18="","",IF(COUNTIF($A$6:$A$105,A18)>1,"⚠ Duplicate code",IF(K18<0,"⚠ Negative stock",IF(K18=0,"Out of stock",IF(K18<=N(G18),"Reorder","✔ OK"))))) | M18: =IF(AND(A18<>"",OR(L18="Reorder",L18="Out of stock",L18="⚠ Negative stock")),COUNTIF($L$6:L18,"Reorder")+COUNTIF($L$6:L18,"Out of stock")+COUNTIF($L$6:L18,"⚠ Negative stock"),"")
H19: =IF(A19="","",N(E19)*N(F19)) | I19: =IF(A19="","",SUMIFS('Stock Register'!$F$7:$F$506,'Stock Register'!$C$7:$C$506,A19,'Stock Register'!$E$7:$E$506,"In")) | J19: =IF(A19="","",SUMIFS('Stock Register'!$F$7:$F$506,'Stock Register'!$C$7:$C$506,A19,'Stock Register'!$E$7:$E$506,"Out")) | K19: =IF(A19="","",N(E19)+I19-J19) | L19: =IF(A19="","",IF(COUNTIF($A$6:$A$105,A19)>1,"⚠ Duplicate code",IF(K19<0,"⚠ Negative stock",IF(K19=0,"Out of stock",IF(K19<=N(G19),"Reorder","✔ OK"))))) | M19: =IF(AND(A19<>"",OR(L19="Reorder",L19="Out of stock",L19="⚠ Negative stock")),COUNTIF($L$6:L19,"Reorder")+COUNTIF($L$6:L19,"Out of stock")+COUNTIF($L$6:L19,"⚠ Negative stock"),"")
H20: =IF(A20="","",N(E20)*N(F20)) | I20: =IF(A20="","",SUMIFS('Stock Register'!$F$7:$F$506,'Stock Register'!$C$7:$C$506,A20,'Stock Register'!$E$7:$E$506,"In")) | J20: =IF(A20="","",SUMIFS('Stock Register'!$F$7:$F$506,'Stock Register'!$C$7:$C$506,A20,'Stock Register'!$E$7:$E$506,"Out")) | K20: =IF(A20="","",N(E20)+I20-J20) | L20: =IF(A20="","",IF(COUNTIF($A$6:$A$105,A20)>1,"⚠ Duplicate code",IF(K20<0,"⚠ Negative stock",IF(K20=0,"Out of stock",IF(K20<=N(G20),"Reorder","✔ OK"))))) | M20: =IF(AND(A20<>"",OR(L20="Reorder",L20="Out of stock",L20="⚠ Negative stock")),COUNTIF($L$6:L20,"Reorder")+COUNTIF($L$6:L20,"Out of stock")+COUNTIF($L$6:L20,"⚠ Negative stock"),"")
H21: =IF(A21="","",N(E21)*N(F21)) | I21: =IF(A21="","",SUMIFS('Stock Register'!$F$7:$F$506,'Stock Register'!$C$7:$C$506,A21,'Stock Register'!$E$7:$E$506,"In")) | J21: =IF(A21="","",SUMIFS('Stock Register'!$F$7:$F$506,'Stock Register'!$C$7:$C$506,A21,'Stock Register'!$E$7:$E$506,"Out")) | K21: =IF(A21="","",N(E21)+I21-J21) | L21: =IF(A21="","",IF(COUNTIF($A$6:$A$105,A21)>1,"⚠ Duplicate code",IF(K21<0,"⚠ Negative stock",IF(K21=0,"Out of stock",IF(K21<=N(G21),"Reorder","✔ OK"))))) | M21: =IF(AND(A21<>"",OR(L21="Reorder",L21="Out of stock",L21="⚠ Negative stock")),COUNTIF($L$6:L21,"Reorder")+COUNTIF($L$6:L21,"Out of stock")+COUNTIF($L$6:L21,"⚠ Negative stock"),"")
H22: =IF(A22="","",N(E22)*N(F22)) | I22: =IF(A22="","",SUMIFS('Stock Register'!$F$7:$F$506,'Stock Register'!$C$7:$C$506,A22,'Stock Register'!$E$7:$E$506,"In")) | J22: =IF(A22="","",SUMIFS('Stock Register'!$F$7:$F$506,'Stock Register'!$C$7:$C$506,A22,'Stock Register'!$E$7:$E$506,"Out")) | K22: =IF(A22="","",N(E22)+I22-J22) | L22: =IF(A22="","",IF(COUNTIF($A$6:$A$105,A22)>1,"⚠ Duplicate code",IF(K22<0,"⚠ Negative stock",IF(K22=0,"Out of stock",IF(K22<=N(G22),"Reorder","✔ OK"))))) | M22: =IF(AND(A22<>"",OR(L22="Reorder",L22="Out of stock",L22="⚠ Negative stock")),COUNTIF($L$6:L22,"Reorder")+COUNTIF($L$6:L22,"Out of stock")+COUNTIF($L$6:L22,"⚠ Negative stock"),"")
H23: =IF(A23="","",N(E23)*N(F23)) | I23: =IF(A23="","",SUMIFS('Stock Register'!$F$7:$F$506,'Stock Register'!$C$7:$C$506,A23,'Stock Register'!$E$7:$E$506,"In")) | J23: =IF(A23="","",SUMIFS('Stock Register'!$F$7:$F$506,'Stock Register'!$C$7:$C$506,A23,'Stock Register'!$E$7:$E$506,"Out")) | K23: =IF(A23="","",N(E23)+I23-J23) | L23: =IF(A23="","",IF(COUNTIF($A$6:$A$105,A23)>1,"⚠ Duplicate code",IF(K23<0,"⚠ Negative stock",IF(K23=0,"Out of stock",IF(K23<=N(G23),"Reorder","✔ OK"))))) | M23: =IF(AND(A23<>"",OR(L23="Reorder",L23="Out of stock",L23="⚠ Negative stock")),COUNTIF($L$6:L23,"Reorder")+COUNTIF($L$6:L23,"Out of stock")+COUNTIF($L$6:L23,"⚠ Negative stock"),"")
... H105: =IF(A105="","",N(E105)*N(F105)) | I105: =IF(A105="","",SUMIFS('Stock Register'!$F$7:$F$506,'Stock Register'!$C$7:$C$506,A105,'Stock Register'!$E$7:$E$506,"In")) | J105: =IF(A105="","",SUMIFS('Stock Register'!$F$7:$F$506,'Stock Register'!$C$7:$C$506,A105,'Stock Register'!$E$7:$E$506,"Out")) | K105: =IF(A105="","",N(E105)+I105-J105) | L105: =IF(A105="","",IF(COUNTIF($A$6:$A$105,A105)>1,"⚠ Duplicate code",IF(K105<0,"⚠ Negative stock",IF(K105=0,"Out of stock",IF(K105<=N(G105),"Reorder","✔ OK"))))) | M105: =IF(AND(A105<>"",OR(L105="Reorder",L105="Out of stock",L105="⚠ Negative stock")),COUNTIF($L$6:L105,"Reorder")+COUNTIF($L$6:L105,"Out of stock")+COUNTIF($L$6:L105,"⚠ Negative stock"),"")

Sheet Stock Register
A1: ◄ BACK TO DASHBOARD
A2: ="Stock Register – "&Setup!$C$4&" • "&TEXT(Setup!$C$6,"dd mmm yyyy")&" to "&TEXT(Setup!$C$7,"dd mmm yyyy") -> Stock Register – M/s Xplore Electricals • 01 Oct 2026 to 31 Oct 2026
A3: One row per movement. In = purchase / receipt (enter the purchase rate). Out = sale / issue (rate optional – enter the sale rate to see gross profit). Rows can be in any order; dates decide the sequence.
A6: S.No | B6: Date | C6: Item Code | D6: Item name | E6: In / Out | F6: Quantity | G6: Rate (₹) | H6: Party / Remarks | I6: Voucher / Bill no. | J6: Amount (₹) | K6: Balance qty | L6: Check
A7: =IF(C7="","",ROW()-6) -> 1 | B7: 46296 | C7: E01 | D7: =IF(C7="","",IFERROR(INDEX('Item Master'!$B$6:$B$105,MATCH(C7,'Item Master'!$A$6:$A$105,0)),"?")) -> LED Bulb 9W | E7: In | F7: 300 | G7: 58 | H7: Sharma Lighting | I7: P-101 | J7: =IF(OR(C7="",G7=""),"",N(F7)*N(G7)) -> 17400 | K7: =IF(M7="","",N(IFERROR(INDEX('Item Master'!$E$6:$E$105,MATCH(C7,'Item Master'!$A$6:$A$105,0)),0))+SUMIFS($F$7:$F$506,$C$7:$C$506,C7,$E$7:$E$506,"In",$M$7:$M$506,"<="&M7)-SUMIFS($F$7:$F$506,$C$7:$C$506,C7,$E$7:$E$506,"Out",$M$7:$M$506,"<="&M7)) -> 500 | L7: =IF(AND(B7="",C7="",F7=""),"",IF(C7="","⚠ Pick item",IF(D7="?","⚠ Code not in Item Master",IF(B7="","⚠ Enter date",IF(OR(E7="",N(F7)<=0),"⚠ Type / quantity missing",IF(AND(E7="In",G7=""),"⚠ Enter purchase rate",IF(OR(B7<Setup!$C$6,B7>Setup!$C$7),"Outside period",IF(K7<0,"⚠ Stock goes negative","✔ OK")))))))) -> ✔ OK | M7: =IF(OR(C7="",B7=""),"",B7+ROW()/1000000) -> 46296 | N7: =IF(AND(E7="In",M7<>""),SUMIFS($F$7:$F$506,$C$7:$C$506,C7,$E$7:$E$506,"In",$M$7:$M$506,">"&M7),"") -> 200 | O7: =IF(N7="","",IFERROR(INDEX('Item Master'!$K$6:$K$105,MATCH(C7,'Item Master'!$A$6:$A$105,0)),0)) -> 150 | P7: =IF(N7="",0,MAX(0,MIN(N(F7),O7-N7))*N(G7)) -> 0 | Q7: =IF(AND(C7<>"",C7='Stock Ledger'!$C$4),M7,"") -> 46296
A8: =IF(C8="","",ROW()-6) -> 2 | B8: 46297 | C8: E01 | D8: =IF(C8="","",IFERROR(INDEX('Item Master'!$B$6:$B$105,MATCH(C8,'Item Master'!$A$6:$A$105,0)),"?")) -> LED Bulb 9W | E8: Out | F8: 220 | G8: 85 | H8: Counter sales | I8: S-201 | J8: =IF(OR(C8="",G8=""),"",N(F8)*N(G8)) -> 18700 | K8: =IF(M8="","",N(IFERROR(INDEX('Item Master'!$E$6:$E$105,MATCH(C8,'Item Master'!$A$6:$A$105,0)),0))+SUMIFS($F$7:$F$506,$C$7:$C$506,C8,$E$7:$E$506,"In",$M$7:$M$506,"<="&M8)-SUMIFS($F$7:$F$506,$C$7:$C$506,C8,$E$7:$E$506,"Out",$M$7:$M$506,"<="&M8)) -> 280 | L8: =IF(AND(B8="",C8="",F8=""),"",IF(C8="","⚠ Pick item",IF(D8="?","⚠ Code not in Item Master",IF(B8="","⚠ Enter date",IF(OR(E8="",N(F8)<=0),"⚠ Type / quantity missing",IF(AND(E8="In",G8=""),"⚠ Enter purchase rate",IF(OR(B8<Setup!$C$6,B8>Setup!$C$7),"Outside period",IF(K8<0,"⚠ Stock goes negative","✔ OK")))))))) -> ✔ OK | M8: =IF(OR(C8="",B8=""),"",B8+ROW()/1000000) -> 46297 | N8: =IF(AND(E8="In",M8<>""),SUMIFS($F$7:$F$506,$C$7:$C$506,C8,$E$7:$E$506,"In",$M$7:$M$506,">"&M8),"") | O8: =IF(N8="","",IFERROR(INDEX('Item Master'!$K$6:$K$105,MATCH(C8,'Item Master'!$A$6:$A$105,0)),0)) | P8: =IF(N8="",0,MAX(0,MIN(N(F8),O8-N8))*N(G8)) -> 0 | Q8: =IF(AND(C8<>"",C8='Stock Ledger'!$C$4),M8,"") -> 46297
A9: =IF(C9="","",ROW()-6) -> 3 | B9: 46298 | C9: E02 | D9: =IF(C9="","",IFERROR(INDEX('Item Master'!$B$6:$B$105,MATCH(C9,'Item Master'!$A$6:$A$105,0)),"?")) -> Ceiling Fan 1200 mm | E9: Out | F9: 8 | G9: 1950 | H9: Counter sales | I9: S-202 | J9: =IF(OR(C9="",G9=""),"",N(F9)*N(G9)) -> 15600 | K9: =IF(M9="","",N(IFERROR(INDEX('Item Master'!$E$6:$E$105,MATCH(C9,'Item Master'!$A$6:$A$105,0)),0))+SUMIFS($F$7:$F$506,$C$7:$C$506,C9,$E$7:$E$506,"In",$M$7:$M$506,"<="&M9)-SUMIFS($F$7:$F$506,$C$7:$C$506,C9,$E$7:$E$506,"Out",$M$7:$M$506,"<="&M9)) -> 12 | L9: =IF(AND(B9="",C9="",F9=""),"",IF(C9="","⚠ Pick item",IF(D9="?","⚠ Code not in Item Master",IF(B9="","⚠ Enter date",IF(OR(E9="",N(F9)<=0),"⚠ Type / quantity missing",IF(AND(E9="In",G9=""),"⚠ Enter purchase rate",IF(OR(B9<Setup!$C$6,B9>Setup!$C$7),"Outside period",IF(K9<0,"⚠ Stock goes negative","✔ OK")))))))) -> ✔ OK | M9: =IF(OR(C9="",B9=""),"",B9+ROW()/1000000) -> 46298 | N9: =IF(AND(E9="In",M9<>""),SUMIFS($F$7:$F$506,$C$7:$C$506,C9,$E$7:$E$506,"In",$M$7:$M$506,">"&M9),"") | O9: =IF(N9="","",IFERROR(INDEX('Item Master'!$K$6:$K$105,MATCH(C9,'Item Master'!$A$6:$A$105,0)),0)) | P9: =IF(N9="",0,MAX(0,MIN(N(F9),O9-N9))*N(G9)) -> 0 | Q9: =IF(AND(C9<>"",C9='Stock Ledger'!$C$4),M9,"")
A10: =IF(C10="","",ROW()-6) -> 4 | B10: 46299 | C10: E02 | D10: =IF(C10="","",IFERROR(INDEX('Item Master'!$B$6:$B$105,MATCH(C10,'Item Master'!$A$6:$A$105,0)),"?")) -> Ceiling Fan 1200 mm | E10: In | F10: 15 | G10: 1500 | H10: Crompton Distributor | I10: P-102 | J10: =IF(OR(C10="",G10=""),"",N(F10)*N(G10)) -> 22500 | K10: =IF(M10="","",N(IFERROR(INDEX('Item Master'!$E$6:$E$105,MATCH(C10,'Item Master'!$A$6:$A$105,0)),0))+SUMIFS($F$7:$F$506,$C$7:$C$506,C10,$E$7:$E$506,"In",$M$7:$M$506,"<="&M10)-SUMIFS($F$7:$F$506,$C$7:$C$506,C10,$E$7:$E$506,"Out",$M$7:$M$506,"<="&M10)) -> 27 | L10: =IF(AND(B10="",C10="",F10=""),"",IF(C10="","⚠ Pick item",IF(D10="?","⚠ Code not in Item Master",IF(B10="","⚠ Enter date",IF(OR(E10="",N(F10)<=0),"⚠ Type / quantity missing",IF(AND(E10="In",G10=""),"⚠ Enter purchase rate",IF(OR(B10<Setup!$C$6,B10>Setup!$C$7),"Outside period",IF(K10<0,"⚠ Stock goes negative","✔ OK")))))))) -> ✔ OK | M10: =IF(OR(C10="",B10=""),"",B10+ROW()/1000000) -> 46299 | N10: =IF(AND(E10="In",M10<>""),SUMIFS($F$7:$F$506,$C$7:$C$506,C10,$E$7:$E$506,"In",$M$7:$M$506,">"&M10),"") -> 0 | O10: =IF(N10="","",IFERROR(INDEX('Item Master'!$K$6:$K$105,MATCH(C10,'Item Master'!$A$6:$A$105,0)),0)) -> 9 | P10: =IF(N10="",0,MAX(0,MIN(N(F10),O10-N10))*N(G10)) -> 13500 | Q10: =IF(AND(C10<>"",C10='Stock Ledger'!$C$4),M10,"")
A11: =IF(C11="","",ROW()-6) -> 5 | B11: 46300 | C11: E03 | D11: =IF(C11="","",IFERROR(INDEX('Item Master'!$B$6:$B$105,MATCH(C11,'Item Master'!$A$6:$A$105,0)),"?")) -> Copper Wire 1.5 sq mm (90 m) | E11: Out | F11: 12 | G11: 1600 | H11: Gupta Builders | I11: S-203 | J11: =IF(OR(C11="",G11=""),"",N(F11)*N(G11)) -> 19200 | K11: =IF(M11="","",N(IFERROR(INDEX('Item Master'!$E$6:$E$105,MATCH(C11,'Item Master'!$A$6:$A$105,0)),0))+SUMIFS($F$7:$F$506,$C$7:$C$506,C11,$E$7:$E$506,"In",$M$7:$M$506,"<="&M11)-SUMIFS($F$7:$F$506,$C$7:$C$506,C11,$E$7:$E$506,"Out",$M$7:$M$506,"<="&M11)) -> 18 | L11: =IF(AND(B11="",C11="",F11=""),"",IF(C11="","⚠ Pick item",IF(D11="?","⚠ Code not in Item Master",IF(B11="","⚠ Enter date",IF(OR(E11="",N(F11)<=0),"⚠ Type / quantity missing",IF(AND(E11="In",G11=""),"⚠ Enter purchase rate",IF(OR(B11<Setup!$C$6,B11>Setup!$C$7),"Outside period",IF(K11<0,"⚠ Stock goes negative","✔ OK")))))))) -> ✔ OK | M11: =IF(OR(C11="",B11=""),"",B11+ROW()/1000000) -> 46300 | N11: =IF(AND(E11="In",M11<>""),SUMIFS($F$7:$F$506,$C$7:$C$506,C11,$E$7:$E$506,"In",$M$7:$M$506,">"&M11),"") | O11: =IF(N11="","",IFERROR(INDEX('Item Master'!$K$6:$K$105,MATCH(C11,'Item Master'!$A$6:$A$105,0)),0)) | P11: =IF(N11="",0,MAX(0,MIN(N(F11),O11-N11))*N(G11)) -> 0 | Q11: =IF(AND(C11<>"",C11='Stock Ledger'!$C$4),M11,"")
A12: =IF(C12="","",ROW()-6) -> 6 | B12: 46301 | C12: E03 | D12: =IF(C12="","",IFERROR(INDEX('Item Master'!$B$6:$B$105,MATCH(C12,'Item Master'!$A$6:$A$105,0)),"?")) -> Copper Wire 1.5 sq mm (90 m) | E12: In | F12: 20 | G12: 1310 | H12: Wire House | I12: P-103 | J12: =IF(OR(C12="",G12=""),"",N(F12)*N(G12)) -> 26200 | K12: =IF(M12="","",N(IFERROR(INDEX('Item Master'!$E$6:$E$105,MATCH(C12,'Item Master'!$A$6:$A$105,0)),0))+SUMIFS($F$7:$F$506,$C$7:$C$506,C12,$E$7:$E$506,"In",$M$7:$M$506,"<="&M12)-SUMIFS($F$7:$F$506,$C$7:$C$506,C12,$E$7:$E$506,"Out",$M$7:$M$506,"<="&M12)) -> 38 | L12: =IF(AND(B12="",C12="",F12=""),"",IF(C12="","⚠ Pick item",IF(D12="?","⚠ Code not in Item Master",IF(B12="","⚠ Enter date",IF(OR(E12="",N(F12)<=0),"⚠ Type / quantity missing",IF(AND(E12="In",G12=""),"⚠ Enter purchase rate",IF(OR(B12<Setup!$C$6,B12>Setup!$C$7),"Outside period",IF(K12<0,"⚠ Stock goes negative","✔ OK")))))))) -> ✔ OK | M12: =IF(OR(C12="",B12=""),"",B12+ROW()/1000000) -> 46301 | N12: =IF(AND(E12="In",M12<>""),SUMIFS($F$7:$F$506,$C$7:$C$506,C12,$E$7:$E$506,"In",$M$7:$M$506,">"&M12),"") -> 15 | O12: =IF(N12="","",IFERROR(INDEX('Item Master'!$K$6:$K$105,MATCH(C12,'Item Master'!$A$6:$A$105,0)),0)) -> 28 | P12: =IF(N12="",0,MAX(0,MIN(N(F12),O12-N12))*N(G12)) -> 17030 | Q12: =IF(AND(C12<>"",C12='Stock Ledger'!$C$4),M12,"")
A13: =IF(C13="","",ROW()-6) -> 7 | B13: 46303 | C13: E04 | D13: =IF(C13="","",IFERROR(INDEX('Item Master'!$B$6:$B$105,MATCH(C13,'Item Master'!$A$6:$A$105,0)),"?")) -> MCB 32A Single Pole | E13: Out | F13: 30 | G13: 260 | H13: Counter sales | I13: S-204 | J13: =IF(OR(C13="",G13=""),"",N(F13)*N(G13)) -> 7800 | K13: =IF(M13="","",N(IFERROR(INDEX('Item Master'!$E$6:$E$105,MATCH(C13,'Item Master'!$A$6:$A$105,0)),0))+SUMIFS($F$7:$F$506,$C$7:$C$506,C13,$E$7:$E$506,"In",$M$7:$M$506,"<="&M13)-SUMIFS($F$7:$F$506,$C$7:$C$506,C13,$E$7:$E$506,"Out",$M$7:$M$506,"<="&M13)) -> 20 | L13: =IF(AND(B13="",C13="",F13=""),"",IF(C13="","⚠ Pick item",IF(D13="?","⚠ Code not in Item Master",IF(B13="","⚠ Enter date",IF(OR(E13="",N(F13)<=0),"⚠ Type / quantity missing",IF(AND(E13="In",G13=""),"⚠ Enter purchase rate",IF(OR(B13<Setup!$C$6,B13>Setup!$C$7),"Outside period",IF(K13<0,"⚠ Stock goes negative","✔ OK")))))))) -> ✔ OK | M13: =IF(OR(C13="",B13=""),"",B13+ROW()/1000000) -> 46303 | N13: =IF(AND(E13="In",M13<>""),SUMIFS($F$7:$F$506,$C$7:$C$506,C13,$E$7:$E$506,"In",$M$7:$M$506,">"&M13),"") | O13: =IF(N13="","",IFERROR(INDEX('Item Master'!$K$6:$K$105,MATCH(C13,'Item Master'!$A$6:$A$105,0)),0)) | P13: =IF(N13="",0,MAX(0,MIN(N(F13),O13-N13))*N(G13)) -> 0 | Q13: =IF(AND(C13<>"",C13='Stock Ledger'!$C$4),M13,"")
A14: =IF(C14="","",ROW()-6) -> 8 | B14: 46304 | C14: E01 | D14: =IF(C14="","",IFERROR(INDEX('Item Master'!$B$6:$B$105,MATCH(C14,'Item Master'!$A$6:$A$105,0)),"?")) -> LED Bulb 9W | E14: Out | F14: 150 | G14: 85 | H14: Counter sales | I14: S-205 | J14: =IF(OR(C14="",G14=""),"",N(F14)*N(G14)) -> 12750 | K14: =IF(M14="","",N(IFERROR(INDEX('Item Master'!$E$6:$E$105,MATCH(C14,'Item Master'!$A$6:$A$105,0)),0))+SUMIFS($F$7:$F$506,$C$7:$C$506,C14,$E$7:$E$506,"In",$M$7:$M$506,"<="&M14)-SUMIFS($F$7:$F$506,$C$7:$C$506,C14,$E$7:$E$506,"Out",$M$7:$M$506,"<="&M14)) -> 130 | L14: =IF(AND(B14="",C14="",F14=""),"",IF(C14="","⚠ Pick item",IF(D14="?","⚠ Code not in Item Master",IF(B14="","⚠ Enter date",IF(OR(E14="",N(F14)<=0),"⚠ Type / quantity missing",IF(AND(E14="In",G14=""),"⚠ Enter purchase rate",IF(OR(B14<Setup!$C$6,B14>Setup!$C$7),"Outside period",IF(K14<0,"⚠ Stock goes negative","✔ OK")))))))) -> ✔ OK | M14: =IF(OR(C14="",B14=""),"",B14+ROW()/1000000) -> 46304 | N14: =IF(AND(E14="In",M14<>""),SUMIFS($F$7:$F$506,$C$7:$C$506,C14,$E$7:$E$506,"In",$M$7:$M$506,">"&M14),"") | O14: =IF(N14="","",IFERROR(INDEX('Item Master'!$K$6:$K$105,MATCH(C14,'Item Master'!$A$6:$A$105,0)),0)) | P14: =IF(N14="",0,MAX(0,MIN(N(F14),O14-N14))*N(G14)) -> 0 | Q14: =IF(AND(C14<>"",C14='Stock Ledger'!$C$4),M14,"") -> 46304
A15: =IF(C15="","",ROW()-6) -> 9 | B15: 46305 | C15: E04 | D15: =IF(C15="","",IFERROR(INDEX('Item Master'!$B$6:$B$105,MATCH(C15,'Item Master'!$A$6:$A$105,0)),"?")) -> MCB 32A Single Pole | E15: In | F15: 60 | G15: 185 | H15: Havells Distributor | I15: P-104 | J15: =IF(OR(C15="",G15=""),"",N(F15)*N(G15)) -> 11100 | K15: =IF(M15="","",N(IFERROR(INDEX('Item Master'!$E$6:$E$105,MATCH(C15,'Item Master'!$A$6:$A$105,0)),0))+SUMIFS($F$7:$F$506,$C$7:$C$506,C15,$E$7:$E$506,"In",$M$7:$M$506,"<="&M15)-SUMIFS($F$7:$F$506,$C$7:$C$506,C15,$E$7:$E$506,"Out",$M$7:$M$506,"<="&M15)) -> 80 | L15: =IF(AND(B15="",C15="",F15=""),"",IF(C15="","⚠ Pick item",IF(D15="?","⚠ Code not in Item Master",IF(B15="","⚠ Enter date",IF(OR(E15="",N(F15)<=0),"⚠ Type / quantity missing",IF(AND(E15="In",G15=""),"⚠ Enter purchase rate",IF(OR(B15<Setup!$C$6,B15>Setup!$C$7),"Outside period",IF(K15<0,"⚠ Stock goes negative","✔ OK")))))))) -> ✔ OK | M15: =IF(OR(C15="",B15=""),"",B15+ROW()/1000000) -> 46305 | N15: =IF(AND(E15="In",M15<>""),SUMIFS($F$7:$F$506,$C$7:$C$506,C15,$E$7:$E$506,"In",$M$7:$M$506,">"&M15),"") -> 0 | O15: =IF(N15="","",IFERROR(INDEX('Item Master'!$K$6:$K$105,MATCH(C15,'Item Master'!$A$6:$A$105,0)),0)) -> 35 | P15: =IF(N15="",0,MAX(0,MIN(N(F15),O15-N15))*N(G15)) -> 6475 | Q15: =IF(AND(C15<>"",C15='Stock Ledger'!$C$4),M15,"")
A16: =IF(C16="","",ROW()-6) -> 10 | B16: 46307 | C16: E06 | D16: =IF(C16="","",IFERROR(INDEX('Item Master'!$B$6:$B$105,MATCH(C16,'Item Master'!$A$6:$A$105,0)),"?")) -> LED Tube Light 20W | E16: Out | F16: 25 | G16: 230 | H16: Counter sales | I16: S-206 | J16: =IF(OR(C16="",G16=""),"",N(F16)*N(G16)) -> 5750 | K16: =IF(M16="","",N(IFERROR(INDEX('Item Master'!$E$6:$E$105,MATCH(C16,'Item Master'!$A$6:$A$105,0)),0))+SUMIFS($F$7:$F$506,$C$7:$C$506,C16,$E$7:$E$506,"In",$M$7:$M$506,"<="&M16)-SUMIFS($F$7:$F$506,$C$7:$C$506,C16,$E$7:$E$506,"Out",$M$7:$M$506,"<="&M16)) -> 35 | L16: =IF(AND(B16="",C16="",F16=""),"",IF(C16="","⚠ Pick item",IF(D16="?","⚠ Code not in Item Master",IF(B16="","⚠ Enter date",IF(OR(E16="",N(F16)<=0),"⚠ Type / quantity missing",IF(AND(E16="In",G16=""),"⚠ Enter purchase rate",IF(OR(B16<Setup!$C$6,B16>Setup!$C$7),"Outside period",IF(K16<0,"⚠ Stock goes negative","✔ OK")))))))) -> ✔ OK | M16: =IF(OR(C16="",B16=""),"",B16+ROW()/1000000) -> 46307 | N16: =IF(AND(E16="In",M16<>""),SUMIFS($F$7:$F$506,$C$7:$C$506,C16,$E$7:$E$506,"In",$M$7:$M$506,">"&M16),"") | O16: =IF(N16="","",IFERROR(INDEX('Item Master'!$K$6:$K$105,MATCH(C16,'Item Master'!$A$6:$A$105,0)),0)) | P16: =IF(N16="",0,MAX(0,MIN(N(F16),O16-N16))*N(G16)) -> 0 | Q16: =IF(AND(C16<>"",C16='Stock Ledger'!$C$4),M16,"")
A17: =IF(C17="","",ROW()-6) -> 11 | B17: 46308 | C17: E05 | D17: =IF(C17="","",IFERROR(INDEX('Item Master'!$B$6:$B$105,MATCH(C17,'Item Master'!$A$6:$A$105,0)),"?")) -> Extension Board 4-way | E17: Out | F17: 22 | G17: 299 | H17: Counter sales | I17: S-207 | J17: =IF(OR(C17="",G17=""),"",N(F17)*N(G17)) -> 6578 | K17: =IF(M17="","",N(IFERROR(INDEX('Item Master'!$E$6:$E$105,MATCH(C17,'Item Master'!$A$6:$A$105,0)),0))+SUMIFS($F$7:$F$506,$C$7:$C$506,C17,$E$7:$E$506,"In",$M$7:$M$506,"<="&M17)-SUMIFS($F$7:$F$506,$C$7:$C$506,C17,$E$7:$E$506,"Out",$M$7:$M$506,"<="&M17)) -> 18 | L17: =IF(AND(B17="",C17="",F17=""),"",IF(C17="","⚠ Pick item",IF(D17="?","⚠ Code not in Item Master",IF(B17="","⚠ Enter date",IF(OR(E17="",N(F17)<=0),"⚠ Type / quantity missing",IF(AND(E17="In",G17=""),"⚠ Enter purchase rate",IF(OR(B17<Setup!$C$6,B17>Setup!$C$7),"Outside period",IF(K17<0,"⚠ Stock goes negative","✔ OK")))))))) -> ✔ OK | M17: =IF(OR(C17="",B17=""),"",B17+ROW()/1000000) -> 46308 | N17: =IF(AND(E17="In",M17<>""),SUMIFS($F$7:$F$506,$C$7:$C$506,C17,$E$7:$E$506,"In",$M$7:$M$506,">"&M17),"") | O17: =IF(N17="","",IFERROR(INDEX('Item Master'!$K$6:$K$105,MATCH(C17,'Item Master'!$A$6:$A$105,0)),0)) | P17: =IF(N17="",0,MAX(0,MIN(N(F17),O17-N17))*N(G17)) -> 0 | Q17: =IF(AND(C17<>"",C17='Stock Ledger'!$C$4),M17,"")
A18: =IF(C18="","",ROW()-6) -> 12 | B18: 46310 | C18: E01 | D18: =IF(C18="","",IFERROR(INDEX('Item Master'!$B$6:$B$105,MATCH(C18,'Item Master'!$A$6:$A$105,0)),"?")) -> LED Bulb 9W | E18: In | F18: 200 | G18: 60 | H18: Sharma Lighting | I18: P-105 | J18: =IF(OR(C18="",G18=""),"",N(F18)*N(G18)) -> 12000 | K18: =IF(M18="","",N(IFERROR(INDEX('Item Master'!$E$6:$E$105,MATCH(C18,'Item Master'!$A$6:$A$105,0)),0))+SUMIFS($F$7:$F$506,$C$7:$C$506,C18,$E$7:$E$506,"In",$M$7:$M$506,"<="&M18)-SUMIFS($F$7:$F$506,$C$7:$C$506,C18,$E$7:$E$506,"Out",$M$7:$M$506,"<="&M18)) -> 330 | L18: =IF(AND(B18="",C18="",F18=""),"",IF(C18="","⚠ Pick item",IF(D18="?","⚠ Code not in Item Master",IF(B18="","⚠ Enter date",IF(OR(E18="",N(F18)<=0),"⚠ Type / quantity missing",IF(AND(E18="In",G18=""),"⚠ Enter purchase rate",IF(OR(B18<Setup!$C$6,B18>Setup!$C$7),"Outside period",IF(K18<0,"⚠ Stock goes negative","✔ OK")))))))) -> ✔ OK | M18: =IF(OR(C18="",B18=""),"",B18+ROW()/1000000) -> 46310 | N18: =IF(AND(E18="In",M18<>""),SUMIFS($F$7:$F$506,$C$7:$C$506,C18,$E$7:$E$506,"In",$M$7:$M$506,">"&M18),"") -> 0 | O18: =IF(N18="","",IFERROR(INDEX('Item Master'!$K$6:$K$105,MATCH(C18,'Item Master'!$A$6:$A$105,0)),0)) -> 150 | P18: =IF(N18="",0,MAX(0,MIN(N(F18),O18-N18))*N(G18)) -> 9000 | Q18: =IF(AND(C18<>"",C18='Stock Ledger'!$C$4),M18,"") -> 46310
... A27: =IF(C27="","",ROW()-6) -> 21 | B27: 46324 | C27: E02 | D27: =IF(C27="","",IFERROR(INDEX('Item Master'!$B$6:$B$105,MATCH(C27,'Item Master'!$A$6:$A$105,0)),"?")) -> Ceiling Fan 1200 mm | E27: Out | F27: 6 | G27: 1950 | H27: Counter sales | I27: S-214 | J27: =IF(OR(C27="",G27=""),"",N(F27)*N(G27)) -> 11700 | K27: =IF(M27="","",N(IFERROR(INDEX('Item Master'!$E$6:$E$105,MATCH(C27,'Item Master'!$A$6:$A$105,0)),0))+SUMIFS($F$7:$F$506,$C$7:$C$506,C27,$E$7:$E$506,"In",$M$7:$M$506,"<="&M27)-SUMIFS($F$7:$F$506,$C$7:$C$506,C27,$E$7:$E$506,"Out",$M$7:$M$506,"<="&M27)) -> 9 | L27: =IF(AND(B27="",C27="",F27=""),"",IF(C27="","⚠ Pick item",IF(D27="?","⚠ Code not in Item Master",IF(B27="","⚠ Enter date",IF(OR(E27="",N(F27)<=0),"⚠ Type / quantity missing",IF(AND(E27="In",G27=""),"⚠ Enter purchase rate",IF(OR(B27<Setup!$C$6,B27>Setup!$C$7),"Outside period",IF(K27<0,"⚠ Stock goes negative","✔ OK")))))))) -> ✔ OK | M27: =IF(OR(C27="",B27=""),"",B27+ROW()/1000000) -> 46324 | N27: =IF(AND(E27="In",M27<>""),SUMIFS($F$7:$F$506,$C$7:$C$506,C27,$E$7:$E$506,"In",$M$7:$M$506,">"&M27),"") | O27: =IF(N27="","",IFERROR(INDEX('Item Master'!$K$6:$K$105,MATCH(C27,'Item Master'!$A$6:$A$105,0)),0)) | P27: =IF(N27="",0,MAX(0,MIN(N(F27),O27-N27))*N(G27)) -> 0 | Q27: =IF(AND(C27<>"",C27='Stock Ledger'!$C$4),M27,"")
A28: =IF(C28="","",ROW()-6) | D28: =IF(C28="","",IFERROR(INDEX('Item Master'!$B$6:$B$105,MATCH(C28,'Item Master'!$A$6:$A$105,0)),"?")) | J28: =IF(OR(C28="",G28=""),"",N(F28)*N(G28)) | K28: =IF(M28="","",N(IFERROR(INDEX('Item Master'!$E$6:$E$105,MATCH(C28,'Item Master'!$A$6:$A$105,0)),0))+SUMIFS($F$7:$F$506,$C$7:$C$506,C28,$E$7:$E$506,"In",$M$7:$M$506,"<="&M28)-SUMIFS($F$7:$F$506,$C$7:$C$506,C28,$E$7:$E$506,"Out",$M$7:$M$506,"<="&M28)) | L28: =IF(AND(B28="",C28="",F28=""),"",IF(C28="","⚠ Pick item",IF(D28="?","⚠ Code not in Item Master",IF(B28="","⚠ Enter date",IF(OR(E28="",N(F28)<=0),"⚠ Type / quantity missing",IF(AND(E28="In",G28=""),"⚠ Enter purchase rate",IF(OR(B28<Setup!$C$6,B28>Setup!$C$7),"Outside period",IF(K28<0,"⚠ Stock goes negative","✔ OK")))))))) | M28: =IF(OR(C28="",B28=""),"",B28+ROW()/1000000) | N28: =IF(AND(E28="In",M28<>""),SUMIFS($F$7:$F$506,$C$7:$C$506,C28,$E$7:$E$506,"In",$M$7:$M$506,">"&M28),"") | O28: =IF(N28="","",IFERROR(INDEX('Item Master'!$K$6:$K$105,MATCH(C28,'Item Master'!$A$6:$A$105,0)),0)) | P28: =IF(N28="",0,MAX(0,MIN(N(F28),O28-N28))*N(G28)) -> 0 | Q28: =IF(AND(C28<>"",C28='Stock Ledger'!$C$4),M28,"")
A29: =IF(C29="","",ROW()-6) | D29: =IF(C29="","",IFERROR(INDEX('Item Master'!$B$6:$B$105,MATCH(C29,'Item Master'!$A$6:$A$105,0)),"?")) | J29: =IF(OR(C29="",G29=""),"",N(F29)*N(G29)) | K29: =IF(M29="","",N(IFERROR(INDEX('Item Master'!$E$6:$E$105,MATCH(C29,'Item Master'!$A$6:$A$105,0)),0))+SUMIFS($F$7:$F$506,$C$7:$C$506,C29,$E$7:$E$506,"In",$M$7:$M$506,"<="&M29)-SUMIFS($F$7:$F$506,$C$7:$C$506,C29,$E$7:$E$506,"Out",$M$7:$M$506,"<="&M29)) | L29: =IF(AND(B29="",C29="",F29=""),"",IF(C29="","⚠ Pick item",IF(D29="?","⚠ Code not in Item Master",IF(B29="","⚠ Enter date",IF(OR(E29="",N(F29)<=0),"⚠ Type / quantity missing",IF(AND(E29="In",G29=""),"⚠ Enter purchase rate",IF(OR(B29<Setup!$C$6,B29>Setup!$C$7),"Outside period",IF(K29<0,"⚠ Stock goes negative","✔ OK")))))))) | M29: =IF(OR(C29="",B29=""),"",B29+ROW()/1000000) | N29: =IF(AND(E29="In",M29<>""),SUMIFS($F$7:$F$506,$C$7:$C$506,C29,$E$7:$E$506,"In",$M$7:$M$506,">"&M29),"") | O29: =IF(N29="","",IFERROR(INDEX('Item Master'!$K$6:$K$105,MATCH(C29,'Item Master'!$A$6:$A$105,0)),0)) | P29: =IF(N29="",0,MAX(0,MIN(N(F29),O29-N29))*N(G29)) -> 0 | Q29: =IF(AND(C29<>"",C29='Stock Ledger'!$C$4),M29,"")
A30: =IF(C30="","",ROW()-6) | D30: =IF(C30="","",IFERROR(INDEX('Item Master'!$B$6:$B$105,MATCH(C30,'Item Master'!$A$6:$A$105,0)),"?")) | J30: =IF(OR(C30="",G30=""),"",N(F30)*N(G30)) | K30: =IF(M30="","",N(IFERROR(INDEX('Item Master'!$E$6:$E$105,MATCH(C30,'Item Master'!$A$6:$A$105,0)),0))+SUMIFS($F$7:$F$506,$C$7:$C$506,C30,$E$7:$E$506,"In",$M$7:$M$506,"<="&M30)-SUMIFS($F$7:$F$506,$C$7:$C$506,C30,$E$7:$E$506,"Out",$M$7:$M$506,"<="&M30)) | L30: =IF(AND(B30="",C30="",F30=""),"",IF(C30="","⚠ Pick item",IF(D30="?","⚠ Code not in Item Master",IF(B30="","⚠ Enter date",IF(OR(E30="",N(F30)<=0),"⚠ Type / quantity missing",IF(AND(E30="In",G30=""),"⚠ Enter purchase rate",IF(OR(B30<Setup!$C$6,B30>Setup!$C$7),"Outside period",IF(K30<0,"⚠ Stock goes negative","✔ OK")))))))) | M30: =IF(OR(C30="",B30=""),"",B30+ROW()/1000000) | N30: =IF(AND(E30="In",M30<>""),SUMIFS($F$7:$F$506,$C$7:$C$506,C30,$E$7:$E$506,"In",$M$7:$M$506,">"&M30),"") | O30: =IF(N30="","",IFERROR(INDEX('Item Master'!$K$6:$K$105,MATCH(C30,'Item Master'!$A$6:$A$105,0)),0)) | P30: =IF(N30="",0,MAX(0,MIN(N(F30),O30-N30))*N(G30)) -> 0 | Q30: =IF(AND(C30<>"",C30='Stock Ledger'!$C$4),M30,"")
A31: =IF(C31="","",ROW()-6) | D31: =IF(C31="","",IFERROR(INDEX('Item Master'!$B$6:$B$105,MATCH(C31,'Item Master'!$A$6:$A$105,0)),"?")) | J31: =IF(OR(C31="",G31=""),"",N(F31)*N(G31)) | K31: =IF(M31="","",N(IFERROR(INDEX('Item Master'!$E$6:$E$105,MATCH(C31,'Item Master'!$A$6:$A$105,0)),0))+SUMIFS($F$7:$F$506,$C$7:$C$506,C31,$E$7:$E$506,"In",$M$7:$M$506,"<="&M31)-SUMIFS($F$7:$F$506,$C$7:$C$506,C31,$E$7:$E$506,"Out",$M$7:$M$506,"<="&M31)) | L31: =IF(AND(B31="",C31="",F31=""),"",IF(C31="","⚠ Pick item",IF(D31="?","⚠ Code not in Item Master",IF(B31="","⚠ Enter date",IF(OR(E31="",N(F31)<=0),"⚠ Type / quantity missing",IF(AND(E31="In",G31=""),"⚠ Enter purchase rate",IF(OR(B31<Setup!$C$6,B31>Setup!$C$7),"Outside period",IF(K31<0,"⚠ Stock goes negative","✔ OK")))))))) | M31: =IF(OR(C31="",B31=""),"",B31+ROW()/1000000) | N31: =IF(AND(E31="In",M31<>""),SUMIFS($F$7:$F$506,$C$7:$C$506,C31,$E$7:$E$506,"In",$M$7:$M$506,">"&M31),"") | O31: =IF(N31="","",IFERROR(INDEX('Item Master'!$K$6:$K$105,MATCH(C31,'Item Master'!$A$6:$A$105,0)),0)) | P31: =IF(N31="",0,MAX(0,MIN(N(F31),O31-N31))*N(G31)) -> 0 | Q31: =IF(AND(C31<>"",C31='Stock Ledger'!$C$4),M31,"")
A32: =IF(C32="","",ROW()-6) | D32: =IF(C32="","",IFERROR(INDEX('Item Master'!$B$6:$B$105,MATCH(C32,'Item Master'!$A$6:$A$105,0)),"?")) | J32: =IF(OR(C32="",G32=""),"",N(F32)*N(G32)) | K32: =IF(M32="","",N(IFERROR(INDEX('Item Master'!$E$6:$E$105,MATCH(C32,'Item Master'!$A$6:$A$105,0)),0))+SUMIFS($F$7:$F$506,$C$7:$C$506,C32,$E$7:$E$506,"In",$M$7:$M$506,"<="&M32)-SUMIFS($F$7:$F$506,$C$7:$C$506,C32,$E$7:$E$506,"Out",$M$7:$M$506,"<="&M32)) | L32: =IF(AND(B32="",C32="",F32=""),"",IF(C32="","⚠ Pick item",IF(D32="?","⚠ Code not in Item Master",IF(B32="","⚠ Enter date",IF(OR(E32="",N(F32)<=0),"⚠ Type / quantity missing",IF(AND(E32="In",G32=""),"⚠ Enter purchase rate",IF(OR(B32<Setup!$C$6,B32>Setup!$C$7),"Outside period",IF(K32<0,"⚠ Stock goes negative","✔ OK")))))))) | M32: =IF(OR(C32="",B32=""),"",B32+ROW()/1000000) | N32: =IF(AND(E32="In",M32<>""),SUMIFS($F$7:$F$506,$C$7:$C$506,C32,$E$7:$E$506,"In",$M$7:$M$506,">"&M32),"") | O32: =IF(N32="","",IFERROR(INDEX('Item Master'!$K$6:$K$105,MATCH(C32,'Item Master'!$A$6:$A$105,0)),0)) | P32: =IF(N32="",0,MAX(0,MIN(N(F32),O32-N32))*N(G32)) -> 0 | Q32: =IF(AND(C32<>"",C32='Stock Ledger'!$C$4),M32,"")
A33: =IF(C33="","",ROW()-6) | D33: =IF(C33="","",IFERROR(INDEX('Item Master'!$B$6:$B$105,MATCH(C33,'Item Master'!$A$6:$A$105,0)),"?")) | J33: =IF(OR(C33="",G33=""),"",N(F33)*N(G33)) | K33: =IF(M33="","",N(IFERROR(INDEX('Item Master'!$E$6:$E$105,MATCH(C33,'Item Master'!$A$6:$A$105,0)),0))+SUMIFS($F$7:$F$506,$C$7:$C$506,C33,$E$7:$E$506,"In",$M$7:$M$506,"<="&M33)-SUMIFS($F$7:$F$506,$C$7:$C$506,C33,$E$7:$E$506,"Out",$M$7:$M$506,"<="&M33)) | L33: =IF(AND(B33="",C33="",F33=""),"",IF(C33="","⚠ Pick item",IF(D33="?","⚠ Code not in Item Master",IF(B33="","⚠ Enter date",IF(OR(E33="",N(F33)<=0),"⚠ Type / quantity missing",IF(AND(E33="In",G33=""),"⚠ Enter purchase rate",IF(OR(B33<Setup!$C$6,B33>Setup!$C$7),"Outside period",IF(K33<0,"⚠ Stock goes negative","✔ OK")))))))) | M33: =IF(OR(C33="",B33=""),"",B33+ROW()/1000000) | N33: =IF(AND(E33="In",M33<>""),SUMIFS($F$7:$F$506,$C$7:$C$506,C33,$E$7:$E$506,"In",$M$7:$M$506,">"&M33),"") | O33: =IF(N33="","",IFERROR(INDEX('Item Master'!$K$6:$K$105,MATCH(C33,'Item Master'!$A$6:$A$105,0)),0)) | P33: =IF(N33="",0,MAX(0,MIN(N(F33),O33-N33))*N(G33)) -> 0 | Q33: =IF(AND(C33<>"",C33='Stock Ledger'!$C$4),M33,"")
A34: =IF(C34="","",ROW()-6) | D34: =IF(C34="","",IFERROR(INDEX('Item Master'!$B$6:$B$105,MATCH(C34,'Item Master'!$A$6:$A$105,0)),"?")) | J34: =IF(OR(C34="",G34=""),"",N(F34)*N(G34)) | K34: =IF(M34="","",N(IFERROR(INDEX('Item Master'!$E$6:$E$105,MATCH(C34,'Item Master'!$A$6:$A$105,0)),0))+SUMIFS($F$7:$F$506,$C$7:$C$506,C34,$E$7:$E$506,"In",$M$7:$M$506,"<="&M34)-SUMIFS($F$7:$F$506,$C$7:$C$506,C34,$E$7:$E$506,"Out",$M$7:$M$506,"<="&M34)) | L34: =IF(AND(B34="",C34="",F34=""),"",IF(C34="","⚠ Pick item",IF(D34="?","⚠ Code not in Item Master",IF(B34="","⚠ Enter date",IF(OR(E34="",N(F34)<=0),"⚠ Type / quantity missing",IF(AND(E34="In",G34=""),"⚠ Enter purchase rate",IF(OR(B34<Setup!$C$6,B34>Setup!$C$7),"Outside period",IF(K34<0,"⚠ Stock goes negative","✔ OK")))))))) | M34: =IF(OR(C34="",B34=""),"",B34+ROW()/1000000) | N34: =IF(AND(E34="In",M34<>""),SUMIFS($F$7:$F$506,$C$7:$C$506,C34,$E$7:$E$506,"In",$M$7:$M$506,">"&M34),"") | O34: =IF(N34="","",IFERROR(INDEX('Item Master'!$K$6:$K$105,MATCH(C34,'Item Master'!$A$6:$A$105,0)),0)) | P34: =IF(N34="",0,MAX(0,MIN(N(F34),O34-N34))*N(G34)) -> 0 | Q34: =IF(AND(C34<>"",C34='Stock Ledger'!$C$4),M34,"")
A35: =IF(C35="","",ROW()-6) | D35: =IF(C35="","",IFERROR(INDEX('Item Master'!$B$6:$B$105,MATCH(C35,'Item Master'!$A$6:$A$105,0)),"?")) | J35: =IF(OR(C35="",G35=""),"",N(F35)*N(G35)) | K35: =IF(M35="","",N(IFERROR(INDEX('Item Master'!$E$6:$E$105,MATCH(C35,'Item Master'!$A$6:$A$105,0)),0))+SUMIFS($F$7:$F$506,$C$7:$C$506,C35,$E$7:$E$506,"In",$M$7:$M$506,"<="&M35)-SUMIFS($F$7:$F$506,$C$7:$C$506,C35,$E$7:$E$506,"Out",$M$7:$M$506,"<="&M35)) | L35: =IF(AND(B35="",C35="",F35=""),"",IF(C35="","⚠ Pick item",IF(D35="?","⚠ Code not in Item Master",IF(B35="","⚠ Enter date",IF(OR(E35="",N(F35)<=0),"⚠ Type / quantity missing",IF(AND(E35="In",G35=""),"⚠ Enter purchase rate",IF(OR(B35<Setup!$C$6,B35>Setup!$C$7),"Outside period",IF(K35<0,"⚠ Stock goes negative","✔ OK")))))))) | M35: =IF(OR(C35="",B35=""),"",B35+ROW()/1000000) | N35: =IF(AND(E35="In",M35<>""),SUMIFS($F$7:$F$506,$C$7:$C$506,C35,$E$7:$E$506,"In",$M$7:$M$506,">"&M35),"") | O35: =IF(N35="","",IFERROR(INDEX('Item Master'!$K$6:$K$105,MATCH(C35,'Item Master'!$A$6:$A$105,0)),0)) | P35: =IF(N35="",0,MAX(0,MIN(N(F35),O35-N35))*N(G35)) -> 0 | Q35: =IF(AND(C35<>"",C35='Stock Ledger'!$C$4),M35,"")
A36: =IF(C36="","",ROW()-6) | D36: =IF(C36="","",IFERROR(INDEX('Item Master'!$B$6:$B$105,MATCH(C36,'Item Master'!$A$6:$A$105,0)),"?")) | J36: =IF(OR(C36="",G36=""),"",N(F36)*N(G36)) | K36: =IF(M36="","",N(IFERROR(INDEX('Item Master'!$E$6:$E$105,MATCH(C36,'Item Master'!$A$6:$A$105,0)),0))+SUMIFS($F$7:$F$506,$C$7:$C$506,C36,$E$7:$E$506,"In",$M$7:$M$506,"<="&M36)-SUMIFS($F$7:$F$506,$C$7:$C$506,C36,$E$7:$E$506,"Out",$M$7:$M$506,"<="&M36)) | L36: =IF(AND(B36="",C36="",F36=""),"",IF(C36="","⚠ Pick item",IF(D36="?","⚠ Code not in Item Master",IF(B36="","⚠ Enter date",IF(OR(E36="",N(F36)<=0),"⚠ Type / quantity missing",IF(AND(E36="In",G36=""),"⚠ Enter purchase rate",IF(OR(B36<Setup!$C$6,B36>Setup!$C$7),"Outside period",IF(K36<0,"⚠ Stock goes negative","✔ OK")))))))) | M36: =IF(OR(C36="",B36=""),"",B36+ROW()/1000000) | N36: =IF(AND(E36="In",M36<>""),SUMIFS($F$7:$F$506,$C$7:$C$506,C36,$E$7:$E$506,"In",$M$7:$M$506,">"&M36),"") | O36: =IF(N36="","",IFERROR(INDEX('Item Master'!$K$6:$K$105,MATCH(C36,'Item Master'!$A$6:$A$105,0)),0)) | P36: =IF(N36="",0,MAX(0,MIN(N(F36),O36-N36))*N(G36)) -> 0 | Q36: =IF(AND(C36<>"",C36='Stock Ledger'!$C$4),M36,"")
A37: =IF(C37="","",ROW()-6) | D37: =IF(C37="","",IFERROR(INDEX('Item Master'!$B$6:$B$105,MATCH(C37,'Item Master'!$A$6:$A$105,0)),"?")) | J37: =IF(OR(C37="",G37=""),"",N(F37)*N(G37)) | K37: =IF(M37="","",N(IFERROR(INDEX('Item Master'!$E$6:$E$105,MATCH(C37,'Item Master'!$A$6:$A$105,0)),0))+SUMIFS($F$7:$F$506,$C$7:$C$506,C37,$E$7:$E$506,"In",$M$7:$M$506,"<="&M37)-SUMIFS($F$7:$F$506,$C$7:$C$506,C37,$E$7:$E$506,"Out",$M$7:$M$506,"<="&M37)) | L37: =IF(AND(B37="",C37="",F37=""),"",IF(C37="","⚠ Pick item",IF(D37="?","⚠ Code not in Item Master",IF(B37="","⚠ Enter date",IF(OR(E37="",N(F37)<=0),"⚠ Type / quantity missing",IF(AND(E37="In",G37=""),"⚠ Enter purchase rate",IF(OR(B37<Setup!$C$6,B37>Setup!$C$7),"Outside period",IF(K37<0,"⚠ Stock goes negative","✔ OK")))))))) | M37: =IF(OR(C37="",B37=""),"",B37+ROW()/1000000) | N37: =IF(AND(E37="In",M37<>""),SUMIFS($F$7:$F$506,$C$7:$C$506,C37,$E$7:$E$506,"In",$M$7:$M$506,">"&M37),"") | O37: =IF(N37="","",IFERROR(INDEX('Item Master'!$K$6:$K$105,MATCH(C37,'Item Master'!$A$6:$A$105,0)),0)) | P37: =IF(N37="",0,MAX(0,MIN(N(F37),O37-N37))*N(G37)) -> 0 | Q37: =IF(AND(C37<>"",C37='Stock Ledger'!$C$4),M37,"")
A38: =IF(C38="","",ROW()-6) | D38: =IF(C38="","",IFERROR(INDEX('Item Master'!$B$6:$B$105,MATCH(C38,'Item Master'!$A$6:$A$105,0)),"?")) | J38: =IF(OR(C38="",G38=""),"",N(F38)*N(G38)) | K38: =IF(M38="","",N(IFERROR(INDEX('Item Master'!$E$6:$E$105,MATCH(C38,'Item Master'!$A$6:$A$105,0)),0))+SUMIFS($F$7:$F$506,$C$7:$C$506,C38,$E$7:$E$506,"In",$M$7:$M$506,"<="&M38)-SUMIFS($F$7:$F$506,$C$7:$C$506,C38,$E$7:$E$506,"Out",$M$7:$M$506,"<="&M38)) | L38: =IF(AND(B38="",C38="",F38=""),"",IF(C38="","⚠ Pick item",IF(D38="?","⚠ Code not in Item Master",IF(B38="","⚠ Enter date",IF(OR(E38="",N(F38)<=0),"⚠ Type / quantity missing",IF(AND(E38="In",G38=""),"⚠ Enter purchase rate",IF(OR(B38<Setup!$C$6,B38>Setup!$C$7),"Outside period",IF(K38<0,"⚠ Stock goes negative","✔ OK")))))))) | M38: =IF(OR(C38="",B38=""),"",B38+ROW()/1000000) | N38: =IF(AND(E38="In",M38<>""),SUMIFS($F$7:$F$506,$C$7:$C$506,C38,$E$7:$E$506,"In",$M$7:$M$506,">"&M38),"") | O38: =IF(N38="","",IFERROR(INDEX('Item Master'!$K$6:$K$105,MATCH(C38,'Item Master'!$A$6:$A$105,0)),0)) | P38: =IF(N38="",0,MAX(0,MIN(N(F38),O38-N38))*N(G38)) -> 0 | Q38: =IF(AND(C38<>"",C38='Stock Ledger'!$C$4),M38,"")
A39: =IF(C39="","",ROW()-6) | D39: =IF(C39="","",IFERROR(INDEX('Item Master'!$B$6:$B$105,MATCH(C39,'Item Master'!$A$6:$A$105,0)),"?")) | J39: =IF(OR(C39="",G39=""),"",N(F39)*N(G39)) | K39: =IF(M39="","",N(IFERROR(INDEX('Item Master'!$E$6:$E$105,MATCH(C39,'Item Master'!$A$6:$A$105,0)),0))+SUMIFS($F$7:$F$506,$C$7:$C$506,C39,$E$7:$E$506,"In",$M$7:$M$506,"<="&M39)-SUMIFS($F$7:$F$506,$C$7:$C$506,C39,$E$7:$E$506,"Out",$M$7:$M$506,"<="&M39)) | L39: =IF(AND(B39="",C39="",F39=""),"",IF(C39="","⚠ Pick item",IF(D39="?","⚠ Code not in Item Master",IF(B39="","⚠ Enter date",IF(OR(E39="",N(F39)<=0),"⚠ Type / quantity missing",IF(AND(E39="In",G39=""),"⚠ Enter purchase rate",IF(OR(B39<Setup!$C$6,B39>Setup!$C$7),"Outside period",IF(K39<0,"⚠ Stock goes negative","✔ OK")))))))) | M39: =IF(OR(C39="",B39=""),"",B39+ROW()/1000000) | N39: =IF(AND(E39="In",M39<>""),SUMIFS($F$7:$F$506,$C$7:$C$506,C39,$E$7:$E$506,"In",$M$7:$M$506,">"&M39),"") | O39: =IF(N39="","",IFERROR(INDEX('Item Master'!$K$6:$K$105,MATCH(C39,'Item Master'!$A$6:$A$105,0)),0)) | P39: =IF(N39="",0,MAX(0,MIN(N(F39),O39-N39))*N(G39)) -> 0 | Q39: =IF(AND(C39<>"",C39='Stock Ledger'!$C$4),M39,"")
... A506: =IF(C506="","",ROW()-6) | D506: =IF(C506="","",IFERROR(INDEX('Item Master'!$B$6:$B$105,MATCH(C506,'Item Master'!$A$6:$A$105,0)),"?")) | J506: =IF(OR(C506="",G506=""),"",N(F506)*N(G506)) | K506: =IF(M506="","",N(IFERROR(INDEX('Item Master'!$E$6:$E$105,MATCH(C506,'Item Master'!$A$6:$A$105,0)),0))+SUMIFS($F$7:$F$506,$C$7:$C$506,C506,$E$7:$E$506,"In",$M$7:$M$506,"<="&M506)-SUMIFS($F$7:$F$506,$C$7:$C$506,C506,$E$7:$E$506,"Out",$M$7:$M$506,"<="&M506)) | L506: =IF(AND(B506="",C506="",F506=""),"",IF(C506="","⚠ Pick item",IF(D506="?","⚠ Code not in Item Master",IF(B506="","⚠ Enter date",IF(OR(E506="",N(F506)<=0),"⚠ Type / quantity missing",IF(AND(E506="In",G506=""),"⚠ Enter purchase rate",IF(OR(B506<Setup!$C$6,B506>Setup!$C$7),"Outside period",IF(K506<0,"⚠ Stock goes negative","✔ OK")))))))) | M506: =IF(OR(C506="",B506=""),"",B506+ROW()/1000000) | N506: =IF(AND(E506="In",M506<>""),SUMIFS($F$7:$F$506,$C$7:$C$506,C506,$E$7:$E$506,"In",$M$7:$M$506,">"&M506),"") | O506: =IF(N506="","",IFERROR(INDEX('Item Master'!$K$6:$K$105,MATCH(C506,'Item Master'!$A$6:$A$105,0)),0)) | P506: =IF(N506="",0,MAX(0,MIN(N(F506),O506-N506))*N(G506)) -> 0 | Q506: =IF(AND(C506<>"",C506='Stock Ledger'!$C$4),M506,"")

Sheet Valuation
A1: ◄ BACK TO DASHBOARD
A2: ="Closing Stock Valuation – FIFO vs Weighted Average – "&Setup!$C$4&" – as on "&TEXT(Setup!$C$7,"dd mmm yyyy") -> Closing Stock Valuation – FIFO vs Weighted Average – M/s Xplore Electricals – as on 31 Oct 2026
A3: Everything here is calculated. FIFO: closing stock is valued at the latest purchase rates. Weighted Average: (opening value + purchases) ÷ (opening qty + purchased qty).
C4: OPENING | E4: PURCHASES (IN) | G4: SALES (OUT) | J4: CLOSING STOCK VALUE | M4: COST OF GOODS SOLD | O4: GROSS PROFIT
A5: Code | B5: Item name | C5: Qty | D5: Value (₹) | E5: Qty | F5: Value (₹) | G5: Qty | H5: Sales value (₹) | I5: Closing qty | J5: FIFO (₹) | K5: Wtd. avg rate (₹) | L5: Wtd. avg (₹) | M5: FIFO (₹) | N5: Wtd. avg (₹) | O5: FIFO (₹) | P5: Wtd. avg (₹)
A6: =IF('Item Master'!A6="","",'Item Master'!A6) -> E01 | B6: =IF(A6="","",'Item Master'!B6) -> LED Bulb 9W | C6: =IF(A6="","",N('Item Master'!E6)) -> 200 | D6: =IF(A6="","",N('Item Master'!H6)) -> 11000 | E6: =IF(A6="","",'Item Master'!I6) -> 500 | F6: =IF(A6="","",SUMIFS('Stock Register'!$J$7:$J$506,'Stock Register'!$C$7:$C$506,A6,'Stock Register'!$E$7:$E$506,"In")) -> 29400 | G6: =IF(A6="","",'Item Master'!J6) -> 550 | H6: =IF(A6="","",SUMIFS('Stock Register'!$J$7:$J$506,'Stock Register'!$C$7:$C$506,A6,'Stock Register'!$E$7:$E$506,"Out")) -> 46750 | I6: =IF(A6="","",'Item Master'!K6) -> 150 | J6: =IF(A6="","",ROUND(MAX(0,MIN(C6,I6-E6))*N('Item Master'!F6)+SUMIFS('Stock Register'!$P$7:$P$506,'Stock Register'!$C$7:$C$506,A6),0)) -> 9000 | K6: =IF(A6="","",IFERROR((D6+F6)/(C6+E6),0)) -> 57.714286 | L6: =IF(A6="","",ROUND(MAX(0,I6)*K6,0)) -> 8657 | M6: =IF(A6="","",D6+F6-J6) -> 31400 | N6: =IF(A6="","",D6+F6-L6) -> 31743 | O6: =IF(A6="","",H6-M6) -> 15350 | P6: =IF(A6="","",H6-N6) -> 15007 | Q6: =IF(AND(A6<>"",N(J6)>0),COUNTIF($J$6:J6,">0"),"") -> 1
A7: =IF('Item Master'!A7="","",'Item Master'!A7) -> E02 | B7: =IF(A7="","",'Item Master'!B7) -> Ceiling Fan 1200 mm | C7: =IF(A7="","",N('Item Master'!E7)) -> 20 | D7: =IF(A7="","",N('Item Master'!H7)) -> 29000 | E7: =IF(A7="","",'Item Master'!I7) -> 15 | F7: =IF(A7="","",SUMIFS('Stock Register'!$J$7:$J$506,'Stock Register'!$C$7:$C$506,A7,'Stock Register'!$E$7:$E$506,"In")) -> 22500 | G7: =IF(A7="","",'Item Master'!J7) -> 26 | H7: =IF(A7="","",SUMIFS('Stock Register'!$J$7:$J$506,'Stock Register'!$C$7:$C$506,A7,'Stock Register'!$E$7:$E$506,"Out")) -> 50700 | I7: =IF(A7="","",'Item Master'!K7) -> 9 | J7: =IF(A7="","",ROUND(MAX(0,MIN(C7,I7-E7))*N('Item Master'!F7)+SUMIFS('Stock Register'!$P$7:$P$506,'Stock Register'!$C$7:$C$506,A7),0)) -> 13500 | K7: =IF(A7="","",IFERROR((D7+F7)/(C7+E7),0)) -> 1471.4286 | L7: =IF(A7="","",ROUND(MAX(0,I7)*K7,0)) -> 13243 | M7: =IF(A7="","",D7+F7-J7) -> 38000 | N7: =IF(A7="","",D7+F7-L7) -> 38257 | O7: =IF(A7="","",H7-M7) -> 12700 | P7: =IF(A7="","",H7-N7) -> 12443 | Q7: =IF(AND(A7<>"",N(J7)>0),COUNTIF($J$6:J7,">0"),"") -> 2
